Workbook

Sheet CONSOLIDADO
A1: Empresa | B1: Rubro | C1: Descripción | D1: LINEA DEL PLAN | E1: P.Definitivo | F1: Compromisos
A2: FRISCO | B2: A-1-0-2-12-01 | C2: HONORARIOS ASESORIA ADMINISTRATIVA EXTINTO | D2: LP-01 IDENTIFICADORES DE PREDIOS FRISCO | E2: 136048269 | F2: 136048269
A3: FRISCO | B3: A-8-3-9-10-01 | C3: HONORARIOS VARIOS INCAUTADO | D3: LP-01 IDENTIFICADORES DE PREDIOS FRISCO | E3: 5951731 | F3: 5951731
A4: SAE | B4: A-1-0-2-12-03 | C4: HONORARIOS AVALUOS | D4: LP-01 PAZ AVALUO DE BIENES | E4: 409799870 | F4: 16350680
A5: FRISCO | B5: A-1-0-2-12-01 | C5: HONORARIOS ASESORIA ADMINISTRATIVA EXTINTO | D5: LP-01 ASESORIA FINANCIERA DE VENTA MASIVA Y MODELO DE | E5: 24412348 | F5: 24412348
A6: FRISCO | B6: A-8-3-9-10-01 | C6: HONORARIOS VARIOS INCAUTADO | D6: LP-01 ASESORIA FINANCIERA DE VENTA MASIVA Y MODELO DE | E6: 204587652 | F6: 203987652
A7: SAE | B7: A-1-0-2-12-01 | C7: HONORARIOS ASESORIA ADMINISTRATIVA | D7: LP-01 ASESORÍA, ACTUALIZACIÓN Y MANTENIMIENTO DE BIOMETRICOS | E7: 24445900 | F7: 18000000
A8: FRISCO | B8: A-8-3-9-10-03 | C8: HONORARIOS AVALUOS INCAUTADO | D8: LP-01 AVALÚOS COMERCIALES DE SOCIEDADES EN PROCESO QUE NO CUENTEN CON INGRESOS | E8: 0 | F8: 0
A9: SAE | B9: A-1-0-2-12-02 | C9: HONORARIOS ASESORIAS JURIDICAS | D9: LP-01 CONSULTOR LABORAL | E9: 62602088 | F9: 34680248
A10: FRISCO | B10: A-8-3-9-10-01 | C10: HONORARIOS VARIOS INCAUTADO | D10: LP-01 CONTRATAR LA ASESORIA PARA LA UBICACION Y/O INACTIVACION DE BIENES MUEBLES, REALIZACIÓN INTEGRAL DE TRÁMITES Y OTROS | E10: =157800000-14591129 -> 143208871 | F10: 140629999
A11: FRISCO | B11: A-8-3-9-10-03 | C11: HONORARIOS AVALUOS INCAUTADO | D11: LP-01 CONTRATAR LA PRESTACIÓN DE SERVICIOS DE AVALÚO TÉCNICO COMERCIAL DE BIENES MUEBLES | E11: 0 | F11: 0
A12: FRISCO | B12: A-8-3-9-10-02 | C12: HONORARIOS JURIDICOS INCAUTADO | D12: LP-01 DEFENSA JUDICIAL, CARTERA, VIGILANCIA JUDICIAL, PERITOS ESPECIALES, PROCESOS ESPECIALES, ENTRE OTROS | E12: 2596282333 | F12: 1954957148
A13: FRISCO | B13: A-1-0-2-12-02 | C13: HONORARIOS ASESORIAS JURIDICAS EXTINTO | D13: LP-01 DEFENSA JUDICIAL, CARTERA, VIGILANCIA JUDICIAL, PERITOS ESPECIALES, PROCESOS ESPECIALES, ENTRE OTROS | E13: 279608158 | F13: 235423149
A14: FRISCO | B14: A-8-3-9-10-01 | C14: HONORARIOS VARIOS INCAUTADO | D14: LP-01 ESTIMADOS DE RENTA MASIVOS POR ECONOMETRIA E INTELIGENICA ARTIFICIAL | E14: 48790000 | F14: 45220000
A15: FRISCO | B15: A-8-3-9-10-01 | C15: HONORARIOS VARIOS INCAUTADO | D15: LP-01 ESTUDIO DE MERCADO Y APOYO COMERCIALIZACIÓN | E15: 306960634 | F15: 306960634
A16: SAE | B16: A-1-0-2-12-01 | C16: HONORARIOS ASESORIA ADMINISTRATIVA | D16: LP-01 ESTUDIO DE SEGURIDAD A LOS ASPIRANTES A CONFORMAR EL BANCO DE HOJAS DE VIDA, APLICACIÓN DE PRUEBAS PSICOTÉCNICAS Y DE COMPETENCIAS Y SERVICIOS DE ASESORÍA. | E16: 235796592 | F16: 226877699
A17: FRISCO | B17: A-1-0-2-12-01 | C17: HONORARIOS ASESORIA ADMINISTRATIVA EXTINTO | D17: LP-01 ESTUDIOS DE SEGURIDAD PARA DEPOSITARIOS PROVISIONALES Y LIQUIDADORES. | E17: 29800000 | F17: 27383007
A18: FRISCO | B18: A-1-0-2-12-01 | C18: HONORARIOS ASESORIA ADMINISTRATIVA EXTINTO | D18: LP-01 GASTOS HONORARIOS ASESORIAS EXTINTAS | E18: 20305724 | F18: 20305724
A19: FRISCO | B19: A-8-3-9-10-01 | C19: HONORARIOS VARIOS INCAUTADO | D19: LP-01 GASTOS HONORARIOS ASESORIAS Y ESTUDIOS ESPECIALIZADOS DE INSPECCION Y VIGILANCIA (HONORARIOS AUDITORIAS) | E19: 495002075 | F19: 495000571
A20: FRISCO | B20: A-8-3-9-10-02 | C20: HONORARIOS JURIDICOS INCAUTADO | D20: LP-01 GASTOS HONORARIOS JURIDICOS EN PROCESO | E20: 124625000 | F20: 124625000
A21: FRISCO | B21: A-1-0-2-12-01 | C21: HONORARIOS ASESORIA ADMINISTRATIVA EXTINTO | D21: LP-01 GASTOS HONORARIOS JURIDICOS EXTINTOS | E21: 44582997 | F21: 44582997
A22: FRISCO | B22: A-8-3-9-10-02 | C22: HONORARIOS JURIDICOS INCAUTADO | D22: LP-01 HONORARIOS PIEZAS PROCESALES | E22: 0 | F22: 0
... A42: FRISCO | B42: A-8-3-9-10-01 | C42: HONORARIOS VARIOS INCAUTADO | D42: LP-01 SERVICIOS DE DESTRUCCIÓN | E42: 8089828 | F42: 8089828
A43: FRISCO | B43: A-8-3-9-10-01 | C43: HONORARIOS VARIOS INCAUTADO | D43: LP-01 VISITAS DE VALIDACIÓN DE INVENTARIO INMUEBLES IMPRODUCTIVOS Y/O OCUPADOS IRREGULARMENTE | E43: 0 | F43: 0 | G43: =SUM(E2:E43) -> 11971441256
A44: FRISCO | B44: A-2-0-4-42-01 | C44: COMISIONES CARTERA, INMUEBLES, MUEBLES, MARTILLO Y OTROS EXTINTO | D44: LP-02 COMISIONES CARTERA, INMUEBLES, MUEBLES, MARTILLO Y OTROS | E44: 1427268362 | F44: 1427268361 | G44: =SUM(E44:E53) -> 12095495393
A45: FRISCO | B45: A-8-3-9-05-02 | C45: COMISIONES CARTERA, INMUEBLES, MUEBLES, MARTILLO Y OTROS INCAUTADO | D45: LP-02 COMISIONES CARTERA, INMUEBLES, MUEBLES, MARTILLO Y OTROS | E45: 4659887568 | F45: 4464683616
A46: FRISCO | B46: A-8-3-9-05-02 | C46: COMISIONES CARTERA, INMUEBLES, MUEBLES, MARTILLO Y OTROS INCAUTADO | D46: LP-02 INTERMEDIACION COMERCIAL DE BIENES MUEBLES | E46: 0 | F46: 0
A47: FRISCO | B47: A-2-0-4-17-01 | C47: GASTOS IMPREVISTOS EXTINTO | D47: LP-02 INTERMEDIACION COMERCIAL DE BIENES MUEBLES | E47: 185879667 | F47: 185879667
A48: FRISCO | B48: A-2-0-4-41-13 | C48: OTROS GASTOS POR ADQUISICION DE SERVICIOS EXTINTO | D48: LP-02 INTERMEDIACION COMERCIAL DE BIENES MUEBLES | E48: 46300944 | F48: 46300944
A49: FRISCO | B49: A-2-0-4-42-01 | C49: COMISIONES CARTERA, INMUEBLES, MUEBLES, MARTILLO Y OTROS EXTINTO | D49: LP-02 INTERMEDIACION COMERCIAL DE BIENES MUEBLES | E49: 0 | F49: 0
A50: FRISCO | B50: A-8-3-9-08-01 | C50: OTROS GASTOS POR ADQUISICIÓN DE SERVICIOS INCAUTADO | D50: LP-02 INTERMEDIACION COMERCIAL DE BIENES MUEBLES | E50: 10289099 | F50: 10289099
A51: FRISCO | B51: A-8-3-9-15-01 | C51: GASTOS IMPREVISTOS INCAUTADO | D51: LP-02 INTERMEDIACION COMERCIAL DE BIENES MUEBLES | E51: 41306593 | F51: 41306593
A52: SAE | B52: A-2-0-4-17-01 | C52: GASTOS IMPREVISTOS | D52: LP-02 PAZ GASTOS COMERCIALIZACIÓN DE BIENES | E52: 4275232358 | F52: 4275232358
A53: SAE | B53: A-2-0-4-41-13 | C53: OTROS GASTOS POR ADQUISICION DE SERVICIOS | D53: LP-02 PAZ GASTOS COMERCIALIZACIÓN DE BIENES | E53: 1449330802 | F53: 1064921716
A54: FRISCO | B54: A-8-3-9-13-01 | C54: OTROS GASTOS POR IMPRESOS Y PUBLICACIONES INCAUTADO | D54: LP-03 IMPRESIÓN DE AVISOS Y PUBLICACIONES EN DIARIOS DE AMPLIA CIRCULACIÓN A NIVEL PAÍS, RUEDAS DE NEGOCIOS PARA COMERCIALIZACIÓN DE INMUEBLES SOCIALES. EN PROCESO | E54: 0 | F54: 0 | G54: =SUM(E54:E58) -> 395935732
A55: SAE | B55: A-2-0-4-07-06 | C55: OTROS GASTOS POR IMPRESOS Y PUBLICACIONES | D55: LP-03 IMPRESOS | E55: 50000000 | F55: 50000000
A56: FRISCO | B56: A-2-0-4-07-06 | C56: OTROS GASTOS POR IMPRESOS Y PUBLICACIONES EXTINTO | D56: LP-03 PUBLICACIONES DE LEY EXTINTOS | E56: 156450000 | F56: 156450000
A57: FRISCO | B57: A-2-0-4-07-06 | C57: OTROS GASTOS POR IMPRESOS Y PUBLICACIONES EXTINTO | D57: LP-03 PUBLICACIONES PERIODICOS LOCALES Y REGIONALES, ACTIVIDADES PROMOCION DE INMUEBLES FERIAS, BRIGADAS Y OTROS. | E57: 0 | F57: 0
A58: FRISCO | B58: A-8-3-9-13-01 | C58: OTROS GASTOS POR IMPRESOS Y PUBLICACIONES INCAUTADO | D58: LP-03 PUBLICACIONES PERIODICOS LOCALES Y REGIONALES, ACTIVIDADES PROMOCION DE INMUEBLES FERIAS, BRIGADAS Y OTROS. | E58: 189485732 | F58: 189485732
A59: FRISCO | B59: A-8-3-9-07-03 | C59: MANTENIMIENTO DE BIENES INMUEBLES CONSERJERIA INCAUTADO | D59: LP-04 CONTRATOS DE CONSERJERIA DE BIENES INMUEBLES EN PROCESO | E59: 114100000 | F59: 0 | G59: =SUM(E59:E60) -> 163000000
...

Sheet Ultima V
A1: LINEA | B1: DESCRIPCIÓN | C1: VALOR INICIAL LINEAS DEL PAA | D1: VALOR CON MODIFICACIONES | E1: VALOR PRESUPUESTO | F1: DIFERENCIAS | G1: ACTAS | H1: FECHA | I1: OBSERVACION
A2: 1 | B2: HONORARIOS VARIOS, ADMINISTRATIVOS, JURIDICOS, AVALUOS, ENTRE OTROS | C2: 12053807215 | D2: =+C2+433000000-641774366+195587652+3051995958+126268000-530000000-129371233-100000000-500000000-94055716-128994463-939425313-279931002-130000000-297665476-130000000+12000000 -> 11971441256 | E2: =+CONSOLIDADO!G43 -> 11971441256 | F2: =+E2-D2 -> 0 | G2: 17,23,28,28,29,30,33,34,38,40,41,43,44,45,49,49,49,52 | H2: 01/07/2020 13/08/2020 10/09/2020 10/09/2020 14/09/2020 22/09/2020 02/10/2020 06/10/2020 21/10/2020 26/10/2020 30/10/2020 06/11/2020 10/11/2020 17/11/2020 04/12/2020 04/12/2020 04/12/2020 28/12/2020
A3: 2 | B3: COMISIONES CARTERA, INMUEBLES, MUEBLES, MARTILLO Y OTROS GASTOS COMERCIALIZACIÒN | C3: 7821714231 | D3: =+C3-2625971431+1000000000+5340154073+283776303-90000000+102152166+263670051 -> 12095495393 | E3: =+CONSOLIDADO!G44 -> 12095495393 | F3: =+E3-D3 -> 0 | G3: 28,30,32,33,34,34,44,51,51,52 | H3: 10/09/2020 22/09/2020 01/10/2020 02/10/2020 06/10/2020 06/10/2020 10/11/2020 22/12/2020 22/12/2020 28/12/2020
A4: 3 | B4: PUBLICACIONES, IMPRESIÓN, ACTIVIDADES PROMOCION Y OTROS | C4: 1102337604 | D4: =+C4-151000000-439000000+36450000-120000000-32851872 -> 395935732 | E4: =+CONSOLIDADO!G54 -> 395935732 | F4: =+E4-D4 -> 0 | G4: 20,23,29-31,36,44 | H4: 31/07/2020 13/08/2020 14/09/2020 24/09/2020 15/10/2020 10/11/2020
A5: 4 | B5: CONTRATOS DE CONSERJERIA DE BIENES | C5: 1080000000 | D5: =+C5-917000000 -> 163000000 | E5: =+CONSOLIDADO!G59 -> 163000000 | F5: =+E5-D5 -> 0 | G5: 17 | H5: 44013
A6: 5 | B6: DESALOJOS DE BIENES | C6: 6400000000 | D6: =+C6+917000000-5402827-2162728734 -> 5148868439 | E6: =+CONSOLIDADO!G61 -> 5148868439 | F6: =+E6-D6 -> 0 | G6: 17,34,44 | H6: 01/07/2020 06/10/2020 10/11/2020
A7: 6 | B7: SERVICIOS DE INVESTIGACIÓN, GESTIÓN PARA LIQUIDACIÓN Y PAGO DE PASIVOS | C7: 1400000000 | D7: =+C7-350000000-502000000 -> 548000000 | E7: =+CONSOLIDADO!G63 -> 548000000 | F7: =+E7-D7 -> 0 | G7: 28,39 | H7: 10/09/2020 23/10/2020
A8: 7 | B8: ARRENDAMIENTO, ALMACENAMIENTO, BODEGAJE DE BIENES, TRANSPORTE DE MERCANCIAS, EMBALAJE, ACARREOS Y OTROS. | C8: 10681961378 | D8: =+C8+334557666+90000000+260000000+50000000+120000000+164955546-120000000-2736902+290217430+620000000 -> 12488955118 | E8: =+CONSOLIDADO!G65 -> 12488955118 | F8: =+E8-D8 -> 0 | G8: 14,16,17,21,34,36,41,44,45,49 | H8: 10/06/2020 17/06/2020 01/07/2020 05/08/2020 15/10/2020 30/10/2020 10/11/2020 17/11/2020 04/12/2020
A9: 8 | B9: PRESTACIÓN DE LOS SERVICIOS DE TRANSPORTE, OPERACIÓN LOGÍSTICA NECESARIA PARA LA RECEPCIÓN, CUSTODIA, MANUTENCIÓN, CUIDADO, MARCAJE, SOSTENIMIENTO, PESAJE Y GESTIONES DE INTERMEDIACIÓN COMERCIAL, DE LOS SEMOVIENTES QUE LE SEAN ASIGNADOS Y EJERCER LA ADMINISTRACIÓN DE LOS INMUEBLES DONDE SE UBICAN ESTOS | C9: 3611983376 | D9: =+C9-260000000-65158382-1203196481 -> 2083628513 | E9: =+CONSOLIDADO!G70 -> 2083628513 | F9: =+E9-D9 -> 0 | G9: 14,38 | H9: 10/06/2020 21/10/2020
A10: 9 | B10: ENTRE LA SOCIEDAD DE ACTIVOS ESPECIALES S.A.S. - SAE Y EL BANCO DE LA REPUBLICA PARA EL DEPOSITO EN CUSTODIA DE ORO, PLATA, PLATINO O DIVISAS, LA REMISIÓN AL EXTERIOR DE LAS DIVISAS PARA SU ACEPTACIÓN Y AUTENTCACIÓN POR LOS BANCOS EMISORES CORRESPONDIENTES. | C10: 375155772 | D10: =+C10-16655772-154405070-59094930 -> 145000000 | E10: =+CONSOLIDADO!G71 -> 145000000 | F10: =+E10-D10 -> 0 | G10: 33,34,45 | H10: 02/10/2020 06/10/2020 17/11/2020
A11: 10 | B11: SERVICIOS TEMPORALES | C11: 1776000000 | D11: =+C11+682087004+1544611584-126268000-145535487 -> 3730895101 | E11: =+CONSOLIDADO!G72 -> 3730895101 | F11: =+E11-D11 -> 0 | G11: 21,28,29,49 | H11: 05/08/2020 10/09/2020 14/09/2020 04/12/2020
A12: 11 | B12: ADQUISICIÓN Y RENOVACIÓN DE SOFTWARE | C12: 1406286090 | D12: =+C12-275000000-60000000-25061400-20000000+136181246+33089140+250000000 -> 1445495076 | E12: =+CONSOLIDADO!G75 -> 1445495076 | F12: =+E12-D12 -> 0 | G12: 9,20,27,27,44(3) | H12: 04/05/2020 31/07/2020 03/09/2020 03/09/2020 10/11/2020
A13: 12 | B13: SEGURIDAD INDUSTRIAL | C13: 113400000 | D13: =+C13 -> 113400000 | E13: =+CONSOLIDADO!G80 -> 113400000 | F13: =+E13-D13 -> 0
A14: 13 | B14: PLAN DE SANEAMIENTO BÁSICO Y GESTIÓN AMBIENTAL | C14: 51000000 | D14: =+C14-42000000 -> 9000000 | E14: =+CONSOLIDADO!G81 -> 9000000 | F14: =+E14-D14 -> 0 | G14: 28 | H14: 10/09/2020 30/10/2020
A15: 14 | B15: ARRENDAMIENTOS BIENES MUEBLES Y OTROS | C15: 313564535 | D15: =+C15+275000000+84000000+20000000+111302400+27000000+40560000-100000000 -> 771426935 | E15: =+CONSOLIDADO!G83 -> 771426935 | F15: =+E15-D15 -> 0 | G15: 9,19,27,28,34,41,44 | H15: 04/05/2020 13/07/2020 03/09/2020 10/09/2020 06/10/2020 10/11/2020
A16: 15 | B16: SEGUROS | C16: 4619529206 | D16: =+C16+63000000+50000000+100000000+21000000-11699458 -> 4841829748 | E16: =+CONSOLIDADO!G85 -> 4841829748 | F16: =+E16-D16 -> 0 | G16: 3,11,23,28,45 | H16: 14/02/2020 27/05/2020 13/08/2020 10/09/2020 17/11/2020
A17: 16 | B17: VIATICOS Y GASTOS DE VIAJE | C17: 2326501571 | D17: =+C17-541696000-201000000-340000000 -> 1243805571 | E17: =+CONSOLIDADO!G96 -> 1243805571 | F17: =+E17-D17 -> 0 | G17: 43,44,45 | H17: 06/11/2020 10/11/2020 17/11/2020
A18: 17 | B18: ACTIVIDADES DEL PLAN DE BIENESTAR SOCIAL LABORAL | C18: 893713037 | D18: =+C18-207705374-50000000 -> 636007663 | E18: =+CONSOLIDADO!G107 -> 636007663 | F18: =+E18-D18 -> 0 | G18: 28,28,43 | H18: 10/09/2020 10/09/2020 06/11/2020
A19: 18 | B19: ACTIVIDADES DEL PLAN EMPRESARIAL DE CAPACITACIÓN. | C19: 344966442 | D19: =+C19-30000000 -> 314966442 | E19: =+CONSOLIDADO!G109 -> 314966442 | F19: =+E19-D19 -> 0 | G19: 28 | H19: 44084
A20: 19 | B20: MEDICINA PREVENTIVA Y DEL TRABAJO | C20: 122300000 | D20: =+C20-57294626+50000000 -> 115005374 | E20: =+CONSOLIDADO!G110 -> 115005374 | F20: =+E20-D20 -> 0 | G20: 28,43 | H20: 10/09/2020 06/11/2020
A21: 20 | B21: CUSTODIA PORTAFOLIO | C21: 1941000000 | D21: =+C21-334557666+26000000-498441622-94024093 -> 1039976619 | E21: =+CONSOLIDADO!G111 -> 1039976619 | F21: =+E21-D21 -> 0 | G21: 11,16,21,41 | H21: 27/05/2020 17/06/2020 05/08/2020 30/10/2020
A22: 21 | B22: ROM Y DEMOLICIONES | C22: 3900000000 | D22: =+C22+151000000-161910000+670690463+600000000-200000000+130000000 -> 5089780463 | E22: =+CONSOLIDADO!G113 -> 5089780463 | F22: =+E22-D22 -> 0 | G22: 20,28,43,44,45,49 | H22: 31/07/2020 10/09/2020 06/11/2020 10/11/2020 17/11/2020 04/12/2020
A23: 22 | B23: ORGANIZACIÓN Y ESTANTERIA ARCHIVO | C23: 70000000 | D23: =+C23+50000000+200000000+204000000+-195587652-4746341 -> 323666007 | E23: =+CONSOLIDADO!G115 -> 323666007 | F23: =+E23-D23 -> 0 | G23: 17,28,30,34 | H23: 01/07/2020 10/09/2020 22/09/2020 06/10/2020
A24: 23 | B24: MANTENIMIENTO DE APLICACIONES | C24: 1671322000 | D24: =+C24+720550000-3650000-12000000-1158517716-27000000-176741246 -> 1013963038 | E24: =+CONSOLIDADO!G118 -> 1013963038 | F24: =+E24-D24 -> 0 | G24: 7,29-31,34,44 | H24: 20/03/2020 14/09/2020 24/09/2020 06/10/2020 10/11/2020
A25: 24 | B25: MONITOREO DE MEDIOS | C25: 60000000 | D25: =+C25-36450000 -> 23550000 | E25: =+CONSOLIDADO!G121 -> 23550000 | F25: =+E25-D25 -> 0 | G25: 29-31 | H25: 14/09/2020 24/09/2020
A26: 25 | B26: COMPRA DE INFRAESTRUCTURA, EQUIPOS Y OTROS | C26: 2021409124 | D26: =+C26+66430489-138925393+25061400-70000000-10417519 -> 1893558101 | E26: =+CONSOLIDADO!G122 -> 1893558101 | F26: =+E26-D26 -> 0 | G26: 7,23,27,30,34 | H26: 20/03/2020 13/08/2020 03/09/2020 22/09/2020 06/10/2020 | I26: MODIF 29 - 31
A27: 26 | B27: ADQUISICIÓN DE MOBILIARIO, ELECTRODOMESTICOS, OTROS MATERIALES Y SUMINISTROS | C27: 120000000 | D27: =+C27-43000000 -> 77000000 | E27: =+CONSOLIDADO!G124 -> 77000000 | F27: =+E27-D27 -> 0 | G27: 19 | H27: 44025
A28: 27 | B28: COMBUSTIBLE | C28: 158000000 | D28: =+C28 -> 158000000 | E28: =+CONSOLIDADO!G127 -> 158000000 | F28: =+E28-D28 -> 0
A29: 28 | B29: ELEMENTOS DE FERRETERIA Y OTROS | C29: 100000000 | D29: =+C29-47606264 -> 52393736 | E29: =+CONSOLIDADO!G128 -> 52393736 | F29: =+E29-D29 -> 0 | G29: 44 | H29: 44145
A30: 29 | B30: PAPELERIA Y OTROS | C30: 264000000 | D30: =+C30-72990940 -> 191009060 | E30: =+CONSOLIDADO!G129 -> 191009060 | F30: =+E30-D30 -> 0 | G30: 44 | H30: 44145
A31: 30 | B31: MANTENIMIENTO Y ADQUISICIÓN DE PURIFICADORES DE AGUA | C31: 20000000 | D31: =+C31 -> 20000000 | E31: =+CONSOLIDADO!G131 -> 20000000 | F31: =+E31-D31 -> 0
A32: 31 | B32: MANTENIMIENTO PREVENTIVO Y CORRECTIVO PARA LOS VEHÍCULOS | C32: 160000000 | D32: =+C32 -> 160000000 | E32: =+CONSOLIDADO!G132 -> 160000000 | F32: =+E32-D32 -> 0
A33: 32 | B33: SERVICIO INTEGRAL DE ASEO, CAFETERIA Y MANTENIMIENTO | C33: 1015000000 | D33: =+C33-70000000-63000000-102000000+133000000-52815420 -> 860184580 | E33: =+CONSOLIDADO!G133 -> 860184580 | F33: =+E33-D33 -> 0 | G33: 3,10,20,45 | H33: 14/02/2020 12/05/2020 31/07/2020 17/11/2020
A34: 33 | B34: SERVICIO DE VIGILANCIA Y SEGURIDAD PRIVADA | C34: 4267573858 | D34: =+C34-50000000-26000000+4327855-50000000-133000000-302000000+405752039-100000000-804831 -> 4015848921 | E34: =+CONSOLIDADO!G135 -> 4015848921 | F34: =+E34-D34 -> 0 | G34: 11,11,17,20,20,21,23,31,34 | H34: 27/05/2020 27/05/2020 01/07/2020 31/07/2020 31/07/2020 05/08/2020 13/08/2020 24/09/2020 06/10/2020
A35: 34 | B35: SERVICIO DE ENVIO Y ENTREGA DE CORRRESPONDENCIA Y MENSAJERIA | C35: 192000000 | D35: =+C35+43000000 -> 235000000 | E35: =+CONSOLIDADO!G138 -> 235000000 | F35: =+E35-D35 -> 0 | G35: 3 | H35: 43875
A36: 35 | B36: SUSCRIPCIONES ESPECIALIZADAS | C36: 15000000 | D36: =+C36 -> 15000000 | E36: =+CONSOLIDADO!G139 -> 15000000 | F36: =+E36-D36 -> 0
A37: 36 | B37: REPRODUCCIÓN Y FOTOCOPIADO | C37: 543000000 | D37: =+C37-84000000-129402796 -> 329597204 | E37: =+CONSOLIDADO!G140 -> 329597204 | F37: =+E37-D37 -> 0 | G37: 3,44 | H37: 14/02/2020 10/11/2020
A38: 37 | B38: ARRENDAMIENTO SEDES | C38: 5078934222 | D38: =+C38+70000000+320000000+102000000+240000000-204000000 -> 5606934222 | E38: =+CONSOLIDADO!G141 -> 5606934222 | F38: =+E38-D38 -> 0 | G38: 3,10,28,30 | H38: 14/02/2020 12/05/2020 10/09/2020 22/09/2020
A39: 38 | B39: MANTENIMIENTO DE INFRAESTRUCTURA | C39: 200000000 | D39: =+C39-62780489-20000000-33089140-5241933 -> 78888438 | E39: =+CONSOLIDADO!G142 -> 78888438 | F39: =+E39-D39 -> 0 | G39: 7,34,44,44 | H39: 20/03/2020 06/10/2020 10/11/2020 10/11/2020
A40: 39 | B40: ESTUDIOS DE MERCADO INMOBILIARIO | C40: 75000000 | D40: =+C40 -> 75000000 | E40: =+CONSOLIDADO!G144 -> 75000000 | F40: =+E40-D40 -> 0 | G40: 33 | H40: 44106
...
