Workbook
Name Cargos: Datos!$B$2:$B$26
Name Opciones: Datos!$A$2:$A$18
Name X: Datos!$B$14

Sheet Instructivo
E1: MAPA DE ASEGURAMIENTO SAE
B3: INSTRUCCIONES DE DILIGENCIAMIENTO
C6: Pestaña | E6: Aspecto | F6: Descripción
C7: ESTRUCTURA DE LÍNEAS | E7: Modelo de las tres Líneas | F7: Este archivo busca que el usuario conozca los conceptos básicos para desarrollar el ejercicio del modelo de las tres líneas en la entidad, su estructura, sus integrantes y las responsabilidades generales.
C8: DIAGNÓSTICO DE ROLES Y RESPONSABILIDADES | E8: Aspectos claves de éxito | F8: Corresponden a los programas, proyectos, procesos, sistemas, entre otros de la entidad que agregan valor para el cumplimiento de los objetivos institucionales.
E9: Responsables- Cargo | F9: Corresponde a los posibles cargos que se pueden encontrar en una entidad.
E10: Modo de diligenciamiento | F10: 1) Enliste los aspectos claves de éxito existentes en la entidad en la columna Aspecto Clave de Éxito (Columna B) 2) Por cada Aspecto Clave de Éxito identifique los responsables involucrados, indicando su cargo (Columna C - Lista desplegable) y el área al que corresponde dicho cargo (Columna D) 3) Por cada Aspecto Clave de Éxito y responsables identificados, establezca los componentes que desempeña o ejecuta cada uno de los responsables sobre los aspectos claves. En la parte superior del archivo se presentan cuatro componentes (Planear, Aprobar, Ejecutar y Verificar) que deben ser ubicados en la casilla en la que se entrecruce un aspecto clave de éxito con un responsable.(Columna E) Cada componente asociado a un aspecto puede tener uno o más responsables por lo que puede estar ubicado en una o más casillas al mismo tiempo.
C11: IDENTIFICACIÓN SEGUNDA LINEA | E11: Objetivo | F11: El objetivo de este documento es identificar para cuales actividades o aspectos claves de éxito existe una segunda línea y para cuáles no.
E12: Aspectos clave de éxito | F12: Son los mismos aspectos clave enunciados en el archivo de roles y responsabilidades y sobre los cuales se evaluará la existencia de una segunda línea.
E13: Riesgo Asociado | F13: Para cada uno de los aspectos claves se deben identificar uno o más riesgos sobre los cuales se han establecido controles y que se encuentran documentados en la Matriz de Riesgos Institucionales. En la entidad se tendrán en cuenta aquellos riesgos que tengan un nivel de severidad residual más crítico en cada proceso o aspecto clave de éxito.
E14: Nivel de Riesgo asociado al aspecto clave de éxito | F14: Es el nivel de severidad del riesgo residual seleccionado como crítico en cada uno de los procesos o aspectos claves de éxito. Estos pueden ser Extremos, Altos, Moderados o Bajos.
E15: Responsable | F15: Al interior de la entidad debe haber uno o varios responsables sobre un aspecto clave de éxito. En esta casilla deben colocarse todos los responsables de los que se tenga conocimiento están asociados al aspecto clave de éxito.
E16: Área Funcional | F16: Los responsables pertenecen a áreas funcionales por lo que se debe identificar las mismas. Por otro lado, existe la posibilidad de que no haya un responsable individual de un aspecto de éxito sino que dicha responsabilidad recaiga en un área funcional como un todo. En este caso, se debe identificar el área encargada.
E17: Criterios para la identificación de la segunda línea | F17: Una vez se identifiquen los aspectos clave de éxito, los riesgos asociados al mismo y los responsables del aspecto clave, se procede a identificar si estos pertenecen o no a la segunda línea. Para tales fines se debe dar respuesta a 3 preguntas que se definen como 3 criterios: 1) ¿El responsable o área funcional encargada del aspecto clave de éxito pertenece a la Media o Alta Gerencia? 2) ¿El área funcional o responsable responde ante la Alta Dirección por el aspecto clave de éxito? 3) ¿El área funcional o responsable realiza actividades de seguimiento? En caso de que la respuesta sea afirmativa, se debe colocar una X en la casilla asociada a cada una de las preguntas.
E18: Clasificación | F18: Esta casilla se llena automáticamente una vez se responden los criterios para la identificación de la segunda línea. De esta manera, el usuario sabrá de inmediato si de acuerdo a las características identificadas el responsable pertenece a la primera o a la segunda línea, Para las actividades en las que la clasificación resulte en la primera línea no se debe seguir diligenciando el archivo. Por otro lado, aquellas actividades para las que se identifique una segunda línea deben diligenciar las columnas restantes. Para los casos en que el factor clave no tenga función de aseguramiento por parte de la segunda linea, automáticamente se considerará de bajo aseguramiento, por lo tanto será objeto de análisis de priorización en el plan de auditorías de la tercera linea.
E19: Funciones de aseguramiento | F19: Las funciones de aseguramiento son aquellas funciones que se llevan a cabo sobre los controles que se han establecido en la primera línea. Una función de aseguramiento tiene un carácter global a comparación de los controles que han sido establecidos de manera directa para el manejo de riesgos. En esta casilla debe enunciar de manera general la función de aseguramiento o actividad de control que se debe adelantar por parte de la Segunda Línea sobre el factor o aspecto clave de éxito
E20: Atributos Función de Aseguramiento o Actividad de Control para la evaluación de confianza | F20: En esta casilla se debe redactar la función de aseguramiento o actividad de control como se encuentra en el mapa de riesgos o como se encuentra procedimentado, de manera detallada; visibilizando el responsable de su ejecución, el objetivo y alcance del control o función de aseguramiento, cómo se realiza el control (metodología) e información complementaria.
E21: Criterios evaluadores de la función de aseguramiento | F21: Existen 4 criterios bajo los cuales se evalúa si una función de aseguramiento ha sido establecida de manera adecuada, a los cuales se les asigna un peso porcentual para su posterior evaluación:
G22: Criterio evaluador | I22: Peso Porcentual (%) | K22: Descripción
G23: Objetivo y Alcance de la funcion de aseguramiento | I23: 0.2 | K23: Se refiere al establecimiento del objetivo y alcance del control o función de aseguramiento a implementar
G24: Metodología establecida para la función de aseguramiento | I24: 0.3 | K24: Se refiere a cómo se ejecuta el control o función de aseguramiento
G25: Responsable función de aseguramiento | I25: 0.3 | K25: Se refiere al cargo o área responsable que ejecuta el control o función de aseguramiento y conocer si la función de aseguramiento cuenta con responsables claramente definidos
G26: Metodología para la comunicación de resultados y el manejo de información | I26: 0.2 | K26: Se refiere a la comunicación de los resultados de la ejecución del control o función de aseguramiento en las matrices de riesgos reportadas y publicadas en la página web institucional
F28: En la casilla asociada a cada uno de estos criterios el usuario debe colocar un numero entre 1 y 5 de acuerdo a como considere se lleve dicha tarea en la entidad, de acuerdo con los siguientes criterios de evaluación
G30: Calificación | H30: Criterio de puntaje de evaluación | J30: Descripción
G31: 1 | H31: No cumple | J31: No se ha establecido el criterio.
G32: 2 | H32: Cumple Minoritariamente | J32: El criterio se conoce pero no se encuentra documentado
G33: 3 | H33: Cumple Parcialmente | J33: El criterio se conoce, se encuentra documentado pero no está bien diseñado
G34: 4 | H34: Cumple Mayoritariamente | J34: El criterio se conoce, se encuentra documentado, está bien diseñado pero no se ha socializado
G35: 5 | H35: Cumple Plenamente | J35: El criterio se conoce, se encuentra documentado, está bien diseñado y socializado
F37: Una vez se han colocado los 4 valores, se obtendrá un valor total automático que determinará el nivel de confianza de aseguramiento provisto por la función descrita.
E38: Nivel de Confianza | F38: De acuerdo con el valor total obtenido de la evaluación de los criterios de la función de aseguramiento se determinará el nivel de confianza el cual puede ser bajo, medio o alto.
H39: Nivel de Confianza | K39: Puntaje de evaluación criterios de Función de Aseguramiento
H40: Alto Aseguramiento | K40: Entre 4 y 5
H41: Medio Aseguramiento | K41: Entre 3 y 3,9
H42: Bajo Aseguramiento | K42: Entre 1 y 2,9
E44: Observación/ Interpretación | F44: Esta casilla es automática y de carácter informativo. Se presenta con el objetivo de que el usuario pueda interpretar con mayor facilidad que quiere decir tener un nivel bajo, medio o alto de aseguramiento y cuáles son las implicaciones que dicha valoración puede traer y las acciones que se deben tomar.
G45: Nivel de Confianza | H45: Observación/ Interpretación
G46: Bajo Aseguramiento | H46: La Oficina de Control Interno o quien haga sus veces deberá auditar y generar recomendaciones a la función de aseguramiento para su mejora y evaluará los controles de 1ª línea.
G47: Medio Aseguramiento | H47: La Oficina de Control Interno o quien haga sus veces deberá auditar y generar recomendaciones a la función de aseguramiento (2ª línea) para su mejora y evaluará los aspectos que considere relevantes de la 1ª línea.
...

Sheet 0. Estructura_líneas
D1: MODELO DE LAS TRES LÍNEAS
B3: INSTRUCCIONES DE DILIGENCIAMIENTO
C6: Línea | D6: Integrantes | E6: Responsabilidad
C7: Órganos de gobierno | D7: Junta Directiva, Comité Institucional de Coordinación de Control Interno. | E7: Son los que deben rendir cuentas de su supervisión a las partes interesadas de la organización, comprometiéndose a vigilar sus intereses y a comunicarse de manera transparente sobre el logro de los objetivos. También deben fomentar una cultura que promueva el comportamiento ético y la responsabilidad, estableciendo estructuras y procesos para la gobernanza, así como delegando la responsabilidad y proporcionando recursos a la Alta Dirección para el logro de los objetivos de la organización. Asimismo, determinan el apetito de la organización por el riesgo y ejercen la supervisión de la gestión del riesgo (incluido el control interno). Además, mantienen la supervisión del cumplimiento de las expectativas legales, reglamentarias y éticas y establecen y supervisan una función de auditoría interna independiente, objetiva y competente.
C8: Primera Línea | D8: Dependiendo de la estructura organizacional de la entidad (organigrama), Líderes de proceso y sus equipos (En general servidores públicos en todos los niveles de la organización). | E8: Hace parte de la Alla Dirección y se enfoca en la gestión operativa y de riesgos, asegurando el cumplimiento de leyes, regulaciones y aspectos éticos.
C9: Segunda Línea | D9: Media y Alta Gerencia: Jefes de planeación, gerente GREC, vicepresidentes, gerentes, coordinadores de equipos de trabajo misionales, comités institucionales adoptados por SAE, entre otros que generen información para el aseguramiento de la operación. | E9: Hace parte de la Alla Dirección y comprende actividades como soporte y supervisión de la eficacia de la gestión de riesgos
C10: Tercera Línea | D10: A cargo de la Oficina de Control Interno. | E10: Rinde cuentas ante los órganos de gobierno y es independiente de la Alta Dirección, prestando un asesoramiento independiente y objetivo y proveyendo, en su caso, de las salvaguardas necesarias para conseguirlo.

Sheet 1_Diagnóstico_RR
C1: DIAGNÓSTICO DE ROLES Y RESPONSABILIDADES
C2: SOCIEDAD DE ACTIVOS ESPECIALES
A3: P: Planea o diseña la actividad A: Aprueba la actividad o su salida (producto/servicio) E: Ejecuta la actividad V: Verifica la actividad
A4: No. | B4: ASPECTO CLAVE DE ÉXITO (Programa, Proyecto, Proceso, Sistema, entre otros) | C4: RESPONSABLE - CARGO
C5: CARGO | D5: AREA | E5: COMPONENTE
A8: 1 | B8: Elaboración de la Estrategia | C8: Jefe de Oficina Asesora de Planeación | D8: Oficina Asesora de Planeación | E8: P-A-E-V
C9: Profesional Especializado | D9: Oficina Asesora de Planeación | E9: P-E-V
C10: Profesional | D10: Oficina Asesora de Planeación | E10: E-V
C11: Comité Directivo | D11: Oficina Asesora de Planeación (Secretaría Técnica) | E11: V
A12: 2 | B12: Gobierno y gestión de la estrategia | C12: Jefe de Oficina Asesora de Planeación | D12: Oficina Asesora de Planeación | E12: P-A-E-V
C13: Profesional Especializado | D13: Oficina Asesora de Planeación | E13: P-E-V
C14: Profesional | D14: Oficina Asesora de Planeación | E14: E-V
A15: 3 | B15: Administración del SIG | C15: Jefe de Oficina Asesora de Planeación | D15: Oficina Asesora de Planeación | E15: P-A-E-V
C16: Profesional | D16: Oficina Asesora de Planeación | E16: P-E-V
A17: 4 | B17: Gestión de infraestructura tecnológica | C17: Jefe de Oficina de Gestión de la Información | D17: Oficina de Gestión de la Información | E17: P-A-E-V
C18: Profesional Especializado | D18: Oficina de Gestión de la Información | E18: P-E-V
C19: Profesional | D19: Oficina de Gestión de la Información | E19: E-V
C20: Técnico | D20: Oficina de Gestión de la Información | E20: E-V
A21: 5 | B21: Mantenimiento y Soporte de Aplicaciones | C21: Jefe de Oficina de Gestión de la Información | D21: Oficina de Gestión de la Información | E21: P-A-E-V
C22: Profesional Especializado | D22: Oficina de Gestión de la Información | E22: P-E-V
C23: Profesional | D23: Oficina de Gestión de la Información | E23: E-V
C24: Técnico | D24: Oficina de Gestión de la Información | E24: E-V
C25: Comité de Cambios | D25: Oficina de Gestión de la Información (Secretario técnico de Comité de Cambios) | E25: V
A26: 6 | B26: Seguridad de la Información | C26: Jefe de Oficina de Gestión de la Información | D26: Oficina de Gestión de la Información | E26: P-A-E-V
C27: Profesional Especializado | D27: Oficina de Gestión de la Información | E27: P-E-V
C28: Profesional | D28: Oficina de Gestión de la Información | E28: E-V
C29: Técnico | D29: Oficina de Gestión de la Información | E29: E-V
C30: Comité de Cambios | D30: Oficina de Gestión de la Información (Secretario técnico de Comité de Cambios) | E30: V
A31: 7 | B31: Comunicación organizacional | C31: Jefe de Oficina de Comunicaciones y Atención al Ciudadano | D31: Oficina de Comunicaciones y Atención al Ciudadano | E31: P-A-E-V
C32: Profesional Especializado | D32: Oficina de Comunicaciones y Atención al Ciudadano | E32: P-E-V
C33: Profesional | D33: Oficina de Comunicaciones y Atención al Ciudadano | E33: E-V
C34: Técnico | D34: Oficina de Gestión de la Información | E34: E-V
A35: 8 | B35: Atención usuario | C35: Jefe de Oficina de Comunicaciones y Atención al Ciudadano | D35: Oficina de Comunicaciones y Atención al Ciudadano | E35: P-A-E-V
C36: Profesional Especializado | D36: Oficina de Comunicaciones y Atención al Ciudadano | E36: P-E-V
C37: Profesional | D37: Oficina de Comunicaciones y Atención al Ciudadano | E37: E-V
C38: Técnico | D38: Oficina de Gestión de la Información | E38: E-V
A39: 9 | B39: Ingreso de activos | C39: Coordinador del GIT Aseguramiento y Control de la Información | D39: GIT de Aseguramiento y Control de la Información | E39: P-A-E-V
C40: Profesional Especializado | D40: GIT de Aseguramiento y Control de la Información | E40: P-E-V
C41: Profesional | D41: GIT de Aseguramiento y Control de la Información | E41: E-V
C42: Técnico | D42: GIT de Aseguramiento y Control de la Información | E42: E-V
...

Sheet 2_Identificación_Segunda_Línea
D1: ESTRUCTURA SEGUNDA LÍNEA
D2: Sociedad de Activos Especiales - SAE
B4: SEGUNDA LÍNEA | U4: TERCERA LÍNEA (Oficina de Control Interno o quien haga sus veces)
B5: No. | C5: ASPECTO CLAVE DE ÉXITO (Programa, Proyecto, Proceso, Sistema, entre otros) | D5: Riesgo Asociado | E5: Nivel de Riesgo asociado al aspecto clave de éxito | F5: Responsable | G5: Área Funcional o Instancia | H5: Criterios para la identificación de la segunda línea | K5: Clasificación | L5: FUNCIONES DE ASEGURAMIENTO O ACTIVIDAD DE CONTROL QUE DEBE ADELANTAR | M5: Atributos de la Función o actividad de Aseguramiento para la evaluación de confianza | N5: CRITERIOS EVALUADORES DE LA FUNCIÓN DE ASEGURAMIENTO | S5: NIVEL DE CONFIANZA | T5: OBSERVACIÓN/ INTERPRETACIÓN
H6: ¿Pertenece a la Media o Alta Gerencia? | I6: ¿Responde ante la Alta Dirección? | J6: ¿Realiza actividades de seguimiento? | N6: Objetivo y Alcance de la funcion de aseguramiento (20%) | O6: Metodología (30%) | P6: Responsable (30%) | Q6: Comunicación de resultados (20%) | R6: Total
B7: 1 | C7: Elaboración de la Estrategia | D7: N/A | E7: N/A | F7: * Jefe Oficina Asesora de Planeación (Secretario Técnico de Comité Directivo) | G7: Comité Directivo | H7: X | I7: X | J7: X | K7: =IF(COUNTIF(H7:J7,"X")=3,"Segunda Línea",IF(COUNTIF(H7:J7,"X")=2,"Primera Línea",IF(COUNTIF(H7:J7,"X")=1,"Primera Línea",))) -> Segunda Línea | L7: Aprobación de formulación de planeación estratégica | M7: El Comité Directivo revisa y aprueba el plan de acción institucional anual y la planeación estratégica cuatrienal, cuando aplique, validando que la planeación se encuentre bien diseñada, este alineada con los objetivos estratégicos institucionales y/o las estrategias del sector Hacienda y Crédito Público. En caso de evidenciarse alguna inconsistencia, se solicita el ajuste de la planeación para posterior aprobación. Nota: la función de aseguramiento se encuentra documentada en el G-DE1-017 Metodologia para la Gestión de la Estrategia | N7: 5 | O7: 5 | P7: 5 | Q7: 5 | R7: =N7*20%+O7*30%+P7*30%+Q7*20% -> 5 | S7: =IF(K7="Primera Línea","Bajo Aseguramiento",IF(R7<0.9," ",IF(R7<3,"Bajo Aseguramiento",IF(R7<4,"Medio Aseguramiento","Alto Aseguramiento")))) -> Alto Aseguramiento | T7: =VLOOKUP(S7,Instructivo!$G$45:$P$48,2,0) -> La Oficina de Control Interno o quien haga sus veces confiará en los resultados del aseguramiento de la 2ª línea y basado en sus informes, auditará la efectividad de dicha función, evitando evaluar los controles de la 1ª línea. | U7: =IF(S7="Alto Aseguramiento","NA",Instructivo!$H$54) -> NA
B8: 2 | C8: Gobierno y gestión de la estrategia | D8: Posibilidad de Afectación Reputacional por fallas dentro de la medición de la estrategia debido a falencias en la formulación y/o seguimiento técnico de indicadores | E8: Moderado | F8: * Jefe Oficina Asesora de Planeación | G8: Oficina Asesora de Planeación | H8: X | I8: X | J8: X | K8: =IF(COUNTIF(H8:J8,"X")=3,"Segunda Línea",IF(COUNTIF(H8:J8,"X")=2,"Primera Línea",IF(COUNTIF(H8:J8,"X")=1,"Primera Línea",))) -> Segunda Línea | L8: Verificación de Reportes de Plan de Acción | M8: El profesional delegado de la Oficina Asesora de Planeación verifica que los reportes trimestrales de plan de acción institucional estén completos, sean adecuados, y tengan plan de mejoramiento para los casos en los que el desempeño sea inferior al 70%. En caso de presentarse algún error o un reporte inadecuado, el profesional delegado remite un correo electrónico con la retroalimentación para los ajustes respectivos. | N8: 5 | O8: 5 | P8: 5 | Q8: 5 | R8: =N8*20%+O8*30%+P8*30%+Q8*20% -> 5 | S8: =IF(K8="Primera Línea","Bajo Aseguramiento",IF(R8<0.9," ",IF(R8<3,"Bajo Aseguramiento",IF(R8<4,"Medio Aseguramiento","Alto Aseguramiento")))) -> Alto Aseguramiento | T8: =VLOOKUP(S8,Instructivo!$G$45:$P$48,2,0) -> La Oficina de Control Interno o quien haga sus veces confiará en los resultados del aseguramiento de la 2ª línea y basado en sus informes, auditará la efectividad de dicha función, evitando evaluar los controles de la 1ª línea. | U8: =IF(S8="Alto Aseguramiento","NA",Instructivo!$H$54) -> NA
B9: 3 | C9: Administración del SIG | D9: Posibilidad de Afectación Económica y Reputacional por procesos documentados de manera indebida o desactualizados debido a desconocimiento técnico y/o falencias en los controles en la documentación del SIG | E9: Moderado | F9: * Jefe de la Oficina Asesora de Planeación | G9: Oficina Asesora de Planeación | H9: X | I9: X | J9: X | K9: =IF(COUNTIF(H9:J9,"X")=3,"Segunda Línea",IF(COUNTIF(H9:J9,"X")=2,"Primera Línea",IF(COUNTIF(H9:J9,"X")=1,"Primera Línea",))) -> Segunda Línea | L9: Revisión de Documentos del SIG elaborados | M9: El Jefe de la Oficina Asesora de Planeación revisa el documento realizado verificando que la información registrada cumpla con la solicitud del área; que se de cumplimiento con los lineamientos de documentación y normatividad vigente; y que sea coherente con la información y contenido técnico acorde con el objetivo del documento. En caso de requerir ajustes, el documento es devuelto para correcciones o complemento hasta cumplir con los criterios establecidos. | N9: 5 | O9: 5 | P9: 5 | Q9: 5 | R9: =N9*20%+O9*30%+P9*30%+Q9*20% -> 5 | S9: =IF(K9="Primera Línea","Bajo Aseguramiento",IF(R9<0.9," ",IF(R9<3,"Bajo Aseguramiento",IF(R9<4,"Medio Aseguramiento","Alto Aseguramiento")))) -> Alto Aseguramiento | T9: =VLOOKUP(S9,Instructivo!$G$45:$P$48,2,0) -> La Oficina de Control Interno o quien haga sus veces confiará en los resultados del aseguramiento de la 2ª línea y basado en sus informes, auditará la efectividad de dicha función, evitando evaluar los controles de la 1ª línea. | U9: =IF(S9="Alto Aseguramiento","NA",Instructivo!$H$54) -> NA
B10: 4 | C10: Gestión de infraestructura tecnológica | D10: Posibilidad de Afectación Económica por fallas en la infraestructura tecnológica que soporte los servicios ofertados por TI debido a falta de capacidad técnica, operativa y de negocio | E10: Moderado | F10: Jefe de Oficina de Gestión de la Información | G10: Oficina de Gestión de la Información | H10: X | I10: X | K10: =IF(COUNTIF(H10:J10,"X")=3,"Segunda Línea",IF(COUNTIF(H10:J10,"X")=2,"Primera Línea",IF(COUNTIF(H10:J10,"X")=1,"Primera Línea",))) -> Primera Línea | R10: =N10*20%+O10*30%+P10*30%+Q10*20% -> 0 | S10: =IF(K10="Primera Línea","Bajo Aseguramiento",IF(R10<0.9," ",IF(R10<3,"Bajo Aseguramiento",IF(R10<4,"Medio Aseguramiento","Alto Aseguramiento")))) -> Bajo Aseguramiento | T10: =VLOOKUP(S10,Instructivo!$G$45:$P$48,2,0) -> La Oficina de Control Interno o quien haga sus veces deberá auditar y generar recomendaciones a la función de aseguramiento para su mejora y evaluará los controles de 1ª línea. | U10: =IF(S10="Alto Aseguramiento","NA",Instructivo!$H$54) -> Priorizar en su Plan Anual de Auditoría
B11: 5 | C11: Mantenimiento y Soporte de Aplicaciones | D11: Posibilidad de Afectación Económica y Reputacional por fallas en las aplicaciones utilizadas por los procesos de Negocio debido a falta de aplicabilidad para desarrollo seguro, competencias en los desarrolladores y claridad en los requerimientos del negocio | E11: Moderado | F11: Jefe de Oficina de Gestión de la Información (Secretario técnico de Comité de Cambios) | G11: Comité de Cambios | H11: X | I11: X | J11: X | K11: =IF(COUNTIF(H11:J11,"X")=3,"Segunda Línea",IF(COUNTIF(H11:J11,"X")=2,"Primera Línea",IF(COUNTIF(H11:J11,"X")=1,"Primera Línea",))) -> Segunda Línea | L11: Revisión de entregables del producto desarrollado | M11: El Jefe de la Oficina de Gestión de Ia Información y el profesional responsable delegado debe realizar revisión a cada entregable del producto y verificar que éste cumpla con los atributos técnicos, funcionales y de usuario. | N11: 5 | O11: 5 | P11: 5 | Q11: 5 | R11: =N11*20%+O11*30%+P11*30%+Q11*20% -> 5 | S11: =IF(K11="Primera Línea","Bajo Aseguramiento",IF(R11<0.9," ",IF(R11<3,"Bajo Aseguramiento",IF(R11<4,"Medio Aseguramiento","Alto Aseguramiento")))) -> Alto Aseguramiento | T11: =VLOOKUP(S11,Instructivo!$G$45:$P$48,2,0) -> La Oficina de Control Interno o quien haga sus veces confiará en los resultados del aseguramiento de la 2ª línea y basado en sus informes, auditará la efectividad de dicha función, evitando evaluar los controles de la 1ª línea. | U11: =IF(S11="Alto Aseguramiento","NA",Instructivo!$H$54) -> NA
B12: 6 | C12: Seguridad de la Información | D12: N/A | E12: N/A | F12: * Jefe de Oficina de Gestión de la Información * Comité Directivo | G12: Oficina de Gestión de la Información Comité Directivo | H12: X | I12: X | J12: X | K12: =IF(COUNTIF(H12:J12,"X")=3,"Segunda Línea",IF(COUNTIF(H12:J12,"X")=2,"Primera Línea",IF(COUNTIF(H12:J12,"X")=1,"Primera Línea",))) -> Segunda Línea | L12: Manual política de seguridad y privacidad de la información | M12: El Comité Directivo tiene como funciones: Monitorear cambios significativos en los riesgos que afectan a los recursos de información frente a las amenazas más importantes. Tomar conocimiento y supervisar la investigación y monitoreo de los incidentes relativos a la seguridad y privacidad. Garantizar que la seguridad y privacidad sea parte del proceso de planificación de la información. Evaluar y coordinar la implementación de controles específicos de seguridad y privacidad de la información para nuevos sistemas o servicios. Revisar el Sistema de Seguridad de la Información a intervalos planificados, para asegurarse de su conveniencia, adecuación y eficacia continuas. Realizar revisiones periódicas de la adopción del MSPI (al menos dos veces por año). | N12: 5 | O12: 3 | P12: 5 | Q12: 1 | R12: =N12*20%+O12*30%+P12*30%+Q12*20% -> 3.6 | S12: =IF(K12="Primera Línea","Bajo Aseguramiento",IF(R12<0.9," ",IF(R12<3,"Bajo Aseguramiento",IF(R12<4,"Medio Aseguramiento","Alto Aseguramiento")))) -> Medio Aseguramiento | T12: =VLOOKUP(S12,Instructivo!$G$45:$P$48,2,0) -> La Oficina de Control Interno o quien haga sus veces deberá auditar y generar recomendaciones a la función de aseguramiento (2ª línea) para su mejora y evaluará los aspectos que considere relevantes de la 1ª línea. | U12: =IF(S12="Alto Aseguramiento","NA",Instructivo!$H$54) -> Priorizar en su Plan Anual de Auditoría
B13: 7 | C13: Comunicación organizacional | D13: Posibilidad de Afectación Reputacional por presentar retrasos en las respuestas a las necesidades y requerimientos de los medios de comunicación debido a la falta de información de manera oportuna, la dispersión de la información y falta de seguimiento dentro de las áreas misionales a los requerimientos asignados. | E13: Moderado | F13: Jefe Oficina De Comunicaciones y Atención al Ciudadano | G13: Oficina de Comunicaciones y Atención al Ciudadano | H13: X | I13: X | J13: X | K13: =IF(COUNTIF(H13:J13,"X")=3,"Segunda Línea",IF(COUNTIF(H13:J13,"X")=2,"Primera Línea",IF(COUNTIF(H13:J13,"X")=1,"Primera Línea",))) -> Segunda Línea | L13: Validación de Calidad de Respuesta a Medios de Comunicación o Periodistas | M13: El Jefe de la Oficina de Comunicaciones y Atención al Ciudadano valida el contenido e información de la respuesta a brindar a medios de comunicación frente a redacción y pertinencia de la respuesta, sin desvirtuar el objetivo inicial aportado por el proceso responsable, las cuales deberán ser aprobadas por la Vicepresidencia de cada proceso con base en los ajustes sugeridos por la Oficina de Comunicaciones y Atención al Ciudadano. | N13: 5 | O13: 3 | P13: 5 | Q13: 5 | R13: =N13*20%+O13*30%+P13*30%+Q13*20% -> 4.4 | S13: =IF(K13="Primera Línea","Bajo Aseguramiento",IF(R13<0.9," ",IF(R13<3,"Bajo Aseguramiento",IF(R13<4,"Medio Aseguramiento","Alto Aseguramiento")))) -> Alto Aseguramiento | T13: =VLOOKUP(S13,Instructivo!$G$45:$P$48,2,0) -> La Oficina de Control Interno o quien haga sus veces confiará en los resultados del aseguramiento de la 2ª línea y basado en sus informes, auditará la efectividad de dicha función, evitando evaluar los controles de la 1ª línea. | U13: =IF(S13="Alto Aseguramiento","NA",Instructivo!$H$54) -> NA
B14: 8 | C14: Atención usuario | D14: Posibilidad de Afectación Económica y Reputacional por retrasos en las respuestas a las necesidades y requerimientos de los usuarios debido a debilidades en el funcionamiento del aplicativo y/o asignación y seguimiento a las peticiones | E14: Moderado | F14: Jefe Oficina De Comunicaciones y Atención al Ciudadano | G14: Oficina de Comunicaciones y Atención al Ciudadano | H14: X | I14: X | J14: X | K14: =IF(COUNTIF(H14:J14,"X")=3,"Segunda Línea",IF(COUNTIF(H14:J14,"X")=2,"Primera Línea",IF(COUNTIF(H14:J14,"X")=1,"Primera Línea",))) -> Segunda Línea | L14: Alertas de vencimiento de PQR | M14: El técnico o profesional delegado de la Oficina de Comunicaciones y Atención al Ciudadano aplica los controles previos automáticos y posteriores manuales, frente a las peticiones radicadas por el módulo, evidenciando cuales se encuentran vencidas. Se genera una primera alerta la cual va dirigida a los vicepresidentes y gerentes en donde se indica las peticiones vencidas que se encuentran en su área, se generará un segundo llamado al gerente con copia al servidor indicando el vencimiento que aún se evidencia, si persiste el incumplimiento por parte del servidor se realiza un tercer llamado el cual es dirigido a la Gerencia de Talento Humano en donde se relata los servidores que tienen peticiones vencidas y que a pesar de las dos alertas citadas anteriormente, no se han cerrado. | N14: 5 | O14: 5 | P14: 5 | Q14: 5 | R14: =N14*20%+O14*30%+P14*30%+Q14*20% -> 5 | S14: =IF(K14="Primera Línea","Bajo Aseguramiento",IF(R14<0.9," ",IF(R14<3,"Bajo Aseguramiento",IF(R14<4,"Medio Aseguramiento","Alto Aseguramiento")))) -> Alto Aseguramiento | T14: =VLOOKUP(S14,Instructivo!$G$45:$P$48,2,0) -> La Oficina de Control Interno o quien haga sus veces confiará en los resultados del aseguramiento de la 2ª línea y basado en sus informes, auditará la efectividad de dicha función, evitando evaluar los controles de la 1ª línea. | U14: =IF(S14="Alto Aseguramiento","NA",Instructivo!$H$54) -> NA
B15: 9 | C15: Ingreso de activos | D15: Posibilidad de Afectación Reputacional por registro de ingreso de activos inadecuado o inoportuno en el sistema de información debido a falencias en los procesos humanos, tecnológicos o de información relacionados | E15: Moderado | F15: Profesional Especializado III | G15: GIT Aseguramiento y Control de la Información | H15: X | I15: X | J15: X | K15: =IF(COUNTIF(H15:J15,"X")=3,"Segunda Línea",IF(COUNTIF(H15:J15,"X")=2,"Primera Línea",IF(COUNTIF(H15:J15,"X")=1,"Primera Línea",))) -> Segunda Línea | L15: Verificación pertinencia de documentos soportes de ingreso de activos | M15: El funcionario delegado del GIT de Aseguramiento y Control de la Información revisa y verifica los documentos que soportan la materialización o no de los activos con base en las evidencias y anexos requeridos validando que éstos estén completos y cumplan las características establecidas en el numeral 8 del procedimiento de registro de activos,. En caso de evidenciarse alguna inconsistencia con la información se solicita al responsable subsanar las inconsistencias. | N15: 5 | O15: 5 | P15: 5 | Q15: 5 | R15: =N15*20%+O15*30%+P15*30%+Q15*20% -> 5 | S15: =IF(K15="Primera Línea","Bajo Aseguramiento",IF(R15<0.9," ",IF(R15<3,"Bajo Aseguramiento",IF(R15<4,"Medio Aseguramiento","Alto Aseguramiento")))) -> Alto Aseguramiento | T15: =VLOOKUP(S15,Instructivo!$G$45:$P$48,2,0) -> La Oficina de Control Interno o quien haga sus veces confiará en los resultados del aseguramiento de la 2ª línea y basado en sus informes, auditará la efectividad de dicha función, evitando evaluar los controles de la 1ª línea. | U15: =IF(S15="Alto Aseguramiento","NA",Instructivo!$H$54) -> NA
B16: 10 | C16: Administración del registro de Depositarios Provisionales y Liquidadores del FRISCO | D16: Posibilidad de Afectación Económica y Reputacional por depositarios Provisionales y/o Liquidadores incorporados en el Registro con características erróneas debido a falencias en los controles de evaluación de la Convocatoria de Registro de Depositarios y Liquidadores | E16: Alto | F16: Profesional Especializado III | G16: GIT de Gestión de Depositarios y Liquidadores Comité de Depositarios Provisionales, Mandatarios y Liquidadores | H16: X | I16: X | K16: =IF(COUNTIF(H16:J16,"X")=3,"Segunda Línea",IF(COUNTIF(H16:J16,"X")=2,"Primera Línea",IF(COUNTIF(H16:J16,"X")=1,"Primera Línea",))) -> Primera Línea | R16: =N16*20%+O16*30%+P16*30%+Q16*20% -> 0 | S16: =IF(K16="Primera Línea","Bajo Aseguramiento",IF(R16<0.9," ",IF(R16<3,"Bajo Aseguramiento",IF(R16<4,"Medio Aseguramiento","Alto Aseguramiento")))) -> Bajo Aseguramiento | T16: =VLOOKUP(S16,Instructivo!$G$45:$P$48,2,0) -> La Oficina de Control Interno o quien haga sus veces deberá auditar y generar recomendaciones a la función de aseguramiento para su mejora y evaluará los controles de 1ª línea. | U16: =IF(S16="Alto Aseguramiento","NA",Instructivo!$H$54) -> Priorizar en su Plan Anual de Auditoría
B17: 11 | C17: Diagnóstico de Activos | D17: Posibilidad de Afectación Económica y Reputacional por fallas en la identificación del estado físico, de ocupación, y de productividad de los activos debido a información, conocimiento y capacidad operativa insuficiente. | E17: Bajo | F17: Gerentes Regionales Gerente Sociedades Activas Gerente Sociedades en Liquidación Profesional Especializado III Gerente de Bienes Muebles | G17: Gerencias Regionales Gerencia Sociedades Activas Gerencia Sociedades en Liquidación GIT. Aseguramiento y Control de la Información Gerencia de Bienes Muebles | H17: X | I17: X | K17: =IF(COUNTIF(H17:J17,"X")=3,"Segunda Línea",IF(COUNTIF(H17:J17,"X")=2,"Primera Línea",IF(COUNTIF(H17:J17,"X")=1,"Primera Línea",))) -> Primera Línea | R17: =N17*20%+O17*30%+P17*30%+Q17*20% -> 0 | S17: =IF(K17="Primera Línea","Bajo Aseguramiento",IF(R17<0.9," ",IF(R17<3,"Bajo Aseguramiento",IF(R17<4,"Medio Aseguramiento","Alto Aseguramiento")))) -> Bajo Aseguramiento | T17: =VLOOKUP(S17,Instructivo!$G$45:$P$48,2,0) -> La Oficina de Control Interno o quien haga sus veces deberá auditar y generar recomendaciones a la función de aseguramiento para su mejora y evaluará los controles de 1ª línea. | U17: =IF(S17="Alto Aseguramiento","NA",Instructivo!$H$54) -> Priorizar en su Plan Anual de Auditoría
B18: 12 | C18: Alistamiento de activos | D18: Posibilidad de Afectación Económica y Reputacional por alistamiento inadecuado y/o inoportuno de activos debido a insuficiente información, recursos, condiciones de entorno, y/o coordinación interinstitucional. | E18: Bajo | F18: Gerente Técnico Gerente Asuntos Legales Gerentes Regionales Gerente Sociedades Activas Gerente Sociedades en Liquidación Gerente de Bienes Muebles Gerente Comercial (secretario Técnico del Comité de Negocios nivel central) Profesional Especializado III (secretario técnico comite regionales) | G18: Gerencia Técnica Gerencia de Asuntos Legales Gerencias Regionales Gerencia Sociedades Activas Gerencia Sociedades en Liquidación Gerencia de Bienes Muebles Gerencia Comercial | H18: X | I18: X | J18: X | K18: =IF(COUNTIF(H18:J18,"X")=3,"Segunda Línea",IF(COUNTIF(H18:J18,"X")=2,"Primera Línea",IF(COUNTIF(H18:J18,"X")=1,"Primera Línea",))) -> Segunda Línea | L18: Validación de alistamiento de activos para comercialización | M18: El secretario técnico de los Comités de Negocios nivel central y regionales analizan previamente los casos presentados por el solicitante para comercialización, a fin de validar que cumplan con los requisitos exigibles, incluido el alistamiento completo del activo. En caso de evidenciarse que el activo no es viable para comercialización por su inadeacuado o incompleto alistamiento, no se incluye dentro de la presentación al Comité de Negocios. | N18: 5 | O18: 5 | P18: 5 | Q18: 5 | R18: =N18*20%+O18*30%+P18*30%+Q18*20% -> 5 | S18: =IF(K18="Primera Línea","Bajo Aseguramiento",IF(R18<0.9," ",IF(R18<3,"Bajo Aseguramiento",IF(R18<4,"Medio Aseguramiento","Alto Aseguramiento")))) -> Alto Aseguramiento | T18: =VLOOKUP(S18,Instructivo!$G$45:$P$48,2,0) -> La Oficina de Control Interno o quien haga sus veces confiará en los resultados del aseguramiento de la 2ª línea y basado en sus informes, auditará la efectividad de dicha función, evitando evaluar los controles de la 1ª línea. | U18: =IF(S18="Alto Aseguramiento","NA",Instructivo!$H$54) -> NA
B19: 13 | C19: Administración directa | D19: Posibilidad de Afectación Económica y Reputacional por solicitar la judicialización de un contrato de arrendamiento, cuando no es procedente debido a falencias en los controles de seguimiento al estado de la cartera y/o procesos jurídicos sobre los activos | E19: Extremo | F19: Gerentes Regionales Gerencia Financiera | G19: Gerencias Regionales Gerencia Financiera | H19: X | I19: X | J19: X | K19: =IF(COUNTIF(H19:J19,"X")=3,"Segunda Línea",IF(COUNTIF(H19:J19,"X")=2,"Primera Línea",IF(COUNTIF(H19:J19,"X")=1,"Primera Línea",))) -> Segunda Línea | L19: Seguimiento casos cartera | M19: Realizar mesas de trabajo con la Gerencias Regionales ejerciendo seguimientos a los casos relacionados con la cartera, con el fin de mantener saldos reales y conciliados. Atributo tomado del ROCEDIMIENTO RECUPERACIÓN Y ADMINISTRACION DE CARTERA DE BIENE P-DT1-019 Versión 6 – 29/03/2023 | N19: 5 | O19: 5 | P19: 5 | Q19: 5 | R19: =N19*20%+O19*30%+P19*30%+Q19*20% -> 5 | S19: =IF(K19="Primera Línea","Bajo Aseguramiento",IF(R19<0.9," ",IF(R19<3,"Bajo Aseguramiento",IF(R19<4,"Medio Aseguramiento","Alto Aseguramiento")))) -> Alto Aseguramiento | T19: =VLOOKUP(S19,Instructivo!$G$45:$P$48,2,0) -> La Oficina de Control Interno o quien haga sus veces confiará en los resultados del aseguramiento de la 2ª línea y basado en sus informes, auditará la efectividad de dicha función, evitando evaluar los controles de la 1ª línea. | U19: =IF(S19="Alto Aseguramiento","NA",Instructivo!$H$54) -> NA
B20: 14 | C20: Administración de depositos provisionales | D20: Posibilidad de Afectación Económica y Reputacional por que las entidades de registro no realicen las inscripciones ordenadas por la entidad en virtud de su función como administrador debido a desconocimiento, interpretación errónea y seguimiento al registro de anotaciones | E20: Alto | F20: Gerente de Bienes Inmuebles Urbanos Gerente de Bienes Inmuebles Rurales Gerente de Bienes Muebles Gerentes Regionales Gererente Sociedades Activas Gerente Sociedades en Liquidación | G20: GBI. Urbanos GBI. Rurales GB. Muebles G. Regionales G. Sociedades Activas G. Sociedades en Liquidación | H20: X | I20: X | K20: =IF(COUNTIF(H20:J20,"X")=3,"Segunda Línea",IF(COUNTIF(H20:J20,"X")=2,"Primera Línea",IF(COUNTIF(H20:J20,"X")=1,"Primera Línea",))) -> Primera Línea | R20: =N20*20%+O20*30%+P20*30%+Q20*20% -> 0 | S20: =IF(K20="Primera Línea","Bajo Aseguramiento",IF(R20<0.9," ",IF(R20<3,"Bajo Aseguramiento",IF(R20<4,"Medio Aseguramiento","Alto Aseguramiento")))) -> Bajo Aseguramiento | T20: =VLOOKUP(S20,Instructivo!$G$45:$P$48,2,0) -> La Oficina de Control Interno o quien haga sus veces deberá auditar y generar recomendaciones a la función de aseguramiento para su mejora y evaluará los controles de 1ª línea. | U20: =IF(S20="Alto Aseguramiento","NA",Instructivo!$H$54) -> Priorizar en su Plan Anual de Auditoría
B21: 15 | C21: Administración de destinación provisional | D21: Posibilidad de Afectación Económica y Reputacional por incumplimiento de las obligaciones de los destinatarios debido a fallas en la supervisión de SAE y/o desconocimiento por parte del referido destinatario | E21: Bajo | F21: GIT de Gestión de Depositarios y Liquidadores (Secretario Técnico de Comité de Depositarios Provisionales, Mandatarios y Liquidadores) | G21: Comité de Depositarios Provisionales, Mandatarios y Liquidadores | H21: X | I21: X | J21: X | K21: =IF(COUNTIF(H21:J21,"X")=3,"Segunda Línea",IF(COUNTIF(H21:J21,"X")=2,"Primera Línea",IF(COUNTIF(H21:J21,"X")=1,"Primera Línea",))) -> Segunda Línea | L21: Verificación de Incumplimientos por Destinatarios en Comité de Depositarios | M21: El Comité de Depositarios, Mandatarios y Liquidadores verifican los casos y justificaciones de remoción o retiro de destinatarios de acuerdo con supervisión realizada al cumplimiento de sus obligaciones y soportes brindados, con el fin de determinar si procede o no el incumplimiento y remoción de destinatarios. En caso de determinarse incumplimiento se procederá a proyectar el acto administrativo de remoción respectivo. | N21: 5 | O21: 5 | P21: 5 | Q21: 5 | R21: =N21*20%+O21*30%+P21*30%+Q21*20% -> 5 | S21: =IF(K21="Primera Línea","Bajo Aseguramiento",IF(R21<0.9," ",IF(R21<3,"Bajo Aseguramiento",IF(R21<4,"Medio Aseguramiento","Alto Aseguramiento")))) -> Alto Aseguramiento | T21: =VLOOKUP(S21,Instructivo!$G$45:$P$48,2,0) -> La Oficina de Control Interno o quien haga sus veces confiará en los resultados del aseguramiento de la 2ª línea y basado en sus informes, auditará la efectividad de dicha función, evitando evaluar los controles de la 1ª línea. | U21: =IF(S21="Alto Aseguramiento","NA",Instructivo!$H$54) -> NA
B22: 16 | C22: Comercialización de activos | D22: Posibilidad de Afectación Económica por gestionar de manera tardía la comercialización, chatarrización, daciones en pagos de activos y liquidación de sociedades debido a los requisitos existentes y la dependencia de terceros dentro del proceso | E22: Alto | F22: Gerente de Bienes Inmuebles Urbanos Gerente de Bienes Inmuebles Rurales Gerente de Bienes Muebles Gerentes Regionales Gererente Sociedades Activas Gerente Sociedades en Liquidación | G22: GBI. Urbanos GBI. Rurales GB. Muebles G. Regionales G. Sociedades Activas G. Sociedades en Liquidación | H22: X | I22: X | K22: =IF(COUNTIF(H22:J22,"X")=3,"Segunda Línea",IF(COUNTIF(H22:J22,"X")=2,"Primera Línea",IF(COUNTIF(H22:J22,"X")=1,"Primera Línea",))) -> Primera Línea | R22: =N22*20%+O22*30%+P22*30%+Q22*20% -> 0 | S22: =IF(K22="Primera Línea","Bajo Aseguramiento",IF(R22<0.9," ",IF(R22<3,"Bajo Aseguramiento",IF(R22<4,"Medio Aseguramiento","Alto Aseguramiento")))) -> Bajo Aseguramiento | T22: =VLOOKUP(S22,Instructivo!$G$45:$P$48,2,0) -> La Oficina de Control Interno o quien haga sus veces deberá auditar y generar recomendaciones a la función de aseguramiento para su mejora y evaluará los controles de 1ª línea. | U22: =IF(S22="Alto Aseguramiento","NA",Instructivo!$H$54) -> Priorizar en su Plan Anual de Auditoría
B23: 17 | C23: Otras modalidades de disposición final | D23: Posibilidad de Afectación Económica y Reputacional por gestionar de manera tardía la destrucción de activos debido a la complejidad normativa que limita a los prestadores de servicio y los altos costos administrativos y operacionales | E23: Alto | F23: Gerente de Bienes Muebles Gerentes Regionales Gererente Sociedades Activas Gerente Sociedades en Liquidación Secretario Técnico del Comité | G23: GB. Muebles G. Regionales G. Sociedades Activas G. Sociedades en Liquidación Comité Técnico de Bienes Muebles e lnmuebles | H23: X | I23: X | J23: X | K23: =IF(COUNTIF(H23:J23,"X")=3,"Segunda Línea",IF(COUNTIF(H23:J23,"X")=2,"Primera Línea",IF(COUNTIF(H23:J23,"X")=1,"Primera Línea",))) -> Segunda Línea | L23: Verificación de casos para disposición final | M23: El comité técnico aprueba la disposición final de los bienes, para esto, deben verificar los documentos presentados y en caso de no cumplir los requisitos devuelven la solicitud al área para subsanación. El atributo se encuentra en el PROCEDIMIENTO DESTRUCCIÓN DE MUEBLES, P-DF2-182 Versión 1 - 07/05/2019 | N23: 5 | O23: 3 | P23: 5 | Q23: 5 | R23: =N23*20%+O23*30%+P23*30%+Q23*20% -> 4.4 | S23: =IF(K23="Primera Línea","Bajo Aseguramiento",IF(R23<0.9," ",IF(R23<3,"Bajo Aseguramiento",IF(R23<4,"Medio Aseguramiento","Alto Aseguramiento")))) -> Alto Aseguramiento | T23: =VLOOKUP(S23,Instructivo!$G$45:$P$48,2,0) -> La Oficina de Control Interno o quien haga sus veces confiará en los resultados del aseguramiento de la 2ª línea y basado en sus informes, auditará la efectividad de dicha función, evitando evaluar los controles de la 1ª línea. | U23: =IF(S23="Alto Aseguramiento","NA",Instructivo!$H$54) -> NA
B24: 18 | C24: Planeación contractual | D24: N/A | E24: N/A | F24: Gerente de Contratación (Secretario Técnico de Comité de Contratos) | G24: Comité de Contratos | H24: X | I24: X | J24: X | K24: =IF(COUNTIF(H24:J24,"X")=3,"Segunda Línea",IF(COUNTIF(H24:J24,"X")=2,"Primera Línea",IF(COUNTIF(H24:J24,"X")=1,"Primera Línea",))) -> Segunda Línea | L24: Aprobación de Plan Anual de Adquisiciones | M24: El Comité de Contratos valida y aprueba o rechaza el Plan Anual de Adquisiciones y sus modificaciones cuando estas se refieran a lineas nuevas o a adiciones en valor a las aprobadas. En caso de rechazarse alguna linea de contratación, se informará al área solicitante. | N24: 5 | O24: 5 | P24: 5 | Q24: 5 | R24: =N24*20%+O24*30%+P24*30%+Q24*20% -> 5 | S24: =IF(K24="Primera Línea","Bajo Aseguramiento",IF(R24<0.9," ",IF(R24<3,"Bajo Aseguramiento",IF(R24<4,"Medio Aseguramiento","Alto Aseguramiento")))) -> Alto Aseguramiento | T24: =VLOOKUP(S24,Instructivo!$G$45:$P$48,2,0) -> La Oficina de Control Interno o quien haga sus veces confiará en los resultados del aseguramiento de la 2ª línea y basado en sus informes, auditará la efectividad de dicha función, evitando evaluar los controles de la 1ª línea. | U24: =IF(S24="Alto Aseguramiento","NA",Instructivo!$H$54) -> NA
B25: 19 | C25: Contratación | D25: Posibilidad de Afectación Económica y Reputacional por no contar con proveedores idóneos disponibles para satisfacer las necesidades de servicio debido a Un inadecuado proceso de selección y/o seguimiento a los mismos | E25: Moderado | F25: Gerente de Contratación (Secretario Técnico de Comité de Contratos) | G25: Comité de Contratos | H25: X | I25: X | J25: X | K25: =IF(COUNTIF(H25:J25,"X")=3,"Segunda Línea",IF(COUNTIF(H25:J25,"X")=2,"Primera Línea",IF(COUNTIF(H25:J25,"X")=1,"Primera Línea",))) -> Segunda Línea | L25: Revisión de informe de evaluación preliminar o definitivo de potenciales proveedores por Comité de Contratos | M25: El Comité de Contratos, con secretaría técnica de la Gerencia de Contratos, realiza la verificación del informe preliminar o definitivo realizado por el área técnica, financiera y de contratos a fin de determinar si se aprueba o si requiere ajustes. En caso de requerir ajustes, lo devuelve a las áreas competentes de realizar el proceso de evaluación para efectuar las correcciones a las que haya lugar. | N25: 5 | O25: 3 | P25: 5 | Q25: 5 | R25: =N25*20%+O25*30%+P25*30%+Q25*20% -> 4.4 | S25: =IF(K25="Primera Línea","Bajo Aseguramiento",IF(R25<0.9," ",IF(R25<3,"Bajo Aseguramiento",IF(R25<4,"Medio Aseguramiento","Alto Aseguramiento")))) -> Alto Aseguramiento | T25: =VLOOKUP(S25,Instructivo!$G$45:$P$48,2,0) -> La Oficina de Control Interno o quien haga sus veces confiará en los resultados del aseguramiento de la 2ª línea y basado en sus informes, auditará la efectividad de dicha función, evitando evaluar los controles de la 1ª línea. | U25: =IF(S25="Alto Aseguramiento","NA",Instructivo!$H$54) -> NA
B26: 20 | C26: Supervisión y liquidación | D26: Posibilidad de Afectación Económica y Reputacional por inadecuada supervisión o interventoría de contratos debido a desconocimiento de los lineamientos y herramientas de la supervisión | E26: Bajo | F26: Supervisores de Contratos Gerente de Contratos Gerente Financiero | G26: Áreas con supervisión de contratos Gerencia de Contratos Gerencia Financiera | H26: X | I26: X | J26: X | K26: =IF(COUNTIF(H26:J26,"X")=3,"Segunda Línea",IF(COUNTIF(H26:J26,"X")=2,"Primera Línea",IF(COUNTIF(H26:J26,"X")=1,"Primera Línea",))) -> Segunda Línea | L26: Verificación de supervisores delegados | M26: El Gerente de Contratos o profesional delegado verifica que los supervisores de cada contrato sean solo del nivel directivo (Vicepresidentes, Gerentes y Jefes de Oficina) o personal designado por estos, de nivel profesional especializado 2 o 3 que dentro de sus funciones esté contemplado la supervisión, a fin de garantizar la idoneidad del ejercicio de la labor de supervisión. En caso de no cumplirse con los requisitos, se devuelve el documento donde se delega al supervisor. | N26: 5 | O26: 5 | P26: 5 | Q26: 5 | R26: =N26*20%+O26*30%+P26*30%+Q26*20% -> 5 | S26: =IF(K26="Primera Línea","Bajo Aseguramiento",IF(R26<0.9," ",IF(R26<3,"Bajo Aseguramiento",IF(R26<4,"Medio Aseguramiento","Alto Aseguramiento")))) -> Alto Aseguramiento | T26: =VLOOKUP(S26,Instructivo!$G$45:$P$48,2,0) -> La Oficina de Control Interno o quien haga sus veces confiará en los resultados del aseguramiento de la 2ª línea y basado en sus informes, auditará la efectividad de dicha función, evitando evaluar los controles de la 1ª línea. | U26: =IF(S26="Alto Aseguramiento","NA",Instructivo!$H$54) -> NA
B27: 21 | C27: Gestión Administrativa | D27: Posibilidad de Afectación Operacional por daños a personas, recursos físicos o tecnológicos de la SAE debido a eventos sociales de desorden público o terrorismo | E27: Moderado | F27: Gerente de Talento Humano Profesional Especializado III Comité paritario de seguridad y salud en el trabajo | G27: Gerencia de Talento Humano GIT. Servicios Administrativos Comité paritario de seguridad y salud en el trabajo | H27: X | I27: X | J27: X | K27: =IF(COUNTIF(H27:J27,"X")=3,"Segunda Línea",IF(COUNTIF(H27:J27,"X")=2,"Primera Línea",IF(COUNTIF(H27:J27,"X")=1,"Primera Línea",))) -> Segunda Línea | L27: Verificación del COPASST | M27: Visitar periódicamente los lugares de trabajo e inspeccionar los ambientes de la empresa e informar al empleador sobre la existencia de factores de riesgo y sugerir las medidas preventivas y correctivas. | N27: 5 | O27: 5 | P27: 5 | Q27: 5 | R27: =N27*20%+O27*30%+P27*30%+Q27*20% -> 5 | S27: =IF(K27="Primera Línea","Bajo Aseguramiento",IF(R27<0.9," ",IF(R27<3,"Bajo Aseguramiento",IF(R27<4,"Medio Aseguramiento","Alto Aseguramiento")))) -> Alto Aseguramiento | T27: =VLOOKUP(S27,Instructivo!$G$45:$P$48,2,0) -> La Oficina de Control Interno o quien haga sus veces confiará en los resultados del aseguramiento de la 2ª línea y basado en sus informes, auditará la efectividad de dicha función, evitando evaluar los controles de la 1ª línea. | U27: =IF(S27="Alto Aseguramiento","NA",Instructivo!$H$54) -> NA
B28: 22 | C28: Administración de Activos Fijos y Bienes de Consumo | D28: Posibilidad de Afectación Económica por no identificar correctamente los activos fijos que administra la Entidad debido a la falta de actualización y verificación de estos elementos | E28: Bajo | F28: Profesional Especializado III | G28: GIT. Servicios Administrativos | H28: X | I28: X | K28: =IF(COUNTIF(H28:J28,"X")=3,"Segunda Línea",IF(COUNTIF(H28:J28,"X")=2,"Primera Línea",IF(COUNTIF(H28:J28,"X")=1,"Primera Línea",))) -> Primera Línea | S28: =IF(K28="Primera Línea","Bajo Aseguramiento",IF(R28<0.9," ",IF(R28<3,"Bajo Aseguramiento",IF(R28<4,"Medio Aseguramiento","Alto Aseguramiento")))) -> Bajo Aseguramiento | T28: =VLOOKUP(S28,Instructivo!$G$45:$P$48,2,0) -> La Oficina de Control Interno o quien haga sus veces deberá auditar y generar recomendaciones a la función de aseguramiento para su mejora y evaluará los controles de 1ª línea. | U28: =IF(S28="Alto Aseguramiento","NA",Instructivo!$H$54) -> Priorizar en su Plan Anual de Auditoría
B29: 23 | C29: Administración Programa de Seguros y Siniestros | D29: Posibilidad de Afectación Económica y Reputacional por inadecuado trámite y manejo en las reclamaciones de siniestros debido a que las áreas desconozcan el procedimiento o no entreguen la información necesaria para la formalización del reporte del siniestro | E29: Bajo | F29: Profesional Especializado III | G29: GIT. Servicios Administrativos | H29: X | I29: X | K29: =IF(COUNTIF(H29:J29,"X")=3,"Segunda Línea",IF(COUNTIF(H29:J29,"X")=2,"Primera Línea",IF(COUNTIF(H29:J29,"X")=1,"Primera Línea",))) -> Primera Línea | S29: =IF(K29="Primera Línea","Bajo Aseguramiento",IF(R29<0.9," ",IF(R29<3,"Bajo Aseguramiento",IF(R29<4,"Medio Aseguramiento","Alto Aseguramiento")))) -> Bajo Aseguramiento | T29: =VLOOKUP(S29,Instructivo!$G$45:$P$48,2,0) -> La Oficina de Control Interno o quien haga sus veces deberá auditar y generar recomendaciones a la función de aseguramiento para su mejora y evaluará los controles de 1ª línea. | U29: =IF(S29="Alto Aseguramiento","NA",Instructivo!$H$54) -> Priorizar en su Plan Anual de Auditoría
B30: 24 | C30: Gestión y Trámite documental | D30: Posibilidad de Afectación Económica y Reputacional por inadecuada distribución de correspondencia al área para gestionar trámites debido a falencias en la identificación de descriptores y parametrización de correspondencia. | E30: Bajo | F30: Profesional Especializado I | G30: GIT Archivo y Correspondencia Oficina de Gestión de la Información | H30: X | I30: X | K30: =IF(COUNTIF(H30:J30,"X")=3,"Segunda Línea",IF(COUNTIF(H30:J30,"X")=2,"Primera Línea",IF(COUNTIF(H30:J30,"X")=1,"Primera Línea",))) -> Primera Línea | R30: =N30*20%+O30*30%+P30*30%+Q30*20% -> 0 | S30: =IF(K30="Primera Línea","Bajo Aseguramiento",IF(R30<0.9," ",IF(R30<3,"Bajo Aseguramiento",IF(R30<4,"Medio Aseguramiento","Alto Aseguramiento")))) -> Bajo Aseguramiento | T30: =VLOOKUP(S30,Instructivo!$G$45:$P$48,2,0) -> La Oficina de Control Interno o quien haga sus veces deberá auditar y generar recomendaciones a la función de aseguramiento para su mejora y evaluará los controles de 1ª línea. | U30: =IF(S30="Alto Aseguramiento","NA",Instructivo!$H$54) -> Priorizar en su Plan Anual de Auditoría
B31: 25 | C31: Proceso de organización y transferencia | D31: Posibilidad de Afectación Reputacional por inserción de piezas documentales en expedientes que no corresponden debido a desconocimiento técnico y/o falencias en los controles del proceso | E31: Bajo | F31: Profesional Especializado I | G31: GIT Archivo y Correspondencia | H31: X | I31: X | J31: X | K31: =IF(COUNTIF(H31:J31,"X")=3,"Segunda Línea",IF(COUNTIF(H31:J31,"X")=2,"Primera Línea",IF(COUNTIF(H31:J31,"X")=1,"Primera Línea",))) -> Segunda Línea | L31: Verificación aleatoria de expedientes | M31: El técnico o profesional delegado del GIT de Archivo y Correspondencia -GITAC verifica de manera aleatoria los expedientes electrónicos creados por las áreas en el gestor documental o de manera física validando la clasificación del documento en la TRD establecida. En caso de no cumplir con los requisitos exigibles, el funcionario del GITAC procede a devolver los documentos o expedientes a las áreas para su respectiva corrección | N31: 5 | O31: 5 | P31: 5 | Q31: 5 | R31: =N31*20%+O31*30%+P31*30%+Q31*20% -> 5 | S31: =IF(K31="Primera Línea","Bajo Aseguramiento",IF(R31<0.9," ",IF(R31<3,"Bajo Aseguramiento",IF(R31<4,"Medio Aseguramiento","Alto Aseguramiento")))) -> Alto Aseguramiento | T31: =VLOOKUP(S31,Instructivo!$G$45:$P$48,2,0) -> La Oficina de Control Interno o quien haga sus veces confiará en los resultados del aseguramiento de la 2ª línea y basado en sus informes, auditará la efectividad de dicha función, evitando evaluar los controles de la 1ª línea. | U31: =IF(S31="Alto Aseguramiento","NA",Instructivo!$H$54) -> NA
B32: 26 | C32: Proceso de preservación y disposición final | D32: Posibilidad de Afectación Operacional por destrucción o pérdida de información física debido a centralización de información física sin respaldo tecnológico o condiciones de seguridad requeridas | E32: Moderado | F32: Vicepresidente Administrativo y Financiera (Lider del proceso) | G32: Comité Directivo | H32: X | I32: X | J32: X | K32: =IF(COUNTIF(H32:J32,"X")=3,"Segunda Línea",IF(COUNTIF(H32:J32,"X")=2,"Primera Línea",IF(COUNTIF(H32:J32,"X")=1,"Primera Línea",))) -> Segunda Línea | L32: Autorización de destrucción o disposición final de archivos | M32: El Comité Directivo revisa y aprueba o rechaza las solicitudes de destrucción o disposición final de archivos validando que se cumplan los criterios para su eliminación. En caso de rechazarse las solicitudes se informará durante el respectivo comité. | N32: 2 | O32: 2 | P32: 2 | Q32: 2 | R32: =N32*20%+O32*30%+P32*30%+Q32*20% -> 2 | S32: =IF(K32="Primera Línea","Bajo Aseguramiento",IF(R32<0.9," ",IF(R32<3,"Bajo Aseguramiento",IF(R32<4,"Medio Aseguramiento","Alto Aseguramiento")))) -> Bajo Aseguramiento | T32: =VLOOKUP(S32,Instructivo!$G$45:$P$48,2,0) -> La Oficina de Control Interno o quien haga sus veces deberá auditar y generar recomendaciones a la función de aseguramiento para su mejora y evaluará los controles de 1ª línea. | U32: =IF(S32="Alto Aseguramiento","NA",Instructivo!$H$54) -> Priorizar en su Plan Anual de Auditoría
B33: 27 | C33: Defensa judicial | D33: Posibilidad de Afectación Económica por el incremento del valor que se debe pagar por concepto de sentencias ejecutoriadas, conciliaciones o laudos arbitrales debido a demoras en su liquidación y pago | E33: Alto | F33: Gerente de Asuntos Legales | G33: Gerencia Asuntos Legales | H33: X | I33: X | K33: =IF(COUNTIF(H33:J33,"X")=3,"Segunda Línea",IF(COUNTIF(H33:J33,"X")=2,"Primera Línea",IF(COUNTIF(H33:J33,"X")=1,"Primera Línea",))) -> Primera Línea | R33: =N33*20%+O33*30%+P33*30%+Q33*20% -> 0 | S33: =IF(K33="Primera Línea","Bajo Aseguramiento",IF(R33<0.9," ",IF(R33<3,"Bajo Aseguramiento",IF(R33<4,"Medio Aseguramiento","Alto Aseguramiento")))) -> Bajo Aseguramiento | T33: =VLOOKUP(S33,Instructivo!$G$45:$P$48,2,0) -> La Oficina de Control Interno o quien haga sus veces deberá auditar y generar recomendaciones a la función de aseguramiento para su mejora y evaluará los controles de 1ª línea. | U33: =IF(S33="Alto Aseguramiento","NA",Instructivo!$H$54) -> Priorizar en su Plan Anual de Auditoría
B34: 28 | C34: Orientación jurídica | D34: Posibilidad de Afectación Económica y Reputacional por expedición errada de actos administrativos de devolución, destinación, venta u otro debido a errores humanos en la operación, desconocimiento y/o interpretación errada de lineamientos y regulación normativa por parte de los colaboradores | E34: Moderado | F34: Vicepresidente Jurídico Gerente de Asuntos Legales | G34: Vicepresidencia Jurídica Gerencia Asuntos Legales | H34: X | I34: X | J34: X | K34: =IF(COUNTIF(H34:J34,"X")=3,"Segunda Línea",IF(COUNTIF(H34:J34,"X")=2,"Primera Línea",IF(COUNTIF(H34:J34,"X")=1,"Primera Línea",))) -> Segunda Línea | L34: Revisión de Actos Administrativos a nivel directivo | M34: El Vicepresidente Jurídico verifica que el proyecto de acto administrativo revisado por parte del personal designado tenga las observaciones subsanadas, cumpla la normatividad vigente, su contenido técnico sea claro y tenga el visto bueno del abogado que revisa el acto administrativo a fin de proceder a su aprobación. De lo contrario devuelve el proyecto de acto administrativo para sus ajustes con los hallazgos de inconformidad al área encargada de su elaboración. | N34: 5 | O34: 5 | P34: 5 | Q34: 5 | R34: =N34*20%+O34*30%+P34*30%+Q34*20% -> 5 | S34: =IF(K34="Primera Línea","Bajo Aseguramiento",IF(R34<0.9," ",IF(R34<3,"Bajo Aseguramiento",IF(R34<4,"Medio Aseguramiento","Alto Aseguramiento")))) -> Alto Aseguramiento | T34: =VLOOKUP(S34,Instructivo!$G$45:$P$48,2,0) -> La Oficina de Control Interno o quien haga sus veces confiará en los resultados del aseguramiento de la 2ª línea y basado en sus informes, auditará la efectividad de dicha función, evitando evaluar los controles de la 1ª línea. | U34: =IF(S34="Alto Aseguramiento","NA",Instructivo!$H$54) -> NA
