Workbook
Name Dimensión: Datos!$B$11:$B$15
Name Iniciativas_Objetivo1: Tabla6[Iniciativas_Objetivo1]
Name Iniciativas_Objetivo10: Datos!$M$11:$M$11
Name Iniciativas_Objetivo11: Datos!$N$11:$N$11
Name Iniciativas_Objetivo12: Datos!$O$11:$O$12
Name Iniciativas_Objetivo13: Datos!$P$11:$P$11
Name Iniciativas_Objetivo2: Tabla7[Iniciativas_Objetivo2]
Name Iniciativas_Objetivo3: Tabla3[Iniciativas_Objetivo3]
Name Iniciativas_Objetivo4: Tabla4[Iniciativas_Objetivo4]
Name Iniciativas_Objetivo5: Tabla5[Iniciativas_Objetivo5]
Name Iniciativas_Objetivo6: Datos!$I$11:$I$12
Name Iniciativas_Objetivo7: Datos!$J$11:$J$11
Name Iniciativas_Objetivo8: Datos!$K$11:$K$13
Name Iniciativas_Objetivo9: Datos!$L$11:$L$14
Name Objetivos_Estratégicos: Datos!$C$11:$C$23

Sheet Instructivo
D1: FORMATO MEDICIÓN DE PLAN DE ACCIÓN INSTITUCIONAL PROCESO GOBIERNO Y GESTIÓN DE LA ESTRATEGIA MACROPROCESO DIRECCIONAMIENTO ESTRATÉGICO | K1: Código: F-DE2-301 Versión No.: 03 Vigencia desde: 29 – 03- 2023
A4: INSTRUCTIVO MEDICIÓN DE PLAN DE ACCIÓN INSTITUCIONAL (PAI)
A6: Pestaña "PAI"
A8: Campo | C8: Conceptualización o explicación del campo | K8: Instrucción de diligenciamiento
A9: Dimensión | C9: Las dimensiones del plan de acción corresponden a categorías estratégicas necesarias para el funcionamiento de la estrategia y modelo de operación de SAE para lograr un equilibrio entre los objetivos estratégicos de esta. Estas dimensiones parten de las perspectivas del Balanced Scorecard (BSC) o Cuadro de Mando Integral, herramienta aplicada en entidades públicas, empresas mixtas y privadas para medir su estrategia. Las dimensiones que se contemplan y adoptan en el PAI de la SAE corresponden a: Dimensión productiva, social y ambiental: dimensión creada por la SAE para exaltar sus objetivos estratégicos y compromiso en los ámbitos productivos, sociales y ambientales asociados a su misionalidad y que contribuyen al cumplimiento del Plan Nacional de Desarrollo, al desarrollo territorial de Colombia y a la Paz Total. Esta dimensión favorece a población constitucionalmente protegida, organizaciones sociales y populares (Campesinas y urbanas), cooperativas, asociaciones y organizaciones comunales (ambientales y de mujeres), sujetos de reforma agraria, entre otros grupos de interés priorizados por la SAE. Algunas temáticas que se contemplan en esta dimensión se asocian a la justicia social; la contribución a la reforma agraria; al desarrollo territorial; a la implementación de proyectos estratégicos con enfoque productivo, social y ambiental que permitan la creación de valor; a garantizar la inclusión de comunidades, organizaciones sociales y economías populares en condición de vulnerabilidad en los mecanismos de administración existentes; entre otros. Dimensión financiera: dimensión que contempla todos los objetivos estratégicos relacionados con el comportamiento financiero de SAE y que son objeto de interés de las entidades que reciben transferencias monetarias, la Junta Directiva de SAE, MinHacienda y de SAE como sociedad. Esta dimensión abarca temáticas como son los ingresos, fuentes de financiación, gastos, ahorros, rentabilidad, rendimientos financieros, utilidades, y en general todas los aspectos asociados al aspecto económico, financiero y presupuestal de SAE. Dimensión de grupos de interés: dimensión que considera los objetivos estratégicos que pretenden fortalecer la relación que tiene SAE con sus grupos de interés internos y externos, y satisfacer sus necesidades a partir de los servicios que presta en el marco de su misionalidad. En esta dimensión se contemplan temáticas como cobertura del servicio, accesibilidad, posicionamiento de marca, calidad y oportunidad del servicio, transparencia, valor público, nivel de satisfacción del cliente, entre otros factores que miden el relacionamiento con los grupos de interés. Dimensión de procesos: dimensión que aborda los objetivos estratégicos asociados al adecuado funcionamiento y mejora del modelo operacional por procesos de SAE en su nivel estratégico, misional, de apoyo y/o de seguimiento y evaluación. Abordar esta dimensión contribuye a la productividad de SAE y satisfacer partes interesadas como son la Junta Directiva, proveedores, clientes externos, entes de control y otros grupos de interés que reciben los servicios de SAE. Algunas temáticas que se pueden abordar desde esta dimensión corresponden a la medición de la eficiencia operacional, la automatización de los procesos, el fortalecimiento de procesos, procesos de innovación, desarrollo de nuevos servicios, la implementación de los sistemas integrados de gestión, tecnología, entre otros. Dimensión de aprendizaje y crecimiento: dimensión que incluye los objetivos estratégicos relacionados con el talento humano de SAE y las condiciones que brinda la entidad para su permanencia, crecimiento, desarrollo y bienestar, teniendo en cuenta que son el corazón y la base para ejecutar la estrategia y modelo operacional de SAE. Algunas temáticas que se contemplan en esta dimensión pueden estar asociadas a las competencias del talento humano, al ambiente laboral, la gestión del conocimiento, al desarrollo profesional, a la retención del talento humano, procesos de aprendizaje, entre otros. | K9: Este campo es netamente informativo y se diligencia al momento de la formulación del Plan de Acción Institucional en el formato F-DE2-118 Formato Plan de acción. Este campo no es objeto de modificación al realizar el seguimiento al plan de acción, por lo que si desea modificar su contenido deberá solicitarlo a la Oficina Asesora de Planeación en el campo de observaciones junto con la justificación del cambio.
A11: Objetivos estratégicos | C11: Corresponden a los propósitos o fines que SAE establece en el corto y mediano plazo, en el marco de su visión, misión y estrategia operacional. Estos objetivos se establecen por cada una de las dimensiones estratégicas y deben ser diseñados contemplando que éstos puedan ser medidos, que sean específicos, adecuados, realistas y oportunos de acuerdo con la metodología SMART (George T.Doran). Estos objetivos estratégicos corresponden a los establecidos en el plan estratégico institucional cuatrienal establecido al interior de la entidad. | K11: Este campo es netamente informativo y se diligencia al momento de la formulación del Plan de Acción Institucional en el formato F-DE2-118 Formato Plan de acción. Este campo no es objeto de modificación al realizar el seguimiento al plan de acción, por lo que si desea modificar su contenido deberá solicitarlo a la Oficina Asesora de Planeación en el campo de observaciones junto con la justificación del cambio.
A12: Iniciativas | C12: Corresponden a las tácticas o acciones de nivel táctico que permiten desarrollar y desagregar la estrategia u objetivos estratégicos en metas más pequeñas que permitan su ejecución en el corto plazo. Estas iniciativas o tácticas agrupan una o más actividades de nivel operativo relacionadas, que garantizan el cumplimiento de los objetivos y metas estratégicas de SAE. | K12: Este campo es netamente informativo y se diligencia al momento de la formulación del Plan de Acción Institucional en el formato F-DE2-118 Formato Plan de acción. Este campo no es objeto de modificación al realizar el seguimiento al plan de acción, por lo que si desea modificar su contenido deberá solicitarlo a la Oficina Asesora de Planeación en el campo de observaciones junto con la justificación del cambio.
A13: Acciones | C13: Corresponden a las actividades a realizar en la vigencia por parte de las áreas de SAE a fin de dar cumplimiento a las iniciativas y objetivos estratégicos que conforman la estrategia de SAE para cada periodo de administración. | K13: Este campo es netamente informativo y se diligencia al momento de la formulación del Plan de Acción Institucional en el formato F-DE2-118 Formato Plan de acción. Este campo no es objeto de modificación al realizar el seguimiento al plan de acción, por lo que si desea modificar su contenido deberá solicitarlo a la Oficina Asesora de Planeación en el campo de observaciones junto con la justificación del cambio.
A14: Macroproceso | C14: Es un conjunto de procesos que se relacionan entresí y que contribuyen a un objetivo común en el marco del modelo operacional de SAE. Estos se encuentran determinados dentro de la arquitectura empresarial de SAE y se enlistan en el PAI a fin de asociar las actividades que contribuyen a su objetivo e identificar con mayor facilidad los indicadores que contribuyen a medir el desempeño de dicho macroproceso. | K14: Este campo es netamente informativo y se diligencia al momento de la formulación del Plan de Acción Institucional en el formato F-DE2-118 Formato Plan de acción. Este campo no es objeto de modificación al realizar el seguimiento al plan de acción, por lo que si desea modificar su contenido deberá solicitarlo a la Oficina Asesora de Planeación en el campo de observaciones junto con la justificación del cambio.
A15: Proceso | C15: Responde a un conjunto de actividades de nivel táctico o procedimientos que secuencialmente se interrelacionan para transformar las entradas de un proceso en resultados o salidas, cumplimiendo el objetivo de cada proceso dentro del modelo de operación de procesos de SAE. Estos se encuentran determinados dentro de la arquitectura empresarial de SAE y se enlistan en el PAI a fin de asociar las actividades que contribuyen a su objetivo e identificar con mayor facilidad los indicadores que contribuyen a medir el desempeño de dicho proceso. | K15: Este campo es netamente informativo y se diligencia al momento de la formulación del Plan de Acción Institucional en el formato F-DE2-118 Formato Plan de acción. Este campo no es objeto de modificación al realizar el seguimiento al plan de acción, por lo que si desea modificar su contenido deberá solicitarlo a la Oficina Asesora de Planeación en el campo de observaciones junto con la justificación del cambio.
A16: Nombre del indicador | C16: Es el título o denominación corta y sencilla que permite identificar el objetivo de medición del indicador. Este debe estar correlacionado con la actividad que se realiza en la vigencia y que se desea medir. | K16: Este campo es netamente informativo y se diligencia al momento de la formulación del Plan de Acción Institucional en el formato F-DE2-118 Formato Plan de acción. Este campo no es objeto de modificación al realizar el seguimiento al plan de acción, por lo que si desea modificar su contenido deberá solicitarlo a la Oficina Asesora de Planeación en el campo de observaciones junto con la justificación del cambio.
A17: ¿Se toma en cuenta para la evaluación de desempeño? | C17: Es un criterio establecido por SAE para determinar cuáles indicadores se tienen en cuenta para evaluar el desempeño o rendimiento de las áreas en función de las actividades desarrolladas en la vigencia. | K17: Este campo es netamente informativo y se diligencia al momento de la formulación del Plan de Acción Institucional en el formato F-DE2-118 Formato Plan de acción. Este campo no es objeto de modificación al realizar el seguimiento al plan de acción, por lo que si desea modificar su contenido deberá solicitarlo a la Oficina Asesora de Planeación en el campo de observaciones junto con la justificación del cambio.
A18: Tipo de indicador | C18: Corresponde a la categorización de los indicadores de acuerdo con su naturaleza. Para la estructuración del PAI, la SAE emplea las siguientes tipologías o tipos de indicadores: * Indicadores de calidad: indicadores que buscan medir aspectos relacionados con la capacidad de SAE para atender a las necesidades y demandas de sus usuarios bajo preceptos de rápidez e inmediatez a la hora de prestar sus bienes o servicios. La SAE enfoca la medición de estos indicadores hacia aspectos como la oportunidad y la percepción de satisfacción de los usuarios. * Indicadores de economía: indicadores que permiten medir la capacidad de SAE para gestionar los recursos disponibles de la forma más conveniente y adecuada. El enfoque de SAE frente a este tipo de indicadores va asociado a la medición del desempeño presupuestal y los posibles ahorros asociados a las actividades del plan de acción. * Indicadores de eficacia: indicadores que buscan determinar el cumplimiento de un objetivo o una actividad de acuerdo con la meta establecida. Al interior de SAE los indicadores de eficacia se enfocan principalmente en la medición de factores claves de éxito, puntos críticos, factores de mejora y resultados estratégicos. * Indicadores de productividad: indicadores que miden la eficiencia y rendimiento de SAE en función de la rentabilidad del negocio. En SAE estos indicadores se enfocan en la medición de utilidades, ingresos económicos, rendimientos financieros, valor público y rentabilidad social. | K18: Este campo es netamente informativo y se diligencia al momento de la formulación del Plan de Acción Institucional en el formato F-DE2-118 Formato Plan de acción. Este campo no es objeto de modificación al realizar el seguimiento al plan de acción, por lo que si desea modificar su contenido deberá solicitarlo a la Oficina Asesora de Planeación en el campo de observaciones junto con la justificación del cambio.
A19: Área responsable de la ejecución | C19: Pertenece al área que ejecuta cada actividad o acción establecida en el Plan de Acción Institucional. | K19: Este campo es netamente informativo y se diligencia al momento de la formulación del Plan de Acción Institucional en el formato F-DE2-118 Formato Plan de acción. Este campo no es objeto de modificación al realizar el seguimiento al plan de acción, por lo que si desea modificar su contenido deberá solicitarlo a la Oficina Asesora de Planeación en el campo de observaciones junto con la justificación del cambio.
A20: Fórmula para medir el indicador | C20: Corresponde a la descripción, expresión o notación matemática de cómo medir el desempeño del indicador propuesto. Usualmente los indicadores que emplea SAE relacionan fórmulas en términos de fracciones o divisiones de dos cifras, las cuales están relacionadas con la meta y el estado de avance. Para esto usa fórmulas que contienen numeradores y denominadores. * Numerador: corresponde a la parte superior de la fracción o fórmula, y responde al resultado esperado de la actividad a realizar. * Denominador: es la parte inferior de la fracción o fórmula, y corresponde al universo o meta sobre la cual se realizará la medición del indicador o actividad. | K20: Este campo es netamente informativo y se diligencia al momento de la formulación del Plan de Acción Institucional en el formato F-DE2-118 Formato Plan de acción. Este campo no es objeto de modificación al realizar el seguimiento al plan de acción, por lo que si desea modificar su contenido deberá solicitarlo a la Oficina Asesora de Planeación en el campo de observaciones junto con la justificación del cambio.
... A30: Observaciones | C30: Es el espacio contemplado para establecer acciones de mejora en los casos que el cumplimiento del indicador a corte del trimestre evaluado sea inferior al 70%, es decir, su rendimiento de resultados en función del tiempo no es óptimo. También se considera un espacio para realizar solicitudes de modificación o eliminación de indicadores, junto con su justificación y propuesta, en caso de ser necesario. Estos insumos son socializados al Comité Directivo a fin de que conozcan las razones de indicadores con bajo desempeño y validar y aprobar solicitudes de cambios al Plan de Acción Institucional. | K30: Si el indicador a corte del trimestre evaluado (Columna S) presenta un cumplimiento menor al 70% indique las actividades que se realizarán para cumplir la meta establecida y mejorar el desempeño del indicador. Adicionalmente y en caso de identificar necesidades de modificación o eliminación al indicador, por favor registre la solicitud en este espacio, junto con la respectiva justificación y propuesta en caso de ser necesario.
A33: Pestaña "Datos"
A35: Esta pestaña es de uso exclusivo de la Oficina Asesora de Planeación para parametrizar los datos asociados a la medición y seguimiento del Plan de Acción Institucional

Sheet PAI
C1: FORMATO MEDICIÓN PLAN DE ACCIÓN INSTITUCIONAL PROCESO GOBIERNO Y GESTIÓN DE LA ESTRATEGIA MACROPROCESO DIRECCIONAMIENTO ESTRATÉGICO | M1: Código: F-DE2-301 Versión No.: 03 Vigencia desde: 29 – 03- 2023
A4: MEDICIÓN PLAN DE ACCIÓN INSTITUCIONAL (PAI) 2023 SOCIEDAD DE ACTIVOS ESPECIALES S.A.S.
A6: Dimensión | B6: Objetivos estratégicos | C6: Iniciativas | D6: Acciones | E6: Macroproceso | F6: Proceso | G6: Nombre del indicador | H6: ¿Se toma en cuenta para la evaluación de desempeño? | I6: Tipo de indicador | J6: Comportamiento del indicador | K6: Área responsable de la ejecución | L6: Fórmula para medir el indicador | M6: Descripción del indicador | N6: Meta 2023 | O6: Periodicidad del reporte | P6: Numerador T2 | Q6: Denominador T2 | R6: Cumplimiento del indicador en el año | S6: % Meta T2 | T6: Cumplimiento del indicador a corte del trimestre evaluado | U6: Análisis del indicador | V6: Observaciones
A7: Productiva, social y ambiental | B7: 01. Democratizar los activos administrados por la SAE a través de mecanismos de disposición temporal y definitiva que permitan la creación de valor público, social y ambiental; aporten al desarrollo territorial y productivo y garanticen la función social y ecológica de la propiedad. | C7: Adelantar destinaciones especiales priorizando los procesos productivos, sociales, ambientales, así como la atención ante emergencias y desastres producto de fenómenos de variabilidad climática | D7: Presentar casos de destinación temporal de inmuebles rurales dirigidos a población de especial protección constitucional o entidades públicas que desarrollaran proyectos con esta población | E7: Disposición Temporal | F7: Administración de destinación provisional | G7: Destinaciones provisionales de Inmuebles Rurales | H7: SÍ | I7: Eficacia | J7: Demanda | K7: Gerencia de Bienes Inmuebles Rurales | L7: (Número de destinaciones Provisionales de Inmuebles rurales presentados a Comité/ Solicitudes de destinaciones provisionales viables) *100% | M7: Objetivo del indicador: medir la presentación de activos para destinación temporal de inmuebles rurales ante el Comité de Depositarios, Destinatarios, Mandatarios y Liquidadores, para determinar su favorabilidad o no. Numerador: total de destinaciones provisionales presentadas al Comité de Depositarios, Destinatarios, Mandatarios y Liquidadores en ficha técnica de acuerdo con lineamientos técnicos. Denominador: las solicitudes para destinación provisional de inmuebles rurales se consideran viables cuando la documentación se encuentra completa de acuerdo con metodología, cuando el inmueble demuestra baja productividad o comercialización, y cuando el solicitante corresponde a población de especial protección constitucional o entidades públicas que desarrollaran proyectos con esta población. Observación: se hace necesario indicar en el análisis del indicador, las destinaciones temporales aprobadas como insumo para la medición de la macrometa estratégica "Destinaciones de inmuebles al fomento de la economía popular" | N7: 100% | O7: Trimestral | P7: 19 | Q7: 19 | R7: =IFERROR(IF(COUNTIF(N7,"*%")=1,(P7/Q7)*(100%/N7)*(S7/100%),(P7/Q7)*(S7/100%))," ") -> 0.5 | S7: 0.5 | T7: =IFERROR(IF(R7=" "," ",IF(OR(R7>=S7,((R7/S7)*(100%/N7))>1),1,((R7/S7)*(100%/N7)))),"") -> 1 | U7: Los valores reportados responden a las destinaciones provisionales de inmuebles rurales no sociales en el primer semestre del año 2023, en favor de entidades públicas u organizaciones sin ánimo de lucro. | AE7: =IF(B7=Datos!$C$11, "Iniciativas_Objetivo1", IF(B7=Datos!$C$12, "Iniciativas_Objetivo2", IF(B7=Datos!$C$13, "Iniciativas_Objetivo3", IF(B7=Datos!$C$14, "Iniciativas_Objetivo4", IF(B7=Datos!$C$15, "Iniciativas_Objetivo5", IF(B7=Datos!$C$16, "Iniciativas_Objetivo6", IF(B7=Datos!$C$17, "Iniciativas_Objetivo7", IF(B7=Datos!$C$18, "Iniciativas_Objetivo8", IF(B7=Datos!$C$19, "Iniciativas_Objetivo9", IF(B7=Datos!$C$20, "Iniciativas_Objetivo10", IF(B7=Datos!$C$21, "Iniciativas_Objetivo11", IF(B7=Datos!$C$22, "Iniciativas_Objetivo12",IF(B7=Datos!$C$23, "Iniciativas_Objetivo13", " "))))))))))))) -> Iniciativas_Objetivo1
A8: Productiva, social y ambiental | B8: 01. Democratizar los activos administrados por la SAE a través de mecanismos de disposición temporal y definitiva que permitan la creación de valor público, social y ambiental; aporten al desarrollo territorial y productivo y garanticen la función social y ecológica de la propiedad. | C8: Adelantar destinaciones especiales priorizando los procesos productivos, sociales, ambientales, así como la atención ante emergencias y desastres producto de fenómenos de variabilidad climática | D8: Realizar procesos de destinación definitiva de inmuebles rurales dirigidos a población de especial protección constitucional o entidades públicas que desarrollaran proyectos con esta población | E8: Disposición Final | F8: Otras modalidades de disposición final | G8: Destinaciones definitivas de Inmuebles Rurales | H8: SÍ | I8: Eficacia | J8: Demanda | K8: Gerencia de Bienes Inmuebles Rurales | L8: (Número de destinaciones definitivas de Inmuebles rurales realizadas/ Solicitudes de destinaciones definitivas viables) *100% | M8: Objetivo del indicador: medir las destinaciones definitivas realizadas con la ANT, ART, URT, entidades adscritas a MinDefensa u otras que determine la Ley. Numerador: total de destinaciones definitivas presentadas a la ANT, ART, URT, entidades adscritas a MinDefensa u otras que determine la Ley. Denominador: Las solicitudes de destinación definitiva de inmuebles rurales se considera viable cuando el inmueble tenga viabilidad técnica y jurídica para su destinación. Observación: se hace necesario indicar en el análisis del indicador, las destinaciones definitivas aprobadas como insumo para la medición de la macrometa estratégica "Destinaciones de inmuebles al fomento de la economía popular" | N8: 100% | O8: Trimestral | P8: 15 | Q8: 15 | R8: =IFERROR(IF(COUNTIF(N8,"*%")=1,(P8/Q8)*(100%/N8)*(S8/100%),(P8/Q8)*(S8/100%))," ") -> 0.5 | S8: 0.5 | T8: =IFERROR(IF(R8=" "," ",IF(OR(R8>=S8,((R8/S8)*(100%/N8))>1),1,((R8/S8)*(100%/N8)))),"") -> 1 | U8: Del indicador enunciado es pertinente indicar, que a la fecha se han presentado 40 solicitudes por parte de las entidades beneficiarias durante el periodo comprendido entre enero y junio del 2023; de las cuales 15, corresponden a solicitudes elevados por parte de la Agencia Nacional de Tierras . Frente a las solicitudes impetradas por parte de la Agencia para la Reincorporación y Normalización (ARN), registran un total de 24 FMI, de los cuales si bien, registran viables jurídica y técnicamente, a la fecha se encuentran en proceso de saneamiento físico catastral. Adicionalmente, fue recibida una solicitud por parte del Ministerio de Defensa Nacional, la cual, se encuentra en trámite, a la espera de que se complemente la documentación requerida por parte de esta entidad.
A9: Productiva, social y ambiental | B9: 01. Democratizar los activos administrados por la SAE a través de mecanismos de disposición temporal y definitiva que permitan la creación de valor público, social y ambiental; aporten al desarrollo territorial y productivo y garanticen la función social y ecológica de la propiedad. | C9: Adelantar destinaciones especiales priorizando los procesos productivos, sociales, ambientales, así como la atención ante emergencias y desastres producto de fenómenos de variabilidad climática | D9: Realizar diagnóstico técnico de Inmuebles Rurales para procesos de disposición final gratuita con enfoque social y productivo | E9: Diagnóstico y Alistamiento | F9: Diagnóstico de Activos | G9: Diagnóstico Técnico de Inmuebles Rurales para procesos de disposición final gratuita con enfoque social y productivo | H9: SÍ | I9: Eficacia | J9: Demanda | K9: Gerencia de Bienes Inmuebles Rurales | L9: (Inmuebles rurales con diagnóstico técnico entregados a la gerencia técnica/ Inmuebles rurales con viabilidad jurídica positiva para transferencia) *100% | M9: Objetivo del indicador: medir el diagnóstico técnico de inmuebles rurales para disponerlos de manera definitiva y gratuita a entidades públicas o a poblaciones priorizadas y constitucionalmente protegidas. Numerador: se considera que un inmueble rural cuenta con diagnostico técnico cuando se ha determinado: Vocación del bien; estado del inmueble; necesidades de saneamiento requeridos y su entrega a la Gerencia Técnica. Denominador: corresponde a las viabilidades jurídicas que la Gerencia de Asuntos Legales determina como viables para la transferencia definitiva gratuita de inmuebles a entidades públicas o a poblaciones priorizadas y constitucionalmente protegidas. | N9: 100% | O9: Trimestral | P9: 115 | Q9: 173 | R9: =IFERROR(IF(COUNTIF(N9,"*%")=1,(P9/Q9)*(100%/N9)*(S9/100%),(P9/Q9)*(S9/100%))," ") -> 0.33236994 | S9: 0.5 | T9: =IFERROR(IF(R9=" "," ",IF(OR(R9>=S9,((R9/S9)*(100%/N9))>1),1,((R9/S9)*(100%/N9)))),"") -> 0.66473988 | U9: Durante el presente año, la Vicepresidencia Jurídica ha remitido en total 173 conceptos jurídicos favorables para transferencia. Del total de estos 173 conceptos jurídicos viables, el equipo técnico de la Gerencia de Inmuebles Rurales ha realizado 115 fichas de caracterización, las fichas faltantes se encuentran, actualmente, en elaboración por parte de la Gerencia de Inmuebles Rurales. Es pertinente indicar que sólo se realizan fichas de caracterización técnica sobre los folios de matrícula de inmuebles rurales que disponen de un concepto jurídico favorable para transferencia gratuitita por leyes especiales. | V9: Actividades para alcanzar la meta: La Gerencia de Bienes Inmuebles Rurales se encuentra en proceso de elaboración de las viabilidades técnicas necesarias para alcanzar el 100% de la meta propuesta. | AE9: =IF(B9=Datos!$C$11, "Iniciativas_Objetivo1", IF(B9=Datos!$C$12, "Iniciativas_Objetivo2", IF(B9=Datos!$C$13, "Iniciativas_Objetivo3", IF(B9=Datos!$C$14, "Iniciativas_Objetivo4", IF(B9=Datos!$C$15, "Iniciativas_Objetivo5", IF(B9=Datos!$C$16, "Iniciativas_Objetivo6", IF(B9=Datos!$C$17, "Iniciativas_Objetivo7", IF(B9=Datos!$C$18, "Iniciativas_Objetivo8", IF(B9=Datos!$C$19, "Iniciativas_Objetivo9", IF(B9=Datos!$C$20, "Iniciativas_Objetivo10", IF(B9=Datos!$C$21, "Iniciativas_Objetivo11", IF(B9=Datos!$C$22, "Iniciativas_Objetivo12",IF(B9=Datos!$C$23, "Iniciativas_Objetivo13", " "))))))))))))) -> Iniciativas_Objetivo1
A10: Productiva, social y ambiental | B10: 01. Democratizar los activos administrados por la SAE a través de mecanismos de disposición temporal y definitiva que permitan la creación de valor público, social y ambiental; aporten al desarrollo territorial y productivo y garanticen la función social y ecológica de la propiedad. | C10: Adelantar destinaciones especiales priorizando los procesos productivos, sociales, ambientales, así como la atención ante emergencias y desastres producto de fenómenos de variabilidad climática | D10: Atender las solicitudes de destinación provisional y definitiva de inmuebles urbanos | E10: Disposición Temporal | F10: Administración de Destinación Provisional | G10: Trámite de solicitudes de destinación provisional y definitivas | H10: SÍ | I10: Eficacia | J10: Demanda | K10: Gerencia de Bienes Inmuebles Urbanos | L10: (Solicitudes de destinación provisional y definitiva de inmuebles urbanos atendidas/ Solicitudes de destinación provisional y definitiva de inmuebles recibidas)*100% | M10: Objetivo del indicador: medir la atención de las solicitudes recibidas por entidades públicas, privadas y personas naturales de destinación provisional y definitivas de inmuebles urbanos. Numerador: las solicitudes atendidas hacen referencia a la contestación de viabilidad de destinación provisional o definitiva al solicitante. Denominador: corresponde a las solicitudes de destinación provisional o definitiva de inmuebles urbanas allegadas por los canales oficiales de comunicación de SAE. | N10: 100% | O10: Trimestral | P10: 34 | Q10: 44 | R10: =IFERROR(IF(COUNTIF(N10,"*%")=1,(P10/Q10)*(100%/N10)*(S10/100%),(P10/Q10)*(S10/100%))," ") -> 0.38636364 | S10: 0.5 | T10: =IFERROR(IF(R10=" "," ",IF(OR(R10>=S10,((R10/S10)*(100%/N10))>1),1,((R10/S10)*(100%/N10)))),"") -> 0.77272727 | U10: En cuanto a las solicitudes de destinación provisional, la Gerencia recibió 24 solicitudes en el T2, de las cuales se atendieron 18 satisfactoriamente. Las 6 solicitudes restantes se gestionaron, pero no tienen contestación de viabilidad por cuanto requieren subsanación por parte de la entidad solicitante (completitud de requisitos y ajustes con el lleno de información en los formatos institucionales), en esta misma circunstancia se encuentran 2 solicitudes que quedaron del reporte al PAI T1, para un total de 8 solicitudes sin respuesta de viabilidad. Por lo anterior, la Gerencia se encuentra en el seguimiento y acompañamiento a las entidades para sacar avante las destinaciones. En cuanto a las solicitudes de destinación definitiva, la Gerencia recibió 4 solicitudes que impactan a 6 inmuebles urbanos. Respecto a estas, 2 solicitudes cuentan con contestación de viabilidad y la Gerencia solicitó a la Vicepresidencia Jurídica la expedición del acto administrativo por Orfeo 20234200054283. Las 2 solicitudes restantes aún no tienen respuesta, dado que en la actualidad se surte la expedición de viabilidades técnica y jurídica ante las áreas correspondientes, conforme solicitud que efectuó la gerencia mediante Orfeo 20234200032093 y 20234200048303. Se está a la espera de la respuesta favorable para avanzar con el procedimiento. De otro lado, se informa que por Orfeo 20234200055423, la Gerencia solicitó a la Vicepresidencia Jurídica la viabilidad para la destinación definitiva por leyes especiales de 5 inmuebles ubicados en San Andrés, Providencia y Santa Catalina a favor de la Gobernación de San Andrés, entidad que por mandado legal no necesita solicitar a la SAE la transferencia definitiva sino que basta el cambio del estado legal del inmueble a extinto para que proceda. Lo anterior, conforme al reporte que realizó el GIT de Aseguramiento sobre bienes extintos localizados en la isla en mención. | AE10: =IF(B10=Datos!$C$11, "Iniciativas_Objetivo1", IF(B10=Datos!$C$12, "Iniciativas_Objetivo2", IF(B10=Datos!$C$13, "Iniciativas_Objetivo3", IF(B10=Datos!$C$14, "Iniciativas_Objetivo4", IF(B10=Datos!$C$15, "Iniciativas_Objetivo5", IF(B10=Datos!$C$16, "Iniciativas_Objetivo6", IF(B10=Datos!$C$17, "Iniciativas_Objetivo7", IF(B10=Datos!$C$18, "Iniciativas_Objetivo8", IF(B10=Datos!$C$19, "Iniciativas_Objetivo9", IF(B10=Datos!$C$20, "Iniciativas_Objetivo10", IF(B10=Datos!$C$21, "Iniciativas_Objetivo11", IF(B10=Datos!$C$22, "Iniciativas_Objetivo12",IF(B10=Datos!$C$23, "Iniciativas_Objetivo13", " "))))))))))))) -> Iniciativas_Objetivo1
A11: Productiva, social y ambiental | B11: 01. Democratizar los activos administrados por la SAE a través de mecanismos de disposición temporal y definitiva que permitan la creación de valor público, social y ambiental; aporten al desarrollo territorial y productivo y garanticen la función social y ecológica de la propiedad. | C11: Adelantar destinaciones especiales temporales y definitivas, priorizando los procesos productivos, sociales, ambientales, así como la atención ante emergencias y desastres producto de fenómenos de variabilidad climática | D11: Atender las solicitudes de daciones en pago y cruce de cuentas, diversificando el acceso para el desarrollo territorial y productivo. | E11: Disposición Final | F11: Otras Modalidades de Disposición Final | G11: Daciones en pago o cruce de cuentas | H11: SÍ | I11: Eficacia | J11: Demanda | K11: Gerencia Comercial | L11: (Daciones en pago o cruce de cuentas atendidas efectivamente/ Solicitudes de daciones en pago o cruce de cuentas)*100% | M11: Objetivo del indicador: medir la efectividad de la dación de pagos o cruce de cuentas respecto a las solicitudes efectuadas. Numerador: la atención efectiva de dación de pagos o cruce de cuentas corresponde al número de negocios cerrados con entidades públicas y privadas. Denominador: corresponde al total de solicitudes acumuladas en la vigencia relacionadas con daciones en pago o cruce de cuentas. | N11: 100% | O11: Trimestral | P11: 1 | Q11: 1 | R11: =IFERROR(IF(COUNTIF(N11,"*%")=1,(P11/Q11)*(100%/N11)*(S11/100%),(P11/Q11)*(S11/100%))," ") -> 0.5 | S11: 0.5 | T11: =IFERROR(IF(R11=" "," ",IF(OR(R11>=S11,((R11/S11)*(100%/N11))>1),1,((R11/S11)*(100%/N11)))),"") -> 1 | U11: Se recibió solicitud de dación en pago del Municipio de Villavicencio sobre el FMI No 230-71743 y esta fue tramitada. Para el segundo trimestre es dependiente de la demanda y solicitudes de otros municipios o entidades públicas. Es importante tener en cuenta que a corte del trimestre 2 se encuentra en vigencia la ley de garantías. | V11: Se reporta lo mismo del primer trimestre teniendo en cuenta que no se ha recibido nuevas solicitudes, lo anterior, por cuanto el insumo necesario para dar aplicación a las daciones en pago y o cruce de cuenta, depende de varios factores que implican el trabajo articulado con diferentes áreas de la entidad. Adicionalmente este indicador se determina por la demanda de solicitudes. | AE11: =IF(B11=Datos!$C$11, "Iniciativas_Objetivo1", IF(B11=Datos!$C$12, "Iniciativas_Objetivo2", IF(B11=Datos!$C$13, "Iniciativas_Objetivo3", IF(B11=Datos!$C$14, "Iniciativas_Objetivo4", IF(B11=Datos!$C$15, "Iniciativas_Objetivo5", IF(B11=Datos!$C$16, "Iniciativas_Objetivo6", IF(B11=Datos!$C$17, "Iniciativas_Objetivo7", IF(B11=Datos!$C$18, "Iniciativas_Objetivo8", IF(B11=Datos!$C$19, "Iniciativas_Objetivo9", IF(B11=Datos!$C$20, "Iniciativas_Objetivo10", IF(B11=Datos!$C$21, "Iniciativas_Objetivo11", IF(B11=Datos!$C$22, "Iniciativas_Objetivo12",IF(B11=Datos!$C$23, "Iniciativas_Objetivo13", " "))))))))))))) -> Iniciativas_Objetivo1
A12: Productiva, social y ambiental | B12: 01. Democratizar los activos administrados por la SAE a través de mecanismos de disposición temporal y definitiva que permitan la creación de valor público, social y ambiental; aporten al desarrollo territorial y productivo y garanticen la función social y ecológica de la propiedad. | C12: Adelantar destinaciones especiales temporales y definitivas, priorizando los procesos productivos, sociales, ambientales, así como la atención ante emergencias y desastres producto de fenómenos de variabilidad climática | D12: Realizar destinaciones y donaciones de bienes muebles priorizando procesos productos, sociales o ambientales | E12: Disposición Temporal Disposición Final | F12: Administración de destinación provisional Otras modalidades de disposición final | G12: Destinación y donación de bienes muebles | H12: SÍ | I12: Eficacia | J12: Programación | K12: Gerencia de Bienes Muebles | L12: (Número de bienes muebles destinados y donados/ Número de bienes muebles programados para destinación y donación)*100% | M12: Objetivo del indicador: medir el número de bienes que se destinan provisional o definitivamente y donan por parte de la Gerencia de Muebles, según inventario. Numerador: corresponde al número de bienes que se destinan provisional o definitivamente para procesos productivos, sociales o ambientales. Denominador: corresponde al número de bienes que se tienen programados para destinación provisional o definitiva o para donación. | N12: 250 | O12: Trimestral | P12: 44 | Q12: 250 | R12: =IFERROR(IF(COUNTIF(N12,"*%")=1,(P12/Q12)*(100%/N12),P12/Q12)," ") -> 0.176 | S12: 0.5 | T12: =IFERROR(IF(R12=" "," ",IF(R12>=S12,1,R12/S12))," ") -> 0.352 | U12: Este indicador depende de la estructuración del proyecto que remita las Entidades y Organizaciones solicitantes el cual no cumple el lleno de requisitos, demoras en los tiempos de jurídica en la expedición de actos admón., la debida diligencia y no se tiene disponibilidad en el inventario para suplir la necesidad especifica del solicitante, asegurabilidad de los activos por su antigüedad, En el segundo trimestre se destino 1 vehículo provisionalmente y se donaron 5 registros de hidrocarburos - gasolina 2.605 galones por valor de $34.828.850 y 1 registro de ACPM de 275 galones valorados en $ 2.573.175 para un total 2.880 galones en total. | V12: por la problemática planteada en el campo de análisis del indicador, se solicita el replanteamiento de la meta solicitando la disminución a 100 registros, teniendo en cuenta que las gestiones correspondientes para el cumplimiento de la misma dependen de terceros. | AE12: =IF(B12=Datos!$C$11, "Iniciativas_Objetivo1", IF(B12=Datos!$C$12, "Iniciativas_Objetivo2", IF(B12=Datos!$C$13, "Iniciativas_Objetivo3", IF(B12=Datos!$C$14, "Iniciativas_Objetivo4", IF(B12=Datos!$C$15, "Iniciativas_Objetivo5", IF(B12=Datos!$C$16, "Iniciativas_Objetivo6", IF(B12=Datos!$C$17, "Iniciativas_Objetivo7", IF(B12=Datos!$C$18, "Iniciativas_Objetivo8", IF(B12=Datos!$C$19, "Iniciativas_Objetivo9", IF(B12=Datos!$C$20, "Iniciativas_Objetivo10", IF(B12=Datos!$C$21, "Iniciativas_Objetivo11", IF(B12=Datos!$C$22, "Iniciativas_Objetivo12",IF(B12=Datos!$C$23, "Iniciativas_Objetivo13", " "))))))))))))) -> Iniciativas_Objetivo1
A13: Productiva, social y ambiental | B13: 01. Democratizar los activos administrados por la SAE a través de mecanismos de disposición temporal y definitiva que permitan la creación de valor público, social y ambiental; aporten al desarrollo territorial y productivo y garanticen la función social y ecológica de la propiedad. | C13: Garantizar la inclusión de comunidades, organizaciones sociales y economías populares en condición de vulnerabilidad en los mecanismos de administración existentes | D13: Permitir la inclusión de organizaciones comunitarias en el gerenciamiento de Sociedades Activas y/o establecimientos de comercio. | E13: Disposición Temporal | F13: Administración de Depósitos Provisionales | G13: Gerencias populares en Sociedades Activas y/o establecimientos de comercio. | H13: SÍ | I13: Eficacia | J13: Programación | K13: Gerencia Sociedades Activas | L13: (Sociedades Activas y/o establecimientos de comercio con gerencias populares/Sociedades Activas y/o establecimientos de comercio priorizados para el gerenciamiento de organizaciones populares)*100% | M13: Objetivo del indicador: medir la inclusión de organizaciones comunitarias en el gerenciamiento de Sociedades Activas y/o establecimientos de comercio. Numerador: corresponde al número de Sociedades Activas y/o establecimientos de comercio con gerenciamiento de organizaciones populares y/o comunitarias. Denominador: son las Sociedades Activas y/o establecimientos de comercio priorizados por la Gerencia de Sociedades Activas para el gerenciamiento popular. | N13: 10 | O13: Trimestral | P13: 1 | Q13: 10 | R13: =IFERROR(IF(COUNTIF(N13,"*%")=1,(P13/Q13)*(100%/N13),P13/Q13)," ") -> 0.1 | S13: 0.5 | T13: =IFERROR(IF(R13=" "," ",IF(R13>=S13,1,R13/S13))," ") -> 0.2 | U13: La primera gerencia popular implementada desde la Vicepresidencia fue la entrega del gimnasio en el establecimiento de comercio GYM BOX para ser administrado por la medallista olímpica Ubaldina Valores como acto inaugural del programa. | V13: Actualmente, la convocatoria de gerentes populares se encuentra en proceso, el cual no se ha finalizado y por tanto no se han podido asignar nuevos gerentes populares en este trimestre. Se espera que tras la convocatoria se pueda cumplir la meta de 10 gerencias populares en el segundo semestre. | AE13: =IF(B13=Datos!$C$11, "Iniciativas_Objetivo1", IF(B13=Datos!$C$12, "Iniciativas_Objetivo2", IF(B13=Datos!$C$13, "Iniciativas_Objetivo3", IF(B13=Datos!$C$14, "Iniciativas_Objetivo4", IF(B13=Datos!$C$15, "Iniciativas_Objetivo5", IF(B13=Datos!$C$16, "Iniciativas_Objetivo6", IF(B13=Datos!$C$17, "Iniciativas_Objetivo7", IF(B13=Datos!$C$18, "Iniciativas_Objetivo8", IF(B13=Datos!$C$19, "Iniciativas_Objetivo9", IF(B13=Datos!$C$20, "Iniciativas_Objetivo10", IF(B13=Datos!$C$21, "Iniciativas_Objetivo11", IF(B13=Datos!$C$22, "Iniciativas_Objetivo12",IF(B13=Datos!$C$23, "Iniciativas_Objetivo13", " "))))))))))))) -> Iniciativas_Objetivo1
A14: Procesos | B14: 09. Garantizar la mejora continua del modelo de operación de la SAE basado en acciones de optimización, automatización, control y articulación de procesos contribuyendo a la reducción de tiempos, la transparencia en la operación y el cumplimiento de objetivos institucionales. | C14: Estandarizar, optimizar y automatizar procesos de SAE de acuerdo a nuevo modelo operacional | D14: Actualizar el modelo operacional del esquema de administración por depósitos provisionales | E14: Recepción y Registro | F14: Administración del Registro de Depositarios Provisionales y Liquidadores del FRISCO | G14: Actualización Esquema de Administración Depósitos Provisionales | H14: SÍ | I14: Eficacia | J14: Programación | K14: GIT Depositarios Provisionales | L14: (Documentos actualizados o creados asociados al esquema de administración de depósitos provisionales / Documentos programados asociados al esquema de administración de depósitos provisionales)*100% | M14: Objetivo del indicador: medir el grado de avance en la actualización del modelo operacional del esquema de administración por depósitos provisionales. Numerador: corresponde a la elaboración y/o actualización de documentos asociados al esquema operacional de depositarios como procedimientos, instructivos, formatos, entre otros que se requieran. Denominador: corresponde a los documentos operacionales identificados por crear o actualizar en el esquema de depósitos provisionales. Para el 2023 se tienen estimados siete (7) documentos. | N14: 100% | O14: Trimestral | P14: 2 | Q14: 7 | R14: =IFERROR(IF(COUNTIF(N14,"*%")=1,(P14/Q14)*(100%/N14),P14/Q14)," ") -> 0.28571429 | S14: 0.5 | T14: =IFERROR(IF(R14=" "," ",IF(R14>=S14,1,R14/S14))," ") -> 0.57142857 | V14: Se ha realizado el diseño de los términos de la convocatoria 01/23, se realizó el diseño para el cambio del capítulo 5 de la metodología de administración del frisco, se modifico el procedimiento P-RR-056 . La primera modificación para los términos de constitución de pólizas y, en segundo lugar para mejorar la redacción de los criterios de asignación de bienes inmuebles urbanos y rurales. lo cual ha implicado dos modificaciones diferentes. | AE14: =IF(B14=Datos!$C$11, "Iniciativas_Objetivo1", IF(B14=Datos!$C$12, "Iniciativas_Objetivo2", IF(B14=Datos!$C$13, "Iniciativas_Objetivo3", IF(B14=Datos!$C$14, "Iniciativas_Objetivo4", IF(B14=Datos!$C$15, "Iniciativas_Objetivo5", IF(B14=Datos!$C$16, "Iniciativas_Objetivo6", IF(B14=Datos!$C$17, "Iniciativas_Objetivo7", IF(B14=Datos!$C$18, "Iniciativas_Objetivo8", IF(B14=Datos!$C$19, "Iniciativas_Objetivo9", IF(B14=Datos!$C$20, "Iniciativas_Objetivo10", IF(B14=Datos!$C$21, "Iniciativas_Objetivo11", IF(B14=Datos!$C$22, "Iniciativas_Objetivo12",IF(B14=Datos!$C$23, "Iniciativas_Objetivo13", " "))))))))))))) -> Iniciativas_Objetivo9
A15: Productiva, social y ambiental | B15: 02. Fomentar las economías populares y comunitarias a partir de proyectos estratégicos que generen valor público, social y ambiental. | C15: Implementar proyectos estratégicos con enfoque productivo, social y ambiental que permitan la creación de valor. | D15: Promover la creación de sinergias internas y externas con sociedades activas | E15: Disposición Temporal | F15: Administración directa | G15: Sinergias con Sociedades Activas | H15: SÍ | I15: Eficacia | J15: Demanda | K15: Gerencia Sociedades Activas | L15: (Número de Sociedades Activas participando en sinergias comerciales /Sociedades Activas priorizadas para participar en sinergias)*100% | M15: Objetivo del indicador: medir la participación de las Sociedades Activas en sinergias comerciales tendientes al aumento de la productividad. Numerador: corresponde a las Sociedades Activas participando de las sinergias establecidas. Denominador: son las Sociedades Activas priorizadas para participar en sinergias comerciales. Los criterios son definidos por la Gerencia de Sociedades Activas. | N15: 100% | O15: Trimestral | P15: 0 | Q15: 0 | R15: =IFERROR(IF(COUNTIF(N15,"*%")=1,(P15/Q15)*(100%/N15)*(S15/100%),(P15/Q15)*(S15/100%))," ") | S15: 0.5 | T15: =IFERROR(IF(R15=" "," ",IF(OR(R15>=S15,((R15/S15)*(100%/N15))>1),1,((R15/S15)*(100%/N15)))),"") | U15: Al momento, se tienen identificadas varias sinergias entre sociedades que podrían ser estratégicas para la Vicepresidencia, sin embargo no se ha ejecutado ninguna ya que el procedimiento se encuentra en construcción. | V15: Dado que el procedimiento se encuentra en construcción, se espera que este indicador aumente considerablemente en el segundo semestre. | AE15: =IF(B15=Datos!$C$11, "Iniciativas_Objetivo1", IF(B15=Datos!$C$12, "Iniciativas_Objetivo2", IF(B15=Datos!$C$13, "Iniciativas_Objetivo3", IF(B15=Datos!$C$14, "Iniciativas_Objetivo4", IF(B15=Datos!$C$15, "Iniciativas_Objetivo5", IF(B15=Datos!$C$16, "Iniciativas_Objetivo6", IF(B15=Datos!$C$17, "Iniciativas_Objetivo7", IF(B15=Datos!$C$18, "Iniciativas_Objetivo8", IF(B15=Datos!$C$19, "Iniciativas_Objetivo9", IF(B15=Datos!$C$20, "Iniciativas_Objetivo10", IF(B15=Datos!$C$21, "Iniciativas_Objetivo11", IF(B15=Datos!$C$22, "Iniciativas_Objetivo12",IF(B15=Datos!$C$23, "Iniciativas_Objetivo13", " "))))))))))))) -> Iniciativas_Objetivo2
A16: Productiva, social y ambiental | B16: 02. Fomentar las economías populares y comunitarias a partir de proyectos estratégicos que generen valor público, social y ambiental. | C16: Implementar proyectos estratégicos con enfoque productivo, social y ambiental que permitan la creación de valor. | D16: Acompañar la estructuración y/o viabilización de proyectos de desarrollo territorial y/o de construcción de paz. | E16: Direccionamiento Estratégico | F16: Gobierno y Gestión de la Estrategia | G16: Acompañamiento a estructuración y/o evaluación de proyectos de desarrollo territorial y/o de construcción de paz. | H16: SÍ | I16: Eficacia | J16: Demanda | K16: Gerencia de Proyectos Especiales | L16: (Proyectos de desarrollo territorial estructurados y/o viabilizados por parte de la Gerencia/ Solicitudes de estructuración o viabilización de proyectos por parte de áreas misionales sobre activos con ideas de negocio aprobadas) *100% | M16: Objetivo del indicador: medir el acompañamiento realizado por la Gerencia de Proyectos Especiales para la estructuración y/o viabilización de proyectos de desarrollo territorial y/o de construcción de paz. Numerador: corresponde a la estructuración y/o viabilización de proyectos de desarrollo territorial y/o de construcción de paz. Para entendimiento del cumplimiento del indicador, se considera que la estructuración de los proyectos de desarrollo territorial se finaliza cuando los proyectos cuentan con un Project charter aprobado por parte de las partes interesadas. Por otra parte, se considera un proyecto viabilizado cuando la Gerencia emite un concepto de prefactibilidad del proyecto sometido a viabilización. Denominador: corresponde a las solicitudes efectuadas por las áreas misionales con relación a la estructuración o viabilización de proyectos establecidos en el marco de la entrega de activos por mecanismos de disposición temporal como arrendamiento social o destinación provisional. | N16: 50% | O16: Trimestral | P16: 0 | Q16: 0 | R16: =IFERROR(IF(COUNTIF(N16,"*%")=1,(P16/Q16)*(100%/N16)*(S16/100%),(P16/Q16)*(S16/100%))," ") | S16: 0.5 | T16: =IFERROR(IF(R16=" "," ",IF(OR(R16>=S16,((R16/S16)*(100%/N16))>1),1,((R16/S16)*(100%/N16)))),"") | U16: Desde la Gerencia de Proyectos Especiales se está elaborando la metodología de estructuración y viabilización de proyectos, la cual será presentada a manera de propuesta a la Oficina Asesora de Planeación para hacer el correspondiente acompañamiento metodológico. Por lo anterior, se tiene previsto iniciar la medición de este indicador para el tercer trimestre de 2023. | V16: Las acciones de mejora a implementarse durante el tercer trimestre del 2023 serán: 1. Definir y presentar a la OAP la propuesta de metodología para la estructuración y viabilización de proyectos elaborada por la Gerencia de Proyectos Especiales. | AE16: =IF(B16=Datos!$C$11, "Iniciativas_Objetivo1", IF(B16=Datos!$C$12, "Iniciativas_Objetivo2", IF(B16=Datos!$C$13, "Iniciativas_Objetivo3", IF(B16=Datos!$C$14, "Iniciativas_Objetivo4", IF(B16=Datos!$C$15, "Iniciativas_Objetivo5", IF(B16=Datos!$C$16, "Iniciativas_Objetivo6", IF(B16=Datos!$C$17, "Iniciativas_Objetivo7", IF(B16=Datos!$C$18, "Iniciativas_Objetivo8", IF(B16=Datos!$C$19, "Iniciativas_Objetivo9", IF(B16=Datos!$C$20, "Iniciativas_Objetivo10", IF(B16=Datos!$C$21, "Iniciativas_Objetivo11", IF(B16=Datos!$C$22, "Iniciativas_Objetivo12",IF(B16=Datos!$C$23, "Iniciativas_Objetivo13", " "))))))))))))) -> Iniciativas_Objetivo2
A17: Financiera | B17: 04. Generar rentabilidad económica a partir de la diversificación de ingresos, para la inversión social y la lucha contra el crimen organizado. | C17: Diseñar y/o implementar estrategias de ahorro en la administración de activos. | D17: Realizar la chatarrización de bienes muebles generando ahorros para la Entidad | E17: Disposición Final | F17: Otras Modalidades de Disposición Final | G17: Chatarrizaciones realizadas | H17: SÍ | I17: Economía | J17: Programación | K17: Gerencia de Bienes Muebles | L17: (Número de bienes entregados a la desintegradora para chatarrizar / Número de bienes programados para chatarrización) *100% | M17: Objetivo del indicador: medir la chatarrización de los bienes muebles. Numerador: bienes muebles entregados a la desintegradora. Denominador: corresponde al número de bienes programados para chatarrización como los medios de transporte de material ferroso con concepto favorable para chatarrizar. | N17: 200 | O17: Trimestral | P17: 32 | Q17: 200 | R17: =IFERROR(IF(COUNTIF(N17,"*%")=1,(P17/Q17)*(100%/N17),P17/Q17)," ") -> 0.16 | S17: 0.5 | T17: =IFERROR(IF(R17=" "," ",IF(R17>=S17,1,R17/S17))," ") -> 0.32 | U17: Este indicador se ha visto afectado por la demora en la revisión y aprobación de los actos administrativos que ordenan la chatarrización los cuales se encuentran en tramite desde el pasado mes de septiembre. | V17: Para el tercer trimestre se tiene proyectada la comercialización por chatarra de 143 vehículos que ya están autorizados por el comité de e.t. y en el evento en que no se pueden comercializar se procederá a la chatarrización de los mismos lo que aportara al cumplimiento del inventario, de otra parte se encuentran ya en tramite de alistamiento para este tipo de disposición final de mas de 80 medios de transporte para el cumplimiento definitivo de la meta propuestas. | AE17: =IF(B17=Datos!$C$11, "Iniciativas_Objetivo1", IF(B17=Datos!$C$12, "Iniciativas_Objetivo2", IF(B17=Datos!$C$13, "Iniciativas_Objetivo3", IF(B17=Datos!$C$14, "Iniciativas_Objetivo4", IF(B17=Datos!$C$15, "Iniciativas_Objetivo5", IF(B17=Datos!$C$16, "Iniciativas_Objetivo6", IF(B17=Datos!$C$17, "Iniciativas_Objetivo7", IF(B17=Datos!$C$18, "Iniciativas_Objetivo8", IF(B17=Datos!$C$19, "Iniciativas_Objetivo9", IF(B17=Datos!$C$20, "Iniciativas_Objetivo10", IF(B17=Datos!$C$21, "Iniciativas_Objetivo11", IF(B17=Datos!$C$22, "Iniciativas_Objetivo12",IF(B17=Datos!$C$23, "Iniciativas_Objetivo13", " "))))))))))))) -> Iniciativas_Objetivo4
A18: Financiera | B18: 03. Garantizar la efectiva transferencia de recursos a la Nación, en concordancia con lo establecido en la ley y contribuyendo a los propósitos del Plan Nacional de Desarrollo. | C18: Cumplimiento de transferencias de recursos a la Nación establecidas en la ley . | D18: Gestionar la monetización de divisas y el recaudo de moneda nacional | E18: Disposición Final | F18: Otras Modalidades de Disposición Final | G18: Transferencias realizadas a la Nación a través de divisas monetizadas y moneda nacional | H18: SÍ | I18: Economía | J18: Demanda | K18: Gerencia de Bienes Muebles | L18: (Valor monetizado y recaudado / Valor programado de divisas a monetizar y moneda nacional a recaudar)* 100% | M18: Objetivo del indicador: medir las transferencias realizadas a la Nación a través de divisas monetizadas y recaudo de moneda nacional identificada. Numerador: corresponde al valor monetizado de divisas a través del Banco de la República o de los intermediarios del mercado cambiario y a la moneda nacional recibida e identificada para su registro en el inventario de activos. Denominador: El valor programado de divisas a monetizar se refiere al valor de divisas (moneda extranjera) recibidas por SAE hasta el mes de septiembre del 2023. El valor de moneda nacional a recaudar corresponde al valor de la moneda en pesos colombianos entregada por parte la autoridad competente. | N18: 100% | O18: Trimestral | P18: 0 | Q18: 0 | R18: =IFERROR(IF(COUNTIF(N18,"*%")=1,(P18/Q18)*(100%/N18)*(S18/100%),(P18/Q18)*(S18/100%))," ") | S18: 0.5 | T18: =IFERROR(IF(R18=" "," ",IF(OR(R18>=S18,((R18/S18)*(100%/N18))>1),1,((R18/S18)*(100%/N18)))),"") | U18: Las divisas ya fueron entregadas a la transportadora de valores para su verificación en el Banco de la Reserva Federal de USA, esta operación demora aproximadamente 2 meses por lo tanto se estima que la monetización de las mismas se surtiría en el tercer trimestre de este año, alcanzando el cumplimiento al 100% del indicador. | V18: Fue adicionado al conteo adelantado en el año 2022 USD90.421 dólares puestos a disposición de esta Sociedad durante el segundo semestre del 2022, quedando un total de divisas objeto de verificación $USD 1.427.321, se estima monetizar la suma de $5.900 millones de pesos aproximadamente en el tercer trimestre de la presente vigencia. | AE18: =IF(B18=Datos!$C$11, "Iniciativas_Objetivo1", IF(B18=Datos!$C$12, "Iniciativas_Objetivo2", IF(B18=Datos!$C$13, "Iniciativas_Objetivo3", IF(B18=Datos!$C$14, "Iniciativas_Objetivo4", IF(B18=Datos!$C$15, "Iniciativas_Objetivo5", IF(B18=Datos!$C$16, "Iniciativas_Objetivo6", IF(B18=Datos!$C$17, "Iniciativas_Objetivo7", IF(B18=Datos!$C$18, "Iniciativas_Objetivo8", IF(B18=Datos!$C$19, "Iniciativas_Objetivo9", IF(B18=Datos!$C$20, "Iniciativas_Objetivo10", IF(B18=Datos!$C$21, "Iniciativas_Objetivo11", IF(B18=Datos!$C$22, "Iniciativas_Objetivo12",IF(B18=Datos!$C$23, "Iniciativas_Objetivo13", " "))))))))))))) -> Iniciativas_Objetivo3
A19: Financiera | B19: 03. Garantizar la efectiva transferencia de recursos a la Nación, en concordancia con lo establecido en la ley y contribuyendo a los propósitos del Plan Nacional de Desarrollo. | C19: Cumplimiento de transferencias de recursos a la Nación establecidas en la ley . | D19: Realizar las transferencias a la Nación y destinaciones específicas en recursos líquidos | E19: Gestión Financiera | F19: Tesorería | G19: Transferencias a la Nación y destinaciones específicas en recursos líquidos | H19: SÍ | I19: Economía | J19: Programación | K19: Gerencia Financiera | L19: (Sumatoria de los valores de las transferencias a favor de la nación y destinaciones específicas en recursos líquidos/ Meta de transferencias a favor de la Nación y destinaciones específicas en recursos líquidos) *100% | M19: Objetivo del indicador: medir las transferencias realizadas a la nación y destinaciones específicas en recursos líquidos. Este indicador se encuentra globalizado centralizado por la Gerencia Financiera con base en los ingresos producidos al interior de la entidad. Numerador: corresponde a la sumatoria de valores transferidos y destinados oficialmente a las entidades beneficiarias establecidas en la Ley. Denominador: corresponde a la meta establecida en el presupuesto aprobado por el Consejo Nacional de Estupefacientes. Para el 2023 la meta establecida es de $264.264.260.812. | N19: $264.264.260.812 | O19: Trimestral | P19: 152126736542 | Q19: 264264260812 | R19: =IFERROR(IF(COUNTIF(N19,"*%")=1,(P19/Q19)*(100%/N19),P19/Q19)," ") -> 0.57566141 | S19: 0.5 | T19: =IFERROR(IF(R19=" "," ",IF(R19>=S19,1,R19/S19))," ") -> 1 | U19: Corresponde a los recursos líquidos transferidos a la Nación: Artículo 91 de la Ley 1708 modificado por el artículo 22 de la Ley 1849 de 2017 para la Fiscalía General de la Nación, la Rama Judicial, Policía Judicial, Defensoría del Pueblo y las destinaciones especificas para el Fondo Victimas, Minsalud - Política Antidrogas, Min justicia - Política Antidrogas y Policía - Política Antidrogas. | V19: Información Preliminar - No se ha culminado el cierre financiero del mes de junio de 2023 | AE19: =IF(B19=Datos!$C$11, "Iniciativas_Objetivo1", IF(B19=Datos!$C$12, "Iniciativas_Objetivo2", IF(B19=Datos!$C$13, "Iniciativas_Objetivo3", IF(B19=Datos!$C$14, "Iniciativas_Objetivo4", IF(B19=Datos!$C$15, "Iniciativas_Objetivo5", IF(B19=Datos!$C$16, "Iniciativas_Objetivo6", IF(B19=Datos!$C$17, "Iniciativas_Objetivo7", IF(B19=Datos!$C$18, "Iniciativas_Objetivo8", IF(B19=Datos!$C$19, "Iniciativas_Objetivo9", IF(B19=Datos!$C$20, "Iniciativas_Objetivo10", IF(B19=Datos!$C$21, "Iniciativas_Objetivo11", IF(B19=Datos!$C$22, "Iniciativas_Objetivo12",IF(B19=Datos!$C$23, "Iniciativas_Objetivo13", " "))))))))))))) -> Iniciativas_Objetivo3
