Workbook
Name Dimensión: [1]Datos!$B$11:$B$15
Name Dimensión: Datos!$B$11:$B$15
Name Iniciativas_Objetivo1: [1]!Tabla6[Iniciativas_Objetivo1]
Name Iniciativas_Objetivo1: Tabla6[Iniciativas_Objetivo1]
Name Iniciativas_Objetivo10: Datos!$M$11:$M$11
Name Iniciativas_Objetivo11: Datos!$N$11:$N$11
Name Iniciativas_Objetivo12: Datos!$O$11:$O$12
Name Iniciativas_Objetivo13: Datos!$P$11:$P$11
Name Iniciativas_Objetivo2: [1]!Tabla7[Iniciativas_Objetivo2]
Name Iniciativas_Objetivo2: Tabla7[Iniciativas_Objetivo2]
Name Iniciativas_Objetivo3: [1]!Tabla3[Iniciativas_Objetivo3]
Name Iniciativas_Objetivo3: Tabla3[Iniciativas_Objetivo3]
Name Iniciativas_Objetivo4: [1]!Tabla4[Iniciativas_Objetivo4]
Name Iniciativas_Objetivo4: Tabla4[Iniciativas_Objetivo4]
Name Iniciativas_Objetivo5: [1]!Tabla5[Iniciativas_Objetivo5]
Name Iniciativas_Objetivo5: Tabla5[Iniciativas_Objetivo5]
Name Iniciativas_Objetivo6: Datos!$I$11:$I$12
Name Iniciativas_Objetivo7: Datos!$J$11:$J$11
Name Iniciativas_Objetivo8: Datos!$K$11:$K$13
Name Iniciativas_Objetivo9: Datos!$L$11:$L$14
Name Objetivos_Estratégicos: [1]Datos!$C$11:$C$23
Name Objetivos_Estratégicos: Datos!$C$11:$C$23

Sheet Instructivo
D1: FORMATO MEDICIÓN DE PLAN DE ACCIÓN INSTITUCIONAL PROCESO GOBIERNO Y GESTIÓN DE LA ESTRATEGIA MACROPROCESO DIRECCIONAMIENTO ESTRATÉGICO | K1: Código: F-DE2-301 Versión No.: 04 Vigencia desde: 26– 09- 2023
A4: INSTRUCTIVO MEDICIÓN DE PLAN DE ACCIÓN INSTITUCIONAL (PAI)
A6: Pestaña "PAI"
A8: Campo | C8: Conceptualización o explicación del campo | K8: Instrucción de diligenciamiento
A9: Dimensión | C9: Las dimensiones del plan de acción corresponden a categorías estratégicas necesarias para el funcionamiento de la estrategia y modelo de operación de SAE para lograr un equilibrio entre los objetivos estratégicos de esta. Estas dimensiones parten de las perspectivas del Balanced Scorecard (BSC) o Cuadro de Mando Integral, herramienta aplicada en entidades públicas, empresas mixtas y privadas para medir su estrategia. Las dimensiones que se contemplan y adoptan en el PAI de la SAE corresponden a: Dimensión productiva, social y ambiental: dimensión creada por la SAE para exaltar sus objetivos estratégicos y compromiso en los ámbitos productivos, sociales y ambientales asociados a su misionalidad y que contribuyen al cumplimiento del Plan Nacional de Desarrollo, al desarrollo territorial de Colombia y a la Paz Total. Esta dimensión favorece a población constitucionalmente protegida, organizaciones sociales y populares (Campesinas y urbanas), cooperativas, asociaciones y organizaciones comunales (ambientales y de mujeres), sujetos de reforma agraria, entre otros grupos de interés priorizados por la SAE. Algunas temáticas que se contemplan en esta dimensión se asocian a la justicia social; la contribución a la reforma agraria; al desarrollo territorial; a la implementación de proyectos estratégicos con enfoque productivo, social y ambiental que permitan la creación de valor; a garantizar la inclusión de comunidades, organizaciones sociales y economías populares en condición de vulnerabilidad en los mecanismos de administración existentes; entre otros. Dimensión financiera: dimensión que contempla todos los objetivos estratégicos relacionados con el comportamiento financiero de SAE y que son objeto de interés de las entidades que reciben transferencias monetarias, la Junta Directiva de SAE, MinHacienda y de SAE como sociedad. Esta dimensión abarca temáticas como son los ingresos, fuentes de financiación, gastos, ahorros, rentabilidad, rendimientos financieros, utilidades, y en general todas los aspectos asociados al aspecto económico, financiero y presupuestal de SAE. Dimensión de grupos de interés: dimensión que considera los objetivos estratégicos que pretenden fortalecer la relación que tiene SAE con sus grupos de interés internos y externos, y satisfacer sus necesidades a partir de los servicios que presta en el marco de su misionalidad. En esta dimensión se contemplan temáticas como cobertura del servicio, accesibilidad, posicionamiento de marca, calidad y oportunidad del servicio, transparencia, valor público, nivel de satisfacción del cliente, entre otros factores que miden el relacionamiento con los grupos de interés. Dimensión de procesos: dimensión que aborda los objetivos estratégicos asociados al adecuado funcionamiento y mejora del modelo operacional por procesos de SAE en su nivel estratégico, misional, de apoyo y/o de seguimiento y evaluación. Abordar esta dimensión contribuye a la productividad de SAE y satisfacer partes interesadas como son la Junta Directiva, proveedores, clientes externos, entes de control y otros grupos de interés que reciben los servicios de SAE. Algunas temáticas que se pueden abordar desde esta dimensión corresponden a la medición de la eficiencia operacional, la automatización de los procesos, el fortalecimiento de procesos, procesos de innovación, desarrollo de nuevos servicios, la implementación de los sistemas integrados de gestión, tecnología, entre otros. Dimensión de aprendizaje y crecimiento: dimensión que incluye los objetivos estratégicos relacionados con el talento humano de SAE y las condiciones que brinda la entidad para su permanencia, crecimiento, desarrollo y bienestar, teniendo en cuenta que son el corazón y la base para ejecutar la estrategia y modelo operacional de SAE. Algunas temáticas que se contemplan en esta dimensión pueden estar asociadas a las competencias del talento humano, al ambiente laboral, la gestión del conocimiento, al desarrollo profesional, a la retención del talento humano, procesos de aprendizaje, entre otros. | K9: Este campo es netamente informativo y se diligencia al momento de la formulación del Plan de Acción Institucional en el formato F-DE2-118 Formato Plan de acción. Este campo no es objeto de modificación al realizar el seguimiento al plan de acción, por lo que si desea modificar su contenido deberá solicitarlo a la Oficina Asesora de Planeación en el campo de observaciones junto con la justificación del cambio.
A11: Objetivos estratégicos | C11: Corresponden a los propósitos o fines que SAE establece en el corto y mediano plazo, en el marco de su visión, misión y estrategia operacional. Estos objetivos se establecen por cada una de las dimensiones estratégicas y deben ser diseñados contemplando que éstos puedan ser medidos, que sean específicos, adecuados, realistas y oportunos de acuerdo con la metodología SMART (George T.Doran). Estos objetivos estratégicos corresponden a los establecidos en el plan estratégico institucional cuatrienal establecido al interior de la entidad. | K11: Este campo es netamente informativo y se diligencia al momento de la formulación del Plan de Acción Institucional en el formato F-DE2-118 Formato Plan de acción. Este campo no es objeto de modificación al realizar el seguimiento al plan de acción, por lo que si desea modificar su contenido deberá solicitarlo a la Oficina Asesora de Planeación en el campo de observaciones junto con la justificación del cambio.
A12: Iniciativas | C12: Corresponden a las tácticas o acciones de nivel táctico que permiten desarrollar y desagregar la estrategia u objetivos estratégicos en metas más pequeñas que permitan su ejecución en el corto plazo. Estas iniciativas o tácticas agrupan una o más actividades de nivel operativo relacionadas, que garantizan el cumplimiento de los objetivos y metas estratégicas de SAE. | K12: Este campo es netamente informativo y se diligencia al momento de la formulación del Plan de Acción Institucional en el formato F-DE2-118 Formato Plan de acción. Este campo no es objeto de modificación al realizar el seguimiento al plan de acción, por lo que si desea modificar su contenido deberá solicitarlo a la Oficina Asesora de Planeación en el campo de observaciones junto con la justificación del cambio.
A13: Acciones | C13: Corresponden a las actividades a realizar en la vigencia por parte de las áreas de SAE a fin de dar cumplimiento a las iniciativas y objetivos estratégicos que conforman la estrategia de SAE para cada periodo de administración. | K13: Este campo es netamente informativo y se diligencia al momento de la formulación del Plan de Acción Institucional en el formato F-DE2-118 Formato Plan de acción. Este campo no es objeto de modificación al realizar el seguimiento al plan de acción, por lo que si desea modificar su contenido deberá solicitarlo a la Oficina Asesora de Planeación en el campo de observaciones junto con la justificación del cambio.
A14: Macroproceso | C14: Es un conjunto de procesos que se relacionan entresí y que contribuyen a un objetivo común en el marco del modelo operacional de SAE. Estos se encuentran determinados dentro de la arquitectura empresarial de SAE y se enlistan en el PAI a fin de asociar las actividades que contribuyen a su objetivo e identificar con mayor facilidad los indicadores que contribuyen a medir el desempeño de dicho macroproceso. | K14: Este campo es netamente informativo y se diligencia al momento de la formulación del Plan de Acción Institucional en el formato F-DE2-118 Formato Plan de acción. Este campo no es objeto de modificación al realizar el seguimiento al plan de acción, por lo que si desea modificar su contenido deberá solicitarlo a la Oficina Asesora de Planeación en el campo de observaciones junto con la justificación del cambio.
A15: Proceso | C15: Responde a un conjunto de actividades de nivel táctico o procedimientos que secuencialmente se interrelacionan para transformar las entradas de un proceso en resultados o salidas, cumplimiendo el objetivo de cada proceso dentro del modelo de operación de procesos de SAE. Estos se encuentran determinados dentro de la arquitectura empresarial de SAE y se enlistan en el PAI a fin de asociar las actividades que contribuyen a su objetivo e identificar con mayor facilidad los indicadores que contribuyen a medir el desempeño de dicho proceso. | K15: Este campo es netamente informativo y se diligencia al momento de la formulación del Plan de Acción Institucional en el formato F-DE2-118 Formato Plan de acción. Este campo no es objeto de modificación al realizar el seguimiento al plan de acción, por lo que si desea modificar su contenido deberá solicitarlo a la Oficina Asesora de Planeación en el campo de observaciones junto con la justificación del cambio.
A16: Área responsable de la ejecución | C16: Pertenece al área que ejecuta cada actividad o acción establecida en el Plan de Acción Institucional. | K16: Este campo es netamente informativo y se diligencia al momento de la formulación del Plan de Acción Institucional en el formato F-DE2-118 Formato Plan de acción. Este campo no es objeto de modificación al realizar el seguimiento al plan de acción, por lo que si desea modificar su contenido deberá solicitarlo a la Oficina Asesora de Planeación en el campo de observaciones junto con la justificación del cambio.
A17: ¿Se toma en cuenta para la evaluación de desempeño? | C17: Es un criterio establecido por SAE para determinar cuáles indicadores se tienen en cuenta para evaluar el desempeño o rendimiento de las áreas en función de las actividades desarrolladas en la vigencia. | K17: Este campo es netamente informativo y se diligencia al momento de la formulación del Plan de Acción Institucional en el formato F-DE2-118 Formato Plan de acción. Este campo no es objeto de modificación al realizar el seguimiento al plan de acción, por lo que si desea modificar su contenido deberá solicitarlo a la Oficina Asesora de Planeación en el campo de observaciones junto con la justificación del cambio.
A18: Nombre del indicador | C18: Es el título o denominación corta y sencilla que permite identificar el objetivo de medición del indicador. Este debe estar correlacionado con la actividad que se realiza en la vigencia y que se desea medir. | K18: Este campo es netamente informativo y se diligencia al momento de la formulación del Plan de Acción Institucional en el formato F-DE2-118 Formato Plan de acción. Este campo no es objeto de modificación al realizar el seguimiento al plan de acción, por lo que si desea modificar su contenido deberá solicitarlo a la Oficina Asesora de Planeación en el campo de observaciones junto con la justificación del cambio.
A19: Clasificación por ubicación en la cadena de valor público | C19: Corresponde a la clasificación de los indicadores dependiendo de su ubicación en la cadena de valor público. Dentro de esta cadena se contemplan los insumos, los procesos, los productos, los resultados y los impactos que se generan de la prestación de un servicio o generación de productos en el sector público. En el marco de esta cadena de valor público y teniendo en cuenta la clasificación adoptada por el DANE y recogida en la metodología de la Guía para la construcción y análisis de Indicadores de Gestión - Versión 4 del DAFP, se tiene que: * Gestión: cuantifica los recursos físicos, humanos y financieros utilizados en el desarrollo de los procesos mientras mide la cantidad de acciones, procesos, procedimientos y/u operaciones realizadas durante la etapa de implementación. Esta clasificación abarca los insumos y los procesos de la cadena de valor público. • Producto: cuantifica los productos y servicios realizados por cada área. Este indicador abarca la etapa de productos de la cadena de valor. • Efecto: mide los cambios obtenidos en el bienestar de la población objetivo como consecuencia de manera directa o indirecta de la entrega de los productos y/o servicios. Esta clasificación contempla las etapas de resultados o efectos, e impactos de la cadena de valor. | K19: Este campo es netamente informativo y se diligencia al momento de la formulación del Plan de Acción Institucional en el formato F-DE2-118 Formato Plan de acción. Este campo no es objeto de modificación al realizar el seguimiento al plan de acción, por lo que si desea modificar su contenido deberá solicitarlo a la Oficina Asesora de Planeación en el campo de observaciones junto con la justificación del cambio.
A20: Tipo de indicador | C20: Corresponde a la categorización de los indicadores de acuerdo con su naturaleza. Para la estructuración del PAI, la SAE emplea las siguientes tipologías o tipos de indicadores: * Indicadores de calidad: indicadores que buscan medir aspectos relacionados con la capacidad de SAE para atender a las necesidades y demandas de sus usuarios bajo preceptos de rápidez e inmediatez a la hora de prestar sus bienes o servicios. La SAE enfoca la medición de estos indicadores hacia aspectos como la oportunidad y la percepción de satisfacción de los usuarios. * Indicadores de economía: indicadores que permiten medir la capacidad de SAE para gestionar los recursos disponibles de la forma más conveniente y adecuada. El enfoque de SAE frente a este tipo de indicadores va asociado a la medición del desempeño presupuestal, los posibles ahorros asociados a las actividades del plan de acción, medición de utilidades, ingresos económicos, rendimientos financieros, valor público y rentabilidad social. * Indicadores de eficacia: indicadores que buscan determinar el cumplimiento de un objetivo o una actividad de acuerdo con la meta establecida. Al interior de SAE los indicadores de eficacia se enfocan principalmente en la medición de factores claves de éxito, puntos críticos, factores de mejora y resultados estratégicos. | K20: Este campo es netamente informativo y se diligencia al momento de la formulación del Plan de Acción Institucional en el formato F-DE2-118 Formato Plan de acción. Este campo no es objeto de modificación al realizar el seguimiento al plan de acción, por lo que si desea modificar su contenido deberá solicitarlo a la Oficina Asesora de Planeación en el campo de observaciones junto con la justificación del cambio.
... A32: Observaciones | C32: Es el espacio contemplado para establecer acciones de mejora en los casos que el cumplimiento del indicador a corte del trimestre evaluado sea inferior al 70%, es decir, su rendimiento de resultados en función del tiempo no es óptimo. También se considera un espacio para realizar solicitudes de modificación o eliminación de indicadores, junto con su justificación y propuesta, en caso de ser necesario. Estos insumos son socializados al Comité Directivo a fin de que conozcan las razones de indicadores con bajo desempeño y validar y aprobar solicitudes de cambios al Plan de Acción Institucional. | K32: Si el indicador a corte del trimestre evaluado (Columna S) presenta un cumplimiento menor al 70% indique las actividades que se realizarán para cumplir la meta establecida y mejorar el desempeño del indicador. Adicionalmente y en caso de identificar necesidades de modificación o eliminación al indicador, por favor registre la solicitud en este espacio, junto con la respectiva justificación y propuesta en caso de ser necesario.
A35: Pestaña "Datos"
A37: Esta pestaña es de uso exclusivo de la Oficina Asesora de Planeación para parametrizar los datos asociados a la medición y seguimiento del Plan de Acción Institucional

Sheet PAI
C1: FORMATO MEDICIÓN PLAN DE ACCIÓN INSTITUCIONAL PROCESO GOBIERNO Y GESTIÓN DE LA ESTRATEGIA MACROPROCESO DIRECCIONAMIENTO ESTRATÉGICO | O1: Código: F-DE2-301 Versión No.: 04 Vigencia desde: 26 – 09- 2023
A4: MEDICIÓN PLAN DE ACCIÓN INSTITUCIONAL (PAI) 2023 SOCIEDAD DE ACTIVOS ESPECIALES S.A.S.
A6: Alineación estratégica y táctica | D6: Alineación Operativa | G6: Información del área que ejecuta la acción | I6: Nombre del indicador | J6: Clasificación de indicadores | M6: Información complementaria del indicador | Q6: Seguimiento cuantitativo del indicador | T6: Alerta de desempeño al corte evaluado | V6: Análisis cualitativo del indicador
A7: Dimensión | B7: Objetivos estratégicos | C7: Iniciativas | D7: Acciones | E7: Macroproceso | F7: Proceso | G7: Área responsable de la ejecución | H7: ¿Se toma en cuenta para la evaluación de desempeño? | I7: Nombre del indicador | J7: Clasificación por ubicación en la cadena de valor público | K7: Tipo de indicador | L7: Comportamiento del indicador | M7: Fórmula para medir el indicador | N7: Descripción del indicador | O7: Meta 2023 | P7: Periodicidad del reporte | Q7: Numerador | R7: Denominador | S7: Cumplimiento del indicador en el año | T7: % Meta T3 | U7: Cumplimiento del indicador a corte del trimestre evaluado | V7: Análisis del indicador | W7: Observaciones
A8: Productiva, social y ambiental | B8: 01. Democratizar los activos administrados por la SAE a través de mecanismos de disposición temporal y definitiva que permitan la creación de valor público, social y ambiental; aporten al desarrollo territorial y productivo y garanticen la función social y ecológica de la propiedad. | C8: Adelantar destinaciones especiales temporales y definitivas, priorizando los procesos productivos, sociales, ambientales, así como la atención ante emergencias y desastres producto de fenómenos de variabilidad climática | D8: Presentar casos de destinación temporal de inmuebles rurales dirigidos a población de especial protección constitucional o entidades públicas que desarrollaran proyectos con esta población | E8: Disposición Temporal | F8: Administración de destinación provisional | G8: Gerencia de Bienes Inmuebles Rurales | H8: SÍ | I8: Destinaciones provisionales de Inmuebles Rurales | J8: Gestión | K8: Eficacia | L8: Demanda | M8: (Número de destinaciones Provisionales de Inmuebles rurales presentados a Comité/ Solicitudes de destinaciones provisionales viables) *100% | N8: Objetivo del indicador: medir la presentación de activos para destinación temporal de inmuebles rurales ante el Comité de Depositarios, Destinatarios, Mandatarios y Liquidadores, para determinar su favorabilidad o no. Numerador: total de destinaciones provisionales presentadas al Comité de Depositarios, Destinatarios, Mandatarios y Liquidadores en ficha técnica de acuerdo con lineamientos técnicos. Denominador: las solicitudes para destinación provisional de inmuebles rurales se consideran viables cuando la documentación se encuentra completa de acuerdo con metodología, cuando el inmueble demuestra baja productividad o comercialización, y cuando el solicitante corresponde a población de especial protección constitucional o entidades públicas que desarrollaran proyectos con esta población. Observación: se hace necesario indicar en el análisis del indicador, las destinaciones temporales aprobadas como insumo para la medición de la macrometa estratégica "Destinaciones de inmuebles al fomento de la economía popular" | O8: 1 | P8: Trimestral | Q8: 27 | R8: 27 | S8: =IFERROR(IF(L8="Programación anual", IF(COUNTIF(O8,"<=1")=1,(Q8/R8)*(100%/O8),Q8/R8), IF(COUNTIF(O8,"<=1")=1,(Q8/R8)*(100%/O8)*(T8/100%),(Q8/R8)*(T8/100%)))," ") -> 0.75 | T8: 0.75 | U8: =IFERROR(IF(S8=" "," ",IF(S8>=T8,1,S8/T8))," ") -> 1 | V8: Tercer trimestre: Durante el tercer trimestre de 2023 se presentaron 8 inmuebles rurales a Comité de Destinatarios, Depositarios, Mandatarios y Liquidadores (numerador) para destinación provisional que, corresponde al mismo número de solicitudes de destinación con viabilidad para su trámite (denominador), en favor de entidades públicas u organizaciones sin ánimo de lucro. El acumulado del año de este indicador señala que, se han tramitado a la fecha 27 casos ante el Comité de Destinatarios, Depositarios, Mandatarios y Liquidarores viables. Sobre estos casos se cuenta con resolución de destinación emitida. | AE8: =IF(B8=Datos!$C$11, "Iniciativas_Objetivo1", IF(B8=Datos!$C$12, "Iniciativas_Objetivo2", IF(B8=Datos!$C$13, "Iniciativas_Objetivo3", IF(B8=Datos!$C$14, "Iniciativas_Objetivo4", IF(B8=Datos!$C$15, "Iniciativas_Objetivo5", IF(B8=Datos!$C$16, "Iniciativas_Objetivo6", IF(B8=Datos!$C$17, "Iniciativas_Objetivo7", IF(B8=Datos!$C$18, "Iniciativas_Objetivo8", IF(B8=Datos!$C$19, "Iniciativas_Objetivo9", IF(B8=Datos!$C$20, "Iniciativas_Objetivo10", IF(B8=Datos!$C$21, "Iniciativas_Objetivo11", IF(B8=Datos!$C$22, "Iniciativas_Objetivo12",IF(B8=Datos!$C$23, "Iniciativas_Objetivo13", " "))))))))))))) -> Iniciativas_Objetivo1
A9: Productiva, social y ambiental | B9: 01. Democratizar los activos administrados por la SAE a través de mecanismos de disposición temporal y definitiva que permitan la creación de valor público, social y ambiental; aporten al desarrollo territorial y productivo y garanticen la función social y ecológica de la propiedad. | C9: Adelantar destinaciones especiales temporales y definitivas, priorizando los procesos productivos, sociales, ambientales, así como la atención ante emergencias y desastres producto de fenómenos de variabilidad climática | D9: Realizar procesos de destinación definitiva de inmuebles rurales dirigidos a población de especial protección constitucional o entidades públicas que desarrollaran proyectos con esta población | E9: Disposición Final | F9: Otras modalidades de disposición final | G9: Gerencia de Bienes Inmuebles Rurales | H9: SÍ | I9: Destinaciones definitivas de Inmuebles Rurales | J9: Producto | K9: Eficacia | L9: Demanda | M9: (Número de destinaciones definitivas de Inmuebles rurales realizadas/ Solicitudes de destinaciones definitivas viables) *100% | N9: Objetivo del indicador: medir las destinaciones definitivas realizadas con la ANT, ART, URT, entidades adscritas a MinDefensa u otras que determine la Ley. Numerador: total de destinaciones definitivas presentadas a la ANT, ART, URT, entidades adscritas a MinDefensa u otras que determine la Ley. Denominador: Las solicitudes de destinación definitiva de inmuebles rurales se considera viable cuando el inmueble tenga viabilidad técnica y jurídica para su destinación. Observación: se hace necesario indicar en el análisis del indicador, las destinaciones definitivas aprobadas como insumo para la medición de la macrometa estratégica "Destinaciones de inmuebles al fomento de la economía popular" | O9: 1 | P9: Trimestral | Q9: 57 | R9: 57 | S9: =IFERROR(IF(L9="Programación anual", IF(COUNTIF(O9,"<=1")=1,(Q9/R9)*(100%/O9),Q9/R9), IF(COUNTIF(O9,"<=1")=1,(Q9/R9)*(100%/O9)*(T9/100%),(Q9/R9)*(T9/100%)))," ") -> 0.75 | T9: 0.75 | U9: =IFERROR(IF(S9=" "," ",IF(S9>=T9,1,S9/T9))," ") -> 1 | V9: Tercer trimestre: Es pertinente indicar, que en el presente trimestre comprendido entre los meses de julio a septiembre del presente año, fueron recibidas un total de 50 solicitudes referente a destinación definitiva, de las cuales 42 se consideran viables (denominador) y fueron tramitadas en igual cantidad ante las áreas correspondientes. (númerdor) De las 42 viables, desde la Gerencia de Bienes Inmuebles Rurales se han adelantado todas las gestiones pertinentes para la expedición del acto administrativo, a la fecha ya encontrándose solicitados a la Vicepresidencia jurídica 22; de los 20 restantes, estamos a la espera de 15 viabilidades administrativas, esto con el fin de poder remitir la solicitud de expedición de acto administrativo a la Vicepresidencia jurídica. | AE9: =IF(B9=Datos!$C$11, "Iniciativas_Objetivo1", IF(B9=Datos!$C$12, "Iniciativas_Objetivo2", IF(B9=Datos!$C$13, "Iniciativas_Objetivo3", IF(B9=Datos!$C$14, "Iniciativas_Objetivo4", IF(B9=Datos!$C$15, "Iniciativas_Objetivo5", IF(B9=Datos!$C$16, "Iniciativas_Objetivo6", IF(B9=Datos!$C$17, "Iniciativas_Objetivo7", IF(B9=Datos!$C$18, "Iniciativas_Objetivo8", IF(B9=Datos!$C$19, "Iniciativas_Objetivo9", IF(B9=Datos!$C$20, "Iniciativas_Objetivo10", IF(B9=Datos!$C$21, "Iniciativas_Objetivo11", IF(B9=Datos!$C$22, "Iniciativas_Objetivo12",IF(B9=Datos!$C$23, "Iniciativas_Objetivo13", " "))))))))))))) -> Iniciativas_Objetivo1
A10: Productiva, social y ambiental | B10: 01. Democratizar los activos administrados por la SAE a través de mecanismos de disposición temporal y definitiva que permitan la creación de valor público, social y ambiental; aporten al desarrollo territorial y productivo y garanticen la función social y ecológica de la propiedad. | C10: Adelantar destinaciones especiales temporales y definitivas, priorizando los procesos productivos, sociales, ambientales, así como la atención ante emergencias y desastres producto de fenómenos de variabilidad climática | D10: Realizar diagnóstico técnico de Inmuebles Rurales para procesos de disposición final gratuita con enfoque social y productivo | E10: Diagnóstico y Alistamiento | F10: Diagnóstico de Activos | G10: Gerencia de Bienes Inmuebles Rurales | H10: SÍ | I10: Diagnóstico Técnico de Inmuebles Rurales para procesos de disposición final gratuita con enfoque social y productivo | J10: Gestión | K10: Eficacia | L10: Demanda | M10: (Inmuebles rurales con diagnóstico técnico entregados a la gerencia técnica/ Inmuebles rurales con viabilidad jurídica positiva para transferencia) *100% | N10: Objetivo del indicador: medir el diagnóstico técnico de inmuebles rurales para disponerlos de manera definitiva y gratuita a entidades públicas o a poblaciones priorizadas y constitucionalmente protegidas. Numerador: se considera que un inmueble rural cuenta con diagnóstico técnico cuando se ha determinado: Vocación del bien; estado del inmueble; necesidades de saneamiento requeridos y su entrega a la Gerencia Técnica. Denominador: corresponde a las viabilidades jurídicas que la Gerencia de Asuntos Legales determina como viables para la transferencia definitiva gratuita de inmuebles a entidades públicas o a poblaciones priorizadas y constitucionalmente protegidas. | O10: 1 | P10: Trimestral | Q10: 347 | R10: 252 | S10: =IFERROR(IF(IF(L10="Programación anual", IF(COUNTIF(O10,"<=1")=1,(Q10/R10)*(100%/O10),Q10/R10), IF(COUNTIF(O10,"<=1")=1,(Q10/R10)*(100%/O10)*(T10/100%),(Q10/R10)*(T10/100%)))>=1,100%,IF(L10="Programación anual", IF(COUNTIF(O10,"<=1")=1,(Q10/R10)*(100%/O10),Q10/R10), IF(COUNTIF(O10,"<=1")=1,(Q10/R10)*(100%/O10)*(T10/100%),(Q10/R10)*(T10/100%))))," ") -> 1 | T10: 0.75 | U10: =IFERROR(IF(S10=" "," ",IF(S10>=T10,1,S10/T10))," ") -> 1 | V10: Tercer trimestre: Durante el tercer trimestre del presente año se entregaron a la Gerencia Técnica 232 fichas de caracterización predial que versan sobre viabilidades jurídicas positivas emitidas durante el segundo y tercer trimestre de este año. Durante el mismo periodo se determinó un total de 79 inmuebles rurales con viabilidad jurídica positiva para transferencia. Por otro lado, el denominador no aumentó durante este periodo en la misma proporción debido a que la Viceprecidencia Jurídica entregó a la Gerencia de Rurales unicamente 79 conceptos jurídicos viables. Es importante tener en cuanta que, las fichas técnicas de caracterización se realizan unicamente sobre los conceptos jurídicos viables, no obstante, el mayor número de fichas elaboradas respecto de las viabilidades jurídicas positivas se debe a que la Gerencia de Asuntos Legales solicita como condición para la elaboración de los actos administrativos que las fichas técnicas se actualicen. | AE10: =IF(B10=Datos!$C$11, "Iniciativas_Objetivo1", IF(B10=Datos!$C$12, "Iniciativas_Objetivo2", IF(B10=Datos!$C$13, "Iniciativas_Objetivo3", IF(B10=Datos!$C$14, "Iniciativas_Objetivo4", IF(B10=Datos!$C$15, "Iniciativas_Objetivo5", IF(B10=Datos!$C$16, "Iniciativas_Objetivo6", IF(B10=Datos!$C$17, "Iniciativas_Objetivo7", IF(B10=Datos!$C$18, "Iniciativas_Objetivo8", IF(B10=Datos!$C$19, "Iniciativas_Objetivo9", IF(B10=Datos!$C$20, "Iniciativas_Objetivo10", IF(B10=Datos!$C$21, "Iniciativas_Objetivo11", IF(B10=Datos!$C$22, "Iniciativas_Objetivo12",IF(B10=Datos!$C$23, "Iniciativas_Objetivo13", " "))))))))))))) -> Iniciativas_Objetivo1
A11: Productiva, social y ambiental | B11: 01. Democratizar los activos administrados por la SAE a través de mecanismos de disposición temporal y definitiva que permitan la creación de valor público, social y ambiental; aporten al desarrollo territorial y productivo y garanticen la función social y ecológica de la propiedad. | C11: Adelantar destinaciones especiales temporales y definitivas, priorizando los procesos productivos, sociales, ambientales, así como la atención ante emergencias y desastres producto de fenómenos de variabilidad climática | D11: Atender las solicitudes de destinación provisional y definitiva de inmuebles urbanos | E11: Disposición Temporal | F11: Administración de Destinación Provisional | G11: Gerencia de Bienes Inmuebles Urbanos | H11: SÍ | I11: Trámite de solicitudes de destinación provisional y definitivas | J11: Gestión | K11: Eficacia | L11: Demanda | M11: (Solicitudes de destinación provisional y definitiva de inmuebles urbanos atendidas/ Solicitudes de destinación provisional y definitiva de inmuebles recibidas)*100% | N11: Objetivo del indicador: medir la atención de las solicitudes recibidas por entidades públicas, privadas y personas naturales de destinación provisional y definitivas de inmuebles urbanos. Numerador: las solicitudes atendidas hacen referencia a la contestación de viabilidad de destinación provisional o definitiva al solicitante. Denominador: corresponde a las solicitudes de destinación provisional o definitiva de inmuebles urbanas allegadas por los canales oficiales de comunicación de SAE. | O11: 1 | P11: Trimestral | Q11: 51 | R11: 75 | S11: =IFERROR(IF(L11="Programación anual", IF(COUNTIF(O11,"<=1")=1,(Q11/R11)*(100%/O11),Q11/R11), IF(COUNTIF(O11,"<=1")=1,(Q11/R11)*(100%/O11)*(T11/100%),(Q11/R11)*(T11/100%)))," ") -> 0.51 | T11: 0.75 | U11: =IFERROR(IF(S11=" "," ",IF(S11>=T11,1,S11/T11))," ") -> 0.68 | V11: En cuanto a las solicitudes de destinación provisional, la Gerencia recibió 68 solicitudes con corte al T3, de las cuales se atendieron 44 satisfactoriamente. Contamos con 17 solicitudes que se atendieron de manera desfavorable, por diferentes razones, entre las cuales resaltan, 4 entidades públicas que optaron por el mecanismo de administración de Comodato, 4 desistimiento de las entidades previa a la presentación del caso a comité, 1 devolución del activo previo presentación del caso a comité, 2 con calificación de riesgo alto por parte de la GREC, 2 entidades con solicitudes sobre inmuebles sociales y 4 entidades que pese a requerirlas para la completitud de la información no se recibió respuesta alguna. Así mismo, se cuenta con 7 solicitudes restantes que se gestionaron, pero no tienen contestación de viabilidad por cuanto requieren subsanación por parte de la entidad solicitante (completitud de requisitos y ajustes con el lleno de información en los formatos institucionales). Por lo anterior, la Gerencia se encuentra en el seguimiento y acompañamiento a las entidades para sacar avante las destinaciones. En cuanto a las solicitudes de destinación definitiva, la Gerencia recibió 7 solicitudes de destinación sobre bienes inmuebles urbanos para entidades como Policía Nacional de Colombia, Gobernación del Magdalena y Alcaldía de San Carlos (Antioquía). Respecto a estas, la Gerencia solicitó a las áreas correspindientes la viabilidad técnica, jurídica y administrativa a las áreas correspondientes mediante los Orfeos: 20234200065303, 20234200065293, 20234200065313, 20234200065343, 20234200068683, 20234200068613, 20234200068733, 20234200078893, 20234200078903, 20234200078883, 20234200085603 y 20234200085573. De ahí, únicamente la Gerencia ha recibido 3 viabilidades administrativas entregadas por las Gerencias Regionales. Se está a la espera de la respuesta favorable para avanzar con el procedimiento. | W11: El proceso de destinación definitiva ha estado marcado por demoras en la emisión de los conceptos de viabilidad que deben proporcionar las áreas involucradas, la Gerencia ha venido reiterando a través de correo electrónico la entrega de los insumos para avanzar en los propósitos del PND. | AE11: =IF(B11=Datos!$C$11, "Iniciativas_Objetivo1", IF(B11=Datos!$C$12, "Iniciativas_Objetivo2", IF(B11=Datos!$C$13, "Iniciativas_Objetivo3", IF(B11=Datos!$C$14, "Iniciativas_Objetivo4", IF(B11=Datos!$C$15, "Iniciativas_Objetivo5", IF(B11=Datos!$C$16, "Iniciativas_Objetivo6", IF(B11=Datos!$C$17, "Iniciativas_Objetivo7", IF(B11=Datos!$C$18, "Iniciativas_Objetivo8", IF(B11=Datos!$C$19, "Iniciativas_Objetivo9", IF(B11=Datos!$C$20, "Iniciativas_Objetivo10", IF(B11=Datos!$C$21, "Iniciativas_Objetivo11", IF(B11=Datos!$C$22, "Iniciativas_Objetivo12",IF(B11=Datos!$C$23, "Iniciativas_Objetivo13", " "))))))))))))) -> Iniciativas_Objetivo1
A12: Productiva, social y ambiental | B12: 01. Democratizar los activos administrados por la SAE a través de mecanismos de disposición temporal y definitiva que permitan la creación de valor público, social y ambiental; aporten al desarrollo territorial y productivo y garanticen la función social y ecológica de la propiedad. | C12: Adelantar destinaciones especiales temporales y definitivas, priorizando los procesos productivos, sociales, ambientales, así como la atención ante emergencias y desastres producto de fenómenos de variabilidad climática | D12: Atender las solicitudes de daciones en pago y cruce de cuentas, diversificando el acceso para el desarrollo territorial y productivo. | E12: Disposición Final | F12: Otras Modalidades de Disposición Final | G12: Gerencia Comercial | H12: SÍ | I12: Daciones en pago o cruce de cuentas | J12: Producto | K12: Eficacia | L12: Demanda | M12: (Daciones en pago o cruce de cuentas atendidas efectivamente/ Solicitudes de daciones en pago o cruce de cuentas)*100% | N12: Objetivo del indicador: medir la efectividad de la dación de pagos o cruce de cuentas respecto a las solicitudes efectuadas. Numerador: la atención efectiva de dación de pagos o cruce de cuentas corresponde al número de negocios cerrados con entidades públicas y privadas. Denominador: corresponde al total de solicitudes acumuladas en la vigencia relacionadas con daciones en pago o cruce de cuentas. | O12: 1 | P12: Trimestral | Q12: 1 | R12: 4 | S12: =IFERROR(IF(L12="Programación anual", IF(COUNTIF(O12,"<=1")=1,(Q12/R12)*(100%/O12),Q12/R12), IF(COUNTIF(O12,"<=1")=1,(Q12/R12)*(100%/O12)*(T12/100%),(Q12/R12)*(T12/100%)))," ") -> 0.1875 | T12: 0.75 | U12: =IFERROR(IF(S12=" "," ",IF(S12>=T12,1,S12/T12))," ") -> 0.25 | V12: Se atendió y finalizo 1 caso relacionado con cruce de cuentas con el Municipio de Villavicencio FMI No 230-71743, el cual ya se encuentra registrado a favor del comprador. Con relación a los otros casos (3), estos corresponden a solicitudes de dación en pago y/o cruce de cuentas que realizan terceros de buena fé reconocidos en el proceso de extinción de dominio, los cuales han sido gestionados por la Gerencia Comercial, no obstante para lograr la consolidación de estos negocios, se depende del insumo de diferentes dependencias, así como de otros factores externos ,ejemplo avalúos comerciales, saneamientos catastrales, viabilidades jurídicas, revisión de sentencias, información de pasivos etc, y en todos los casos se encuentran en trámite. | W12: Teniendo en cuenta que el cierre efectivo de este tipo de negocios no es únicamente responsabilidad de la Gerencia Comercial y sobrepasa la gestión que se pueda realizar en esta vigencia, se propone las siguientes alternativas : 1. Que se elimine este indicador del plan de acción 2023. 2. Que el indicador no sea tenido en cuenta en la evaluación de desempeño. 3. Que el numerador corresponda únicamente a la atención y gestión realizada a las solicitudes de dación de pagos o cruce de cuentas, sin el cierre efectivo, por cuanto la finalización de estos depende de factores internos y externos, que no dependen de la Gerencia Comercial. 4. Cambiar la meta al 25%, teniendo en cuenta que el cierre efectivo de los negocios, en circunstancias reales no se podrá realizar en esta vigencia a pesar de las gestiones realizadas. | AE12: =IF(B12=Datos!$C$11, "Iniciativas_Objetivo1", IF(B12=Datos!$C$12, "Iniciativas_Objetivo2", IF(B12=Datos!$C$13, "Iniciativas_Objetivo3", IF(B12=Datos!$C$14, "Iniciativas_Objetivo4", IF(B12=Datos!$C$15, "Iniciativas_Objetivo5", IF(B12=Datos!$C$16, "Iniciativas_Objetivo6", IF(B12=Datos!$C$17, "Iniciativas_Objetivo7", IF(B12=Datos!$C$18, "Iniciativas_Objetivo8", IF(B12=Datos!$C$19, "Iniciativas_Objetivo9", IF(B12=Datos!$C$20, "Iniciativas_Objetivo10", IF(B12=Datos!$C$21, "Iniciativas_Objetivo11", IF(B12=Datos!$C$22, "Iniciativas_Objetivo12",IF(B12=Datos!$C$23, "Iniciativas_Objetivo13", " "))))))))))))) -> Iniciativas_Objetivo1
A13: Productiva, social y ambiental | B13: 01. Democratizar los activos administrados por la SAE a través de mecanismos de disposición temporal y definitiva que permitan la creación de valor público, social y ambiental; aporten al desarrollo territorial y productivo y garanticen la función social y ecológica de la propiedad. | C13: Adelantar destinaciones especiales temporales y definitivas, priorizando los procesos productivos, sociales, ambientales, así como la atención ante emergencias y desastres producto de fenómenos de variabilidad climática | D13: Realizar destinaciones y donaciones de bienes muebles priorizando procesos productos, sociales o ambientales | E13: Disposición Temporal Disposición Final | F13: Administración de destinación provisional Otras modalidades de disposición final | G13: Gerencia de Bienes Muebles | H13: SÍ | I13: Destinación y donación de bienes muebles | J13: Producto | K13: Eficacia | L13: Programación anual | M13: (Número de bienes muebles destinados y donados/ Número de bienes muebles programados para destinación y donación)*100% | N13: Objetivo del indicador: medir el número de bienes que se destinan provisional o definitivamente y donan por parte de la Gerencia de Muebles, según inventario. Numerador: corresponde al número de bienes que se destinan provisional o definitivamente para procesos productivos, sociales o ambientales. Denominador: corresponde al número de bienes que se tienen programados para destinación provisional o definitiva o para donación. | O13: 100 | P13: Trimestral | Q13: 120 | R13: 100 | S13: =IFERROR(IF(IF(L13="Programación anual", IF(COUNTIF(O13,"<=1")=1,(Q13/R13)*(100%/O13),Q13/R13), IF(COUNTIF(O13,"<=1")=1,(Q13/R13)*(100%/O13)*(T13/100%),(Q13/R13)*(T13/100%)))>=1,100%,IF(L13="Programación anual", IF(COUNTIF(O13,"<=1")=1,(Q13/R13)*(100%/O13),Q13/R13), IF(COUNTIF(O13,"<=1")=1,(Q13/R13)*(100%/O13)*(T13/100%),(Q13/R13)*(T13/100%))))," ") -> 1 | T13: 0.75 | U13: =IFERROR(IF(S13=" "," ",IF(S13>=T13,1,S13/T13))," ") -> 1 | V13: Se ha efectuado el tramite de destinacion provisional sobre 115 vehiculos y se donaron 5 registros de hidrocarburos - gasolina 2.605 galones por valor de $34.828.850 y 1 registro de ACPM de 275 galones valorados en $ 2.573.175 para un total 2.880 galones en total. | W13: Durante el ultimo trimestre se agilizaron tramites internos y externos relacionados con la consecucion de polizas lo que permitio el alcance de la meta propuesta. | AE13: =IF(B13=Datos!$C$11, "Iniciativas_Objetivo1", IF(B13=Datos!$C$12, "Iniciativas_Objetivo2", IF(B13=Datos!$C$13, "Iniciativas_Objetivo3", IF(B13=Datos!$C$14, "Iniciativas_Objetivo4", IF(B13=Datos!$C$15, "Iniciativas_Objetivo5", IF(B13=Datos!$C$16, "Iniciativas_Objetivo6", IF(B13=Datos!$C$17, "Iniciativas_Objetivo7", IF(B13=Datos!$C$18, "Iniciativas_Objetivo8", IF(B13=Datos!$C$19, "Iniciativas_Objetivo9", IF(B13=Datos!$C$20, "Iniciativas_Objetivo10", IF(B13=Datos!$C$21, "Iniciativas_Objetivo11", IF(B13=Datos!$C$22, "Iniciativas_Objetivo12",IF(B13=Datos!$C$23, "Iniciativas_Objetivo13", " "))))))))))))) -> Iniciativas_Objetivo1
A14: Productiva, social y ambiental | B14: 01. Democratizar los activos administrados por la SAE a través de mecanismos de disposición temporal y definitiva que permitan la creación de valor público, social y ambiental; aporten al desarrollo territorial y productivo y garanticen la función social y ecológica de la propiedad. | C14: Garantizar la inclusión de comunidades, organizaciones sociales y economías populares en condición de vulnerabilidad en los mecanismos de administración existentes | D14: Permitir la inclusión de organizaciones comunitarias en el gerenciamiento de Sociedades Activas y/o establecimientos de comercio. | E14: Disposición Temporal | F14: Administración de Depósitos Provisionales | G14: Gerencia de Sociedades Activas | H14: SÍ | I14: Gerencias populares en Sociedades Activas y/o establecimientos de comercio. | J14: Producto | K14: Eficacia | L14: Programación anual | M14: (Sociedades Activas y/o establecimientos de comercio con gerencias populares/Sociedades Activas y/o establecimientos de comercio priorizados para el gerenciamiento de organizaciones populares)*100% | N14: Objetivo del indicador: medir la inclusión de organizaciones comunitarias en el gerenciamiento de Sociedades Activas y/o establecimientos de comercio. Numerador: corresponde al número de Sociedades Activas y/o establecimientos de comercio con gerenciamiento de organizaciones populares y/o comunitarias. Denominador: son las Sociedades Activas y/o establecimientos de comercio priorizados por la Gerencia de Sociedades Activas para el gerenciamiento popular. | O14: 10 | P14: Trimestral | Q14: 2 | R14: 10 | S14: =IFERROR(IF(L14="Programación anual", IF(COUNTIF(O14,"<=1")=1,(Q14/R14)*(100%/O14),Q14/R14), IF(COUNTIF(O14,"<=1")=1,(Q14/R14)*(100%/O14)*(T14/100%),(Q14/R14)*(T14/100%)))," ") -> 0.2 | T14: 0.75 | U14: =IFERROR(IF(S14=" "," ",IF(S14>=T14,1,S14/T14))," ") -> 0.26666667 | V14: La primera gerencia popular implementada desde la Vicepresidencia fue la entrega del gimnasio en el establecimiento de comercio GYM BOX para ser administrado por la medallista olímpica Ubaldina Valoyes como acto inaugural del programa. La segunda corresponde a la designación de Fundemerca como gerente popular de la sociedad GANADERÍA SAN CARLOS GAVIGAN. | W14: La convocatoria de gerentes populares arrojó 11 candidatos para gerentes populares, para los cuales se está realizando el análisis del portafolio con el fin de asignarles bienes. Por otro lado, se han identificado 10 establecimientos de comercio hoteleros que pueden ser sujeto de gerencias populares, entre los que se encuentran avanzados los procesos de dos en Acandí y Capurganá. | AE14: =IF(B14=Datos!$C$11, "Iniciativas_Objetivo1", IF(B14=Datos!$C$12, "Iniciativas_Objetivo2", IF(B14=Datos!$C$13, "Iniciativas_Objetivo3", IF(B14=Datos!$C$14, "Iniciativas_Objetivo4", IF(B14=Datos!$C$15, "Iniciativas_Objetivo5", IF(B14=Datos!$C$16, "Iniciativas_Objetivo6", IF(B14=Datos!$C$17, "Iniciativas_Objetivo7", IF(B14=Datos!$C$18, "Iniciativas_Objetivo8", IF(B14=Datos!$C$19, "Iniciativas_Objetivo9", IF(B14=Datos!$C$20, "Iniciativas_Objetivo10", IF(B14=Datos!$C$21, "Iniciativas_Objetivo11", IF(B14=Datos!$C$22, "Iniciativas_Objetivo12",IF(B14=Datos!$C$23, "Iniciativas_Objetivo13", " "))))))))))))) -> Iniciativas_Objetivo1
A15: Procesos | B15: 09. Garantizar la mejora continua del modelo de operación de la SAE basado en acciones de optimización, automatización, control y articulación de procesos contribuyendo a la reducción de tiempos, la transparencia en la operación y el cumplimiento de objetivos institucionales. | C15: Estandarizar, optimizar y automatizar procesos de SAE de acuerdo a nuevo modelo operacional | D15: Actualizar el modelo operacional del esquema de administración por depósitos provisionales | E15: Recepción y Registro | F15: Administración del Registro de Depositarios Provisionales y Liquidadores del FRISCO | G15: GIT. Depositarios Provisionales y Liquidadores | H15: SÍ | I15: Actualización Esquema de Administración Depósitos Provisionales | J15: Gestión | K15: Eficacia | L15: Programación anual | M15: (Documentos actualizados o creados asociados al esquema de administración de depósitos provisionales / Documentos programados asociados al esquema de administración de depósitos provisionales)*100% | N15: Objetivo del indicador: medir el grado de avance en la actualización del modelo operacional del esquema de administración por depósitos provisionales. Numerador: corresponde a la elaboración y/o actualización de documentos asociados al esquema operacional de depositarios como procedimientos, instructivos, formatos, entre otros que se requieran. Denominador: corresponde a los documentos operacionales identificados por crear o actualizar en el esquema de depósitos provisionales. Para el 2023 se tienen estimados siete (7) documentos. | O15: 1 | P15: Trimestral | Q15: 5 | R15: 7 | S15: =IFERROR(IF(L15="Programación anual", IF(COUNTIF(O15,"<=1")=1,(Q15/R15)*(100%/O15),Q15/R15), IF(COUNTIF(O15,"<=1")=1,(Q15/R15)*(100%/O15)*(T15/100%),(Q15/R15)*(T15/100%)))," ") -> 0.71428571 | T15: 0.75 | U15: =IFERROR(IF(S15=" "," ",IF(S15>=T15,1,S15/T15))," ") -> 0.95238095 | V15: En el Grupo Interno de Trabajo de Depositarios y liquidadores se realizó el trabajo de actualización por medio de la emisión de cinco (5) documentos. El primer documento son los términos de la convocatoria 01 de 2023. En este documento se aplico la modalidad de Depositarios y Gerentes Populares. Este trabajo implicó realizar aportes para la actualización de la Metodologia de Administración de SAE en el capítulo 5. El segundo documento que se diseño y emitió fue el de "Procedimiento de Convocatoria y Selección de Depositarios Provisionales P-RR2-030". El tercer documento, es una actualización del "Procedimiento Asignación de Activos a depositarios y Liquidadores P-RR2-056" para el caso de pólizas y de unidades máximas para bienes inmuebles urbanos y rurales. El cuarto documento es un Procedimiento para asignación a Depositarios y Gerentes Populares. El quinto documento es un documento de lineamientos para realizar acompañamiento y seguimiento a Depositarios y Gerentes Populares. | W15: Falta realizar una actualización al "Instructivo Evaluación de Depositarios Provisionales N-RR2-049". Así mismo, realizar la automatización del proceso de calificación de Depositarios Provisionales F-RR2-212. | AE15: =IF(B15=Datos!$C$11, "Iniciativas_Objetivo1", IF(B15=Datos!$C$12, "Iniciativas_Objetivo2", IF(B15=Datos!$C$13, "Iniciativas_Objetivo3", IF(B15=Datos!$C$14, "Iniciativas_Objetivo4", IF(B15=Datos!$C$15, "Iniciativas_Objetivo5", IF(B15=Datos!$C$16, "Iniciativas_Objetivo6", IF(B15=Datos!$C$17, "Iniciativas_Objetivo7", IF(B15=Datos!$C$18, "Iniciativas_Objetivo8", IF(B15=Datos!$C$19, "Iniciativas_Objetivo9", IF(B15=Datos!$C$20, "Iniciativas_Objetivo10", IF(B15=Datos!$C$21, "Iniciativas_Objetivo11", IF(B15=Datos!$C$22, "Iniciativas_Objetivo12",IF(B15=Datos!$C$23, "Iniciativas_Objetivo13", " "))))))))))))) -> Iniciativas_Objetivo9
A16: Productiva, social y ambiental | B16: 02. Fomentar las economías populares y comunitarias a partir de proyectos estratégicos que generen valor público, social y ambiental. | C16: Implementar proyectos estratégicos con enfoque productivo, social y ambiental que permitan la creación de valor. | D16: Promover la creación de sinergias internas y externas con sociedades activas | E16: Disposición Temporal | F16: Administración directa | G16: Gerencia de Sociedades Activas | H16: SÍ | I16: Sinergias con Sociedades Activas | J16: Gestión | K16: Eficacia | L16: Programación anual | M16: (Número de Sociedades Activas participando en sinergias comerciales /Sociedades Activas priorizadas para participar en sinergias)*100% | N16: Objetivo del indicador: medir la participación de las Sociedades Activas en sinergias comerciales tendientes al aumento de la productividad. Numerador: corresponde a las Sociedades Activas participando de las sinergias establecidas. Denominador: son las Sociedades Activas priorizadas para participar en sinergias comerciales. Los criterios son definidos por la Gerencia de Sociedades Activas. | O16: 1 | P16: Trimestral | Q16: 3 | R16: 4 | S16: =IFERROR(IF(L16="Programación anual", IF(COUNTIF(O16,"<=1")=1,(Q16/R16)*(100%/O16),Q16/R16), IF(COUNTIF(O16,"<=1")=1,(Q16/R16)*(100%/O16)*(T16/100%),(Q16/R16)*(T16/100%)))," ") -> 0.75 | T16: 0.75 | U16: =IFERROR(IF(S16=" "," ",IF(S16>=T16,1,S16/T16))," ") -> 1 | V16: Hasta el momento se han realizado 3 sinergias comerciales, todas con Colpensiones, por parte de GRUPO GRAJALES y CONTI CONSTRUCCIÓN & INGENIERIA SAS, que apoyarán el Festival Mundo C. La otra conrresponde a la presentación del portafolio de hoteles para beneficiarios de Colpensiones. | AE16: =IF(B16=Datos!$C$11, "Iniciativas_Objetivo1", IF(B16=Datos!$C$12, "Iniciativas_Objetivo2", IF(B16=Datos!$C$13, "Iniciativas_Objetivo3", IF(B16=Datos!$C$14, "Iniciativas_Objetivo4", IF(B16=Datos!$C$15, "Iniciativas_Objetivo5", IF(B16=Datos!$C$16, "Iniciativas_Objetivo6", IF(B16=Datos!$C$17, "Iniciativas_Objetivo7", IF(B16=Datos!$C$18, "Iniciativas_Objetivo8", IF(B16=Datos!$C$19, "Iniciativas_Objetivo9", IF(B16=Datos!$C$20, "Iniciativas_Objetivo10", IF(B16=Datos!$C$21, "Iniciativas_Objetivo11", IF(B16=Datos!$C$22, "Iniciativas_Objetivo12",IF(B16=Datos!$C$23, "Iniciativas_Objetivo13", " "))))))))))))) -> Iniciativas_Objetivo2
A17: Productiva, social y ambiental | B17: 02. Fomentar las economías populares y comunitarias a partir de proyectos estratégicos que generen valor público, social y ambiental. | C17: Implementar proyectos estratégicos con enfoque productivo, social y ambiental que permitan la creación de valor. | D17: Acompañar la estructuración y/o prefactibilidad de proyectos de desarrollo territorial y/o de construcción de paz. | E17: Direccionamiento Estratégico | F17: Gobierno y Gestión de la Estrategia | G17: Gerencia de Proyectos Especiales | H17: SÍ | I17: Acompañamiento a estructuración y/o evaluación de proyectos de desarrollo territorial y/o de construcción de paz. | J17: Gestión | K17: Eficacia | L17: Demanda | M17: (Proyectos de desarrollo territorial acompañados en su estructuración con prefactibilidad emitida por parte de la Gerencia/ Solicitudes de estructuración o prefactibilidad de proyectos por parte de áreas misionales sobre activos con ideas de negocio aprobadas) *100% | N17: Objetivo del indicador: medir el acompañamiento realizado por la Gerencia de Proyectos Especiales para la estructuración y/o prefactibilidad de proyectos de desarrollo territorial y/o de construcción de paz. Numerador: corresponde a la estructuración y/o prefactibilidad de proyectos de desarrollo territorial y/o de construcción de paz. Para entendimiento del cumplimiento del indicador, se considera que la estructuración de los proyectos de desarrollo territorial se finaliza cuando los proyectos cuentan con un Project charter aprobado por las partes interesadas o cuando desde la Gerencia de Proyectos Especiales se emite un concepto de prefactibilidad. Denominador: corresponde al número de solicitudes efectuadas por las áreas misionales con relación a la estructuración o prefactibilidad de proyectos establecidos en el marco de la entrega de activos a través de los mecanismos de disposición temporal como arrendamiento social o destinación provisional. | O17: 0.5 | P17: Trimestral | Q17: 5 | R17: 5 | S17: =IFERROR(IF(IF(L17="Programación anual", IF(COUNTIF(O17,"<=1")=1,(Q17/R17)*(100%/O17),Q17/R17), IF(COUNTIF(O17,"<=1")=1,(Q17/R17)*(100%/O17)*(T17/100%),(Q17/R17)*(T17/100%)))>=1,100%,IF(L17="Programación anual", IF(COUNTIF(O17,"<=1")=1,(Q17/R17)*(100%/O17),Q17/R17), IF(COUNTIF(O17,"<=1")=1,(Q17/R17)*(100%/O17)*(T17/100%),(Q17/R17)*(T17/100%))))," ") -> 1 | T17: 0.75 | U17: =IFERROR(IF(S17=" "," ",IF(S17>=T17,1,S17/T17))," ") -> 1 | V17: Para el tercer trimestre de 2023, la Gerencia de Proyectos Especiales acompañó el proceso de estructuración de 3 proyectos con enfoque agroproductivo con el acompañamiento y apoyo de la Agencia de Desarrollo Rural, a través de su programa PIDAR (Proyectos Integrales de Desarrollo Agropecuario y Rural), 1 proyecto de resignificación (transformación uniformes FARC-EP) y 1 proyecto modelo de mejoramiento y/o acceso a infraestructura educativa. La prefactiblización de los proyectos agroproductivos se está realizando en los siguientes predios: 1. Predio la Calera (Zarzal - Valle) - Yuca y plátano 2. Predio Alquitrana (Patios - Nte. Santander) - Pimentón 3. Predio Hacienda San Carlos (Buenos Aires - Cauca) - Pecuario | AE17: =IF(B17=Datos!$C$11, "Iniciativas_Objetivo1", IF(B17=Datos!$C$12, "Iniciativas_Objetivo2", IF(B17=Datos!$C$13, "Iniciativas_Objetivo3", IF(B17=Datos!$C$14, "Iniciativas_Objetivo4", IF(B17=Datos!$C$15, "Iniciativas_Objetivo5", IF(B17=Datos!$C$16, "Iniciativas_Objetivo6", IF(B17=Datos!$C$17, "Iniciativas_Objetivo7", IF(B17=Datos!$C$18, "Iniciativas_Objetivo8", IF(B17=Datos!$C$19, "Iniciativas_Objetivo9", IF(B17=Datos!$C$20, "Iniciativas_Objetivo10", IF(B17=Datos!$C$21, "Iniciativas_Objetivo11", IF(B17=Datos!$C$22, "Iniciativas_Objetivo12",IF(B17=Datos!$C$23, "Iniciativas_Objetivo13", " "))))))))))))) -> Iniciativas_Objetivo2
A18: Financiera | B18: 04. Generar rentabilidad económica a partir de la diversificación de ingresos, para la inversión social y la lucha contra el crimen organizado. | C18: Diseñar y/o implementar estrategias de ahorro en la administración de activos. | D18: Realizar la chatarrización de bienes muebles generando ahorros para la Entidad | E18: Disposición Final | F18: Otras Modalidades de Disposición Final | G18: Gerencia de Bienes Muebles | H18: SÍ | I18: Chatarrizaciones realizadas | J18: Gestión | K18: Eficacia | L18: Programación anual | M18: (Número de bienes entregados a la desintegradora para chatarrizar / Número de bienes programados para chatarrización) *100% | N18: Objetivo del indicador: medir la chatarrización de los bienes muebles. Numerador: bienes muebles entregados a la desintegradora. Denominador: corresponde al número de bienes programados para chatarrización como los medios de transporte de material ferroso con concepto favorable para chatarrizar. | O18: 200 | P18: Trimestral | Q18: 48 | R18: 200 | S18: =IFERROR(IF(L18="Programación anual", IF(COUNTIF(O18,"<=1")=1,(Q18/R18)*(100%/O18),Q18/R18), IF(COUNTIF(O18,"<=1")=1,(Q18/R18)*(100%/O18)*(T18/100%),(Q18/R18)*(T18/100%)))," ") -> 0.24 | T18: 0.75 | U18: =IFERROR(IF(S18=" "," ",IF(S18>=T18,1,S18/T18))," ") -> 0.32 | V18: Este indicador se ha visto afectado por la demora en la revision y aprobacion de los actos administrativos que ordenan la chatarrizaciòn los cuales se encuentran en tramite desde el pasado mes de septiembre, demora en los conceptos solicitaos al Ministerio y Superintendencia de transporte sobre la aplicacion de derechos a reponer de vehiculos de carga pesada en estado chatarra. | W18: Se realizo alistamiento de 143 taxis en estado chatarra pero se encuentra pendiente definicion de concepto de min transporte para asegurar que no cuentan con derecho a reponer y en alistamiento pendiente de expedición acto administrativo 17 vehiculos y 10 vehiculos para retiro. | AE18: =IF(B18=Datos!$C$11, "Iniciativas_Objetivo1", IF(B18=Datos!$C$12, "Iniciativas_Objetivo2", IF(B18=Datos!$C$13, "Iniciativas_Objetivo3", IF(B18=Datos!$C$14, "Iniciativas_Objetivo4", IF(B18=Datos!$C$15, "Iniciativas_Objetivo5", IF(B18=Datos!$C$16, "Iniciativas_Objetivo6", IF(B18=Datos!$C$17, "Iniciativas_Objetivo7", IF(B18=Datos!$C$18, "Iniciativas_Objetivo8", IF(B18=Datos!$C$19, "Iniciativas_Objetivo9", IF(B18=Datos!$C$20, "Iniciativas_Objetivo10", IF(B18=Datos!$C$21, "Iniciativas_Objetivo11", IF(B18=Datos!$C$22, "Iniciativas_Objetivo12",IF(B18=Datos!$C$23, "Iniciativas_Objetivo13", " "))))))))))))) -> Iniciativas_Objetivo4
