Workbook
Name Dimensión: #REF!
Name Iniciativas_Objetivo1: #REF!
Name Iniciativas_Objetivo10: #REF!
Name Iniciativas_Objetivo11: #REF!
Name Iniciativas_Objetivo12: #REF!
Name Iniciativas_Objetivo13: #REF!
Name Iniciativas_Objetivo2: #REF!
Name Iniciativas_Objetivo3: #REF!
Name Iniciativas_Objetivo4: #REF!
Name Iniciativas_Objetivo5: #REF!
Name Iniciativas_Objetivo6: #REF!
Name Iniciativas_Objetivo7: #REF!
Name Iniciativas_Objetivo8: #REF!
Name Iniciativas_Objetivo9: #REF!
Name Objetivos_Estratégicos: #REF!

Sheet Instructivo
D1: FORMATO PLAN DE ACCIÓN INSTITUCIONAL PROCESO GOBIERNO Y GESTIÓN DE LA ESTRATEGIA MACROPROCESO DIRECCIONAMIENTO ESTRATÉGICO | K1: Código: F-DE2-118 Versión No.: 06 Vigencia desde: 26-09- 2023
A4: INSTRUCTIVO PLAN DE ACCIÓN INSTITUCIONAL (PAI)
A6: Pestaña "PAI"
A8: Campo | C8: Conceptualización o explicación del campo | K8: Instrucción de diligenciamiento
A9: Dimensión | C9: Las dimensiones del plan de acción corresponden a categorías estratégicas necesarias para el funcionamiento de la estrategia y modelo de operación de SAE para lograr un equilibrio entre los objetivos estratégicos de esta. Estas dimensiones parten de las perspectivas del Balanced Scorecard (BSC) o Cuadro de Mando Integral, herramienta aplicada en entidades públicas, empresas mixtas y privadas para medir su estrategia. Las dimensiones que se contemplan y adoptan en el PAI de la SAE corresponden a: Dimensión productiva, social y ambiental: dimensión creada por la SAE para exaltar sus objetivos estratégicos y compromiso en los ámbitos productivos, sociales y ambientales asociados a su misionalidad y que contribuyen al cumplimiento del Plan Nacional de Desarrollo, al desarrollo territorial de Colombia y a la Paz Total. Esta dimensión favorece a población constitucionalmente protegida, organizaciones sociales y populares (Campesinas y urbanas), cooperativas, asociaciones y organizaciones comunales (ambientales y de mujeres), sujetos de reforma agraria, entre otros grupos de interés priorizados por la SAE. Algunas temáticas que se contemplan en esta dimensión se asocian a la justicia social; la contribución a la reforma agraria; al desarrollo territorial; a la implementación de proyectos estratégicos con enfoque productivo, social y ambiental que permitan la creación de valor; a garantizar la inclusión de comunidades, organizaciones sociales y economías populares en condición de vulnerabilidad en los mecanismos de administración existentes; entre otros. Dimensión financiera: dimensión que contempla todos los objetivos estratégicos relacionados con el comportamiento financiero de SAE y que son objeto de interés de las entidades que reciben transferencias monetarias, la Junta Directiva de SAE, MinHacienda y de SAE como sociedad. Esta dimensión abarca temáticas como son los ingresos, fuentes de financiación, gastos, ahorros, rentabilidad, rendimientos financieros, utilidades, y en general todas los aspectos asociados al aspecto económico, financiero y presupuestal de SAE. Dimensión de grupos de interés: dimensión que considera los objetivos estratégicos que pretenden fortalecer la relación que tiene SAE con sus grupos de interés internos y externos, y satisfacer sus necesidades a partir de los servicios que presta en el marco de su misionalidad. En esta dimensión se contemplan temáticas como cobertura del servicio, accesibilidad, posicionamiento de marca, calidad y oportunidad del servicio, transparencia, valor público, nivel de satisfacción del cliente, entre otros factores que miden el relacionamiento con los grupos de interés. Dimensión de procesos: dimensión que aborda los objetivos estratégicos asociados al adecuado funcionamiento y mejora del modelo operacional por procesos de SAE en su nivel estratégico, misional, de apoyo y/o de seguimiento y evaluación. Abordar esta dimensión contribuye a la productividad de SAE y satisfacer partes interesadas como son la Junta Directiva, proveedores, clientes externos, entes de control y otros grupos de interés que reciben los servicios de SAE. Algunas temáticas que se pueden abordar desde esta dimensión corresponden a la medición de la eficiencia operacional, la automatización de los procesos, el fortalecimiento de procesos, procesos de innovación, desarrollo de nuevos servicios, la implementación de los sistemas integrados de gestión, tecnología, entre otros. Dimensión de aprendizaje y crecimiento: dimensión que incluye los objetivos estratégicos relacionados con el talento humano de SAE y las condiciones que brinda la entidad para su permanencia, crecimiento, desarrollo y bienestar, teniendo en cuenta que son el corazón y la base para ejecutar la estrategia y modelo operacional de SAE. Algunas temáticas que se contemplan en esta dimensión pueden estar asociadas a las competencias del talento humano, al ambiente laboral, la gestión del conocimiento, al desarrollo profesional, a la retención del talento humano, procesos de aprendizaje, entre otros. | K9: Seleccione la opción de dimensión de la lista desplegable según corresponda la categoría estratégica a desarrollar. Como opciones encontrará la dimensión productiva, social y ambiental; la dimensión financiera; la dimensión de grupos de interés; la dimensión de procesos; y la dimensión de aprendizaje y crecimiento. La parametrización de la lista desplegable solo la podrá realizar la Oficina Asesora de Planeación en la pestaña "Datos", por lo cual esta lista no debe surtir cambios por parte del usuario.
A11: Objetivos estratégicos | C11: Corresponden a los propósitos o fines que SAE establece en el corto y mediano plazo, en el marco de su visión, misión y estrategia operacional. Estos objetivos se establecen por cada una de las dimensiones estratégicas y deben ser diseñados contemplando que éstos puedan ser medidos, que sean específicos, adecuados, realistas y oportunos de acuerdo con la metodología SMART (George T.Doran). Estos objetivos estratégicos corresponden a los establecidos en el plan estratégico institucional cuatrienal establecido al interior de la entidad. | K11: Seleccione de la lista desplegable el objetivo estratégico al cual le apunta la acción a realizar en la vigencia. La parametrización de la lista desplegable solo la podrá realizar la Oficina Asesora de Planeación en la pestaña "Datos", por lo cual esta lista no debe surtir cambios por parte del usuario.
A12: Iniciativas | C12: Corresponden a las tácticas o acciones de nivel táctico que permiten desarrollar y desagregar la estrategia u objetivos estratégicos en metas más pequeñas que permitan su ejecución en el corto plazo. Estas iniciativas o tácticas agrupan una o más actividades de nivel operativo relacionadas, que garantizan el cumplimiento de los objetivos y metas estratégicas de SAE. | K12: Seleccione de la lista desplegable la iniciativa estratégica a la cual le apunta la acción a realizar en la vigencia. En caso de que las iniciativas contempladas no se ajusten o alineen a la acción a realizar, por favor comunicarlo a la Oficina Asesora de Planeación para realizar las respectivas parametrizaciones en el Plan de Acción.
A13: Acciones | C13: Corresponden a las actividades a realizar en la vigencia por parte de las áreas de SAE a fin de dar cumplimiento a las iniciativas y objetivos estratégicos que conforman la estrategia de SAE para cada periodo de administración. | K13: Escriba en verbo infinitivo la acción a realizar en el año que apunte al cumplimiento de los objetivos estratégicos de la entidad. Documente acciones o actividades estratégicas puntuales que dependan de la gestión del área para medir su desempeño. En caso que se deseen formular actividades estratégicas transversales como lider de consolidación de los datos, se pueden establecer haciendo la claridad que estas no se tendrán en cuenta en la evaluación de desempeño en la columna "H".
A14: Macroproceso | C14: Es un conjunto de procesos que se relacionan entresí y que contribuyen a un objetivo común en el marco del modelo operacional de SAE. Estos se encuentran determinados dentro de la arquitectura empresarial de SAE y se enlistan en el PAI a fin de asociar las actividades que contribuyen a su objetivo e identificar con mayor facilidad los indicadores que contribuyen a medir el desempeño de dicho macroproceso. | K14: Enuncie el nombre del macroproceso en el cual se ejecuta la acción o actividad planteada de acuerdo con arquitectura empresarial de SAE.
A15: Proceso | C15: Responde a un conjunto de actividades de nivel táctico o procedimientos que secuencialmente se interrelacionan para transformar las entradas de un proceso en resultados o salidas, cumplimiendo el objetivo de cada proceso dentro del modelo de operación de procesos de SAE. Estos se encuentran determinados dentro de la arquitectura empresarial de SAE y se enlistan en el PAI a fin de asociar las actividades que contribuyen a su objetivo e identificar con mayor facilidad los indicadores que contribuyen a medir el desempeño de dicho proceso. | K15: Específique el nombre del proceso en el cual se ejecuta la acción o actividad planteada de acuerdo con arquitectura empresarial de SAE.
A16: Área responsable de la ejecución | C16: Pertenece al área que ejecuta cada actividad o acción establecida en el Plan de Acción Institucional. | K16: Determine el área que ejecutará la acción o actividad documentada de acuerdo con estructura organizacional.
A17: ¿Se toma en cuenta para la evaluación de desempeño? | C17: Es un criterio establecido por SAE para determinar cuáles indicadores se tienen en cuenta para evaluar el desempeño o rendimiento de las áreas en función de las actividades desarrolladas en la vigencia. | K17: Escriba "Sí" o "No" dependiendo si el resultado del indicador se tiene en cuenta o no en la evaluación de rendimiento o desempeño de cada área. Las actividades que están relacionadas con el quehacer del área deben tenerse en cuenta en la evaluación de desempeño. Las actividades que se pueden exceptuar de esta evaluación corresponden a actividades transversales que consolidan datos de varías áreas.
A18: Nombre del indicador | C18: Es el título o denominación corta y sencilla que permite identificar el objetivo de medición del indicador. Este debe estar correlacionado con la actividad que se realiza en la vigencia y que se desea medir. | K18: Exprese de manera corta y precisa el título que le dará al indicador de acuerdo con la intención de medición y la actividad a realizar. Tenga en cuenta que el nombre del indicador debe ser único para cada caso.
A19: Clasificación por ubicación en la cadena de valor público | C19: Corresponde a la clasificación de los indicadores dependiendo de su ubicación en la cadena de valor público. Dentro de esta cadena se contemplan los insumos, los procesos, los productos, los resultados y los impactos que se generan de la prestación de un servicio o generación de productos en el sector público. En el marco de esta cadena de valor público y teniendo en cuenta la clasificación adoptada por el DANE y recogida en la metodología de la Guía para la construcción y análisis de Indicadores de Gestión - Versión 4 del DAFP, se tiene que: * Gestión: cuantifica los recursos físicos, humanos y financieros utilizados en el desarrollo de los procesos mientras mide la cantidad de acciones, procesos, procedimientos y/u operaciones realizadas durante la etapa de implementación. Esta clasificación abarca los insumos y los procesos de la cadena de valor público. • Producto: cuantifica los productos y servicios realizados por cada área. Este indicador abarca la etapa de productos de la cadena de valor. • Efecto: mide los cambios obtenidos en el bienestar de la población objetivo como consecuencia de manera directa o indirecta de la entrega de los productos y/o servicios. Esta clasificación contempla las etapas de resultados o efectos, e impactos de la cadena de valor. | K19: DiligenciE de acuerdo con el indicador establecido, la clasificación de este según su ubicación en la cadena de valor público al interior de SAE.
A20: Tipo de indicador | C20: Corresponde a la categorización de los indicadores de acuerdo con su naturaleza. Para la estructuración del PAI, la SAE emplea las siguientes tipologías o tipos de indicadores: * Indicadores de calidad: indicadores que buscan medir aspectos relacionados con la capacidad de SAE para atender a las necesidades y demandas de sus usuarios bajo preceptos de rápidez e inmediatez a la hora de prestar sus bienes o servicios. La SAE enfoca la medición de estos indicadores hacia aspectos como la oportunidad y la percepción de satisfacción de los usuarios. * Indicadores de economía: indicadores que permiten medir la capacidad de SAE para gestionar los recursos disponibles de la forma más conveniente y adecuada. El enfoque de SAE frente a este tipo de indicadores va asociado a la medición del desempeño presupuestal, los posibles ahorros asociados a las actividades del plan de acción, medición de utilidades, ingresos económicos, rendimientos financieros, valor público y rentabilidad social. * Indicadores de eficacia: indicadores que buscan determinar el cumplimiento de un objetivo o una actividad de acuerdo con la meta establecida. Al interior de SAE los indicadores de eficacia se enfocan principalmente en la medición de factores claves de éxito, puntos críticos, factores de mejora y resultados estratégicos. | K20: Indique el tipo de indicador al cual corresponde el indicador a documentar de acuerdo con su naturaleza. Los tipos de indicadores a seleccionar pueden ser de calidad, economía o eficacia de acuerdo con la conceptualización de cada uno.
... A25: Periodicidad del reporte | C25: Es la frecuencia con la que se realiza el reporte y por tanto el seguimiento al Plan de Acción Institucional de SAE. Según los lineamientos establecidos en la entidad, esta periocidad es trimestral, una vez la Oficina Asesora de Planeación solicite su reporte. | K25: Esta casilla siempre debe contener la descripción "Trimestral" dado que la periodicidad establecida para dicho seguimiento por parte de la Oficina Asesora de Planeación es esta.
A28: Pestaña "Datos"
A30: Esta pestaña es de uso exclusivo de la Oficina Asesora de Planeación para parametrizar las dimensiones, objetivos estratégicos, iniciativas asociadas a objetivos estratégicos u otro tipo de datos requeridos para el adecuado funcionamiento de la herramienta de Plan de Acción Institucional.

Sheet PAI
D1: FORMATO PLAN DE ACCIÓN INSTITUCIONAL PROCESO GOBIERNO Y GESTIÓN DE LA ESTRATEGIA MACROPROCESO DIRECCIONAMIENTO ESTRATÉGICO | P1: Código: F-DE2-118 Versión No.: 06 Vigencia desde: 26 – 09- 2023
A4: PLAN DE ACCIÓN INSTITUCIONAL (PAI) 2024 SOCIEDAD DE ACTIVOS ESPECIALES S.A.S.
B6: Alineación estratégica y táctica | E6: Alineación Operativa | H6: Información del área que ejecuta la acción | K6: Clasificación de indicadores | N6: Información complementaria del indicador | R6: Seguimiento cuantitativo del indicador | U6: Alerta de desempeño al corte evaluado | W6: Análisis cualitativo del indicador
A7: ID | B7: Dimensión | C7: Objetivos estratégicos | D7: Iniciativas | E7: Acciones | F7: Macroproceso | G7: Proceso | H7: Área responsable de la ejecución | I7: ¿Se toma en cuenta para la evaluación de desempeño? | J7: Nombre del indicador | K7: Clasificación por ubicación en la cadena de valor público | L7: Tipo de indicador | M7: Comportamiento del indicador | N7: Fórmula para medir el indicador | O7: Descripción del indicador | P7: Meta 2024 | Q7: Periodicidad del reporte | R7: Numerador | S7: Denominador | T7: Cumplimiento del indicador en el año | U7: % Meta T2 | V7: Cumplimiento del indicador a corte del trimestre evaluado | W7: Análisis del indicador | X7: Observaciones | Y7: Retroalimentación al área | Z7: Observaciones | AA7: Sin iniciar | AB7: Bajo Desempeño
A8: 1 | B8: Productiva, social y ambiental | C8: 01. Democratizar los activos administrados por la SAE a través de mecanismos de disposición temporal y definitiva que permitan la creación de valor público, social y ambiental; aporten al desarrollo territorial y productivo y garanticen la función social y ecológica de la propiedad. | D8: Garantizar la inclusión de comunidades, organizaciones sociales y economías populares en condición de vulnerabilidad en los mecanismos de administración existentes | E8: Permitir la inclusión de organizaciones comunitarias en el gerenciamiento de Sociedades Activas y/o establecimientos de comercio. | F8: Disposición Temporal | G8: Administración de Depósitos Provisionales | H8: Dirección de Gobierno, Control y Democratización de Sociedades | I8: SÍ | J8: Gerencias populares en Sociedades Activas y/o establecimientos de comercio | K8: Producto | L8: Eficacia | M8: Programación anual | N8: (Sociedades Activas y/o establecimientos de comercio con gerencias populares/Sociedades Activas y/o establecimientos de comercio priorizados para el gerenciamiento de organizaciones populares)*100% | O8: Objetivo del indicador: medir la inclusión de organizaciones comunitarias en el gerenciamiento de Sociedades Activas y/o establecimientos de comercio. Numerador: corresponde al número de Sociedades Activas y/o establecimientos de comercio con gerenciamiento de organizaciones populares y/o comunitarias. Denominador: son las Sociedades Activas y/o establecimientos de comercio priorizados por la Gerencia de Sociedades Activas para el gerenciamiento popular. | P8: 10 | Q8: Trimestral | R8: 6 | S8: 10 | T8: 0.6 | U8: 0.5 | V8: 1 | W8: Se asignan 6 organizaciones para Gerencia Popular de las cuales 3 se encuentran con resolución de nombramiento y 3 tienen proyecto de acto administrativo en revisión de la Dirección de Asuntos Legales: Con resolución: 1. BÉLLEGAL S.A.S. 2. EL RANCHO DE LIZUT 3. THE GREEN HOUSE Con proyecto en revisión: 1. SANVAS INVERSIONES INMOBILIARIAS SAS 2. AUDIOVISUALES IMAGEN Y SONIDO S.A.S. 3. CIA AGRICOLA DIAZ SOCIEDAD POR ACCIONES SIMPLIFICA | AA8: =IF(R8=0,1,"") | AB8: =IF(AND(V8<70%,V8>0),1,"")
A9: 2 | B9: Productiva, social y ambiental | C9: 01. Democratizar los activos administrados por la SAE a través de mecanismos de disposición temporal y definitiva que permitan la creación de valor público, social y ambiental; aporten al desarrollo territorial y productivo y garanticen la función social y ecológica de la propiedad. | D9: Adelantar entrega de activos por mecanismos de disposición temporal y/o definitiva, priorizando los procesos productivos, sociales, ambientales, así como la atención ante emergencias y desastres producto de fenómenos de variabilidad climática | E9: Democratizar inmuebles rurales sociales para el formento de la economía popular, la reforma agraria o el valor público, social y ambiental. | F9: Disposición Temporal Disposición Final | G9: Administración directa Administración de destinación provisional Otras modalidades de disposición final | H9: Dirección de Gobierno, Control y Democratización de Sociedades | I9: SÍ | J9: Tierras sociales para la paz | K9: Producto | L9: Eficacia | M9: Programación anual | N9: (Número de hectáreas de inmuebles sociales democratizadas en el marco de la estrategia de tierras para la paz/ Número de hectáreas de inmuebles sociales programadas para entrega en la vigencia)*100% | O9: Objetivo del indicador: medir el grado de avance de entrega de tierras sociales para la paz bajo los mecanismos establecidos. Numerador: corresponde al número de hectáreas de inmuebles sociales entregadas mediante transferencias definitivas de inmuebles sociales extintos, ventas a la ANT, entrega de derechos de uso u otros esquemas de administración, que cuenten con acto administrativo o figura jurídica suscrita. Denominador: corresponde al número de hectáreas de inmuebles sociales programados para entrega en la vigencia 2024 que fomenten la economía popular, la reforma agraria y en general el programa de acceso a tierras. | P9: 67468 | Q9: Trimestral | R9: 2518.974 | S9: 67468 | T9: 0.037335833 | U9: 0.5 | V9: 0.074671667 | W9: En el primer y segundo trimestre del año 2024 se finalizaron las actividades de alistamiento administrativo y jurídico, necesarias para proceder con la venta de los predios. Se tienen los contratos de promesa de compraventa por enajenación temprana a través de venta directa de los siguientes predios: FMI Hectáreas 015-1203 / 145 015-36409 / 173 015-47801 / 36 015-7373 / 69 340-12510 / 142 340-3775 / 850 340-22354 / 389 143-6696 / 218.95 143-15837 / 125.3 148-20949 / 25 143-17562 / 342 | X9: Se tienen identificados 44 inmuebles estrategicos para estudiar la viabilidad de venta a la ANT. | AA9: =IF(R9=0,1,"") | AB9: =IF(AND(V9<70%,V9>0),1,"") -> 1
A10: 3 | B10: Productiva, social y ambiental | C10: 01. Democratizar los activos administrados por la SAE a través de mecanismos de disposición temporal y definitiva que permitan la creación de valor público, social y ambiental; aporten al desarrollo territorial y productivo y garanticen la función social y ecológica de la propiedad. | D10: Adelantar entrega de activos por mecanismos de disposición temporal y/o definitiva, priorizando los procesos productivos, sociales, ambientales, así como la atención ante emergencias y desastres producto de fenómenos de variabilidad climática | E10: Realizar o actualizar fichas técnicas de caracterización de Inmuebles Rurales para procesos de disposición final gratuita con enfoque social y productivo | F10: Diagnóstico y Alistamiento | G10: Diagnóstico de Activos | H10: Dirección para la Democratización de Activos Inmuebles Rurales | I10: SÍ | J10: Fichas Técnicas de caracterización de Inmuebles Rurales para procesos de disposición final gratuita con enfoque social y productivo | K10: Gestión | L10: Eficacia | M10: Demanda | N10: (Folios de Matrícula Inmobiliaria de inmuebles rurales con ficha de caracterización para disposición final gratuita/ Folios de Matrícula Inmobiliaria de inmuebles con viabilidad para disposición final gratuita) *100% | O10: Objetivo del indicador: medir el proceso de caracterización técnica de inmuebles rurales para disponerlos de manera definitiva y gratuita definidas en la ley. Numerador: corresponde al número de folios de matrícula rurales que cuentan con fichas de caracterización predial elaboradas o actualizadas para el proceso de disposición definitiva y gratuita. Denominador: corresponde al número de folios de matrícula de inmuebles rurales que cuentan con un concepto jurídico favorable para disposición final gratuita favorable. | P10: 1 | Q10: Trimestral | R10: 229 | S10: 199 | T10: 0.57537688 | U10: 0.5 | V10: 1 | W10: Se informa, que en el presente trimestre fueron recibidas un total de 173 conceptos jurídicos remitidos por la Dirección de Asuntos Legales, de las cuales únicamente 115 (denominador) se consideran viables, 61 requieren de un proceso de saneamiento, y 12 no son viables. Adicionalmete se realizaron 139 (numerador) fichas de caracterizacion con la informacion y analisis técnico. | AA10: =IF(R10=0,1,"") | AB10: =IF(AND(V10<70%,V10>0),1,"")
A11: 4 | B11: Productiva, social y ambiental | C11: 01. Democratizar los activos administrados por la SAE a través de mecanismos de disposición temporal y definitiva que permitan la creación de valor público, social y ambiental; aporten al desarrollo territorial y productivo y garanticen la función social y ecológica de la propiedad. | D11: Adelantar entrega de activos por mecanismos de disposición temporal y/o definitiva, priorizando los procesos productivos, sociales, ambientales, así como la atención ante emergencias y desastres producto de fenómenos de variabilidad climática | E11: Presentar casos de destinación definitiva de inmuebles rurales, priorizando aquellos que contribuyen a la reforma agraria, al fomento de la economía popular y a la generación de valor público, social o ambiental. | F11: Disposición Final | G11: Otras modalidades de disposición final | H11: Dirección para la Democratización de Activos Inmuebles Rurales | I11: SÍ | J11: Trámite de destinaciones definitivas de Inmuebles Rurales | K11: Gestión | L11: Eficacia | M11: Demanda | N11: (Número de folios de matrícula de inmuebles rurales presentados para destinación definitiva / Número de folios de matrícula viables para destinaciones definitivas) *100% | O11: Objetivo del indicador: medir la presentación de folios de matrícula de inmuebles rurales para el mecanismo de destinación definitiva gratuita prevista en la ley. Numerador: total de folios de matrícula de inmuebles rurales viables jurídicamente que cuentan con solicitud de elaboración de acto administrativo de destinación definitiva gratuita. Denominador: corresponde a los folios de matrícula de inmuebles rurales con solicitudes de destinación definitiva de inmuebles rurales que se consideran viables de acuerdo con la metodología y procedimientos. Observación: se hace necesario indicar en el análisis del indicador, las destinaciones definitivas aprobadas como insumo para la medición de la macrometa estratégica "Destinaciones de inmuebles al fomento de la economía popular y reforma agraria" | P11: 1 | Q11: Trimestral | R11: 150 | S11: 122 | T11: 0.6147541 | U11: 0.5 | V11: 1 | W11: Durante los meses de abril a junio, fueron recibidas un total de 118 (numerador) solicitudes, de las cuales 100(denominador) se consideran preliminarmente viables para el proceso de transferencia, de ellas, 1, ya cuenta con acto administrativo, 89 se encuentran en proceso de elaboración de acto administrativo, y 10 se encuentran en proceso de alistamiento para solicitar acto administrativo. | AA11: =IF(R11=0,1,"") | AB11: =IF(AND(V11<70%,V11>0),1,"")
A12: 5 | B12: Productiva, social y ambiental | C12: 01. Democratizar los activos administrados por la SAE a través de mecanismos de disposición temporal y definitiva que permitan la creación de valor público, social y ambiental; aporten al desarrollo territorial y productivo y garanticen la función social y ecológica de la propiedad. | D12: Adelantar entrega de activos por mecanismos de disposición temporal y/o definitiva, priorizando los procesos productivos, sociales, ambientales, así como la atención ante emergencias y desastres producto de fenómenos de variabilidad climática | E12: Presentar casos de destinación provisional de inmuebles rurales, priorizando aquellos que contribuyen a la reforma agraria, al fomento de la economía popular y a la generación de valor público, social o ambiental. | F12: Disposición Temporal | G12: Administración de destinación provisional | H12: Dirección para la Democratización de Activos Inmuebles Rurales | I12: SÍ | J12: Trámite de destinaciones provisionales de Inmuebles Rurales | K12: Gestión | L12: Eficacia | M12: Demanda | N12: (Número de folios de matrícula de Inmuebles rurales presentados a Comité/ Número de folios de matrícula con solicitudes de destinaciones provisionales viables) *100% | O12: Objetivo del indicador: medir la presentación de inmuebles rurales para destinación provisional ante el Comité de Depositarios, Destinatarios, Mandatarios y Liquidadores. Numerador: total de folios de matrícula de inmuebles rurales presentadas al Comité de Depositarios, Destinatarios, Mandatarios y Liquidadores para aprobación del mecanismo de destinación provisional. Denominador: corresponde al número de folios de matrícula que se consideran viables para presentar al Comité de Depositarios, Destinatarios, Mandatarios y Liquidadores con el fin de que se considere la aprobación de la destinación provisional. Observación: se hace necesario indicar en el análisis del indicador, las destinaciones provisionales aprobadas como insumo para la medición de la macrometa estratégica "Destinaciones de inmuebles al fomento de la economía popular y la reforma agraria" | P12: 1 | Q12: Trimestral | R12: 19 | S12: 19 | T12: 0.5 | U12: 0.5 | V12: 1 | W12: Segundo trimestre: Durante el segundo trimestre de 2024 se presentaron 13 inmuebles rurales no sociales a Comité de Destinatarios, Depositarios, Mandatarios y Liquidadores (numerador) para destinación provisional que, corresponde al mismo número de solicitudes de destinación con viabilidad para su trámite (denominador), en favor de entidades públicas u organizaciones sin ánimo de lucro. | AA12: =IF(R12=0,1,"") | AB12: =IF(AND(V12<70%,V12>0),1,"")
A13: 6 | B13: Productiva, social y ambiental | C13: 01. Democratizar los activos administrados por la SAE a través de mecanismos de disposición temporal y definitiva que permitan la creación de valor público, social y ambiental; aporten al desarrollo territorial y productivo y garanticen la función social y ecológica de la propiedad. | D13: Adelantar entrega de activos por mecanismos de disposición temporal y/o definitiva, priorizando los procesos productivos, sociales, ambientales, así como la atención ante emergencias y desastres producto de fenómenos de variabilidad climática | E13: Democratizar inmuebles urbanos para la educación pública | F13: DT. Disposición temporal DF. Disposición Final | G13: Administración directa Administración de destinación provisional Otras modalidades de disposición final | H13: Dirección para la Democratización de Activos Inmuebles Urbanos | I13: SÍ | J13: Democratización de inmuebles urbanos para la educación pública | K13: Producto | L13: Eficacia | M13: Demanda | N13: (Inmuebles urbanos aprobados para entrega al fortalecimiento de la educación pública /Inmuebles urbanos solicitados para el fortalecimiento de la educación pública)* 100% | O13: Objetivo del indicador: medir la entrega de inmuebles urbanos bajo diferentes mecanismos de disposición temporal y/o definitiva para el fortalecimiento de la educación pública. Numerador: corresponden a los inmuebles urbanos aprobados por comité para su entrega bajo diferentes mecanismos de disposición temporal y/o definitiva (destinaciones, donaciones, comodatos u otros) a entidades o establecimientos públicos para el fortalecimiento de la educación pública. Para el caso de destinación definitiva o donación se toma como aprobación cuando el inmueble urbano cuente con las viabilidades jurídicas, administrativas y técnicas. Denominador: corresponde a los inmuebles urbanos solicitados para el fortalecimiento de la educación pública por parte de las instituciones de educación pública del sistema educativo colombiano en todos sus subsistemas o niveles y establecimientos públicos facultados para aprobar e impartir programas que se enmarcan en la Educación para el Trabajo y el Desarrollo Humano. Estas solicitudes deben ser allegadas por los canales oficiales de comunicación de SAE y cumplir los requerimientos exigibles (Formularios, información completa, soportes). | P13: 0.7 | Q13: Trimestral | R13: 26 | S13: 46 | T13: 0.40372671 | U13: 0.5 | V13: 0.80745342 | W13: Con relación a los Inmuebles urbanos aprobados para entrega al fortalecimiento de la educación pública de conformidad con el macroproceso P-DT4-101 Procedimiento Destinación Provisional de bienes, en esta Dirección se recibieron tres (3) solicitudes en el T1 Y (13) solicitudes con corte al T2, de las cuales todas se atendieron satisfactoriamente, contando con aprobación del Comité de Depositarios, Mandatarios y Liquidadores, y proyección de los Actos Administrativos. Asi mismos las solicitudes de destinación definitiva, la Dirección recibió durante el T1 once (11) solicitudes T2 Veinte (20) solicitudes de destinaciónes de Instituciones Educativas, de la cuales ya se radicaron todas las solicitudes de viabilidad jurídica, técnica y administrativa; y, sobre uno (1) de los inmuebles no se continuó el trámite, debido a que la entidad universitaria desistió de la solicitud. | Y13: Recordar que el reporte del numerador es acumulado, por lo que debe incluirse la información del primer trimestre más la del segundo. En este sentido, dado que durante el primer trimestre el resultado fue de 14, para el segundo trimestre el numerador no puede ser menor a dicho valor. Si, una vez realizado el ajuste, el cumplimiento del indicador a corte del trimestre sigue siendo inferior a 70%, es necesario indicar en la columna de observaciones las actividades que se realizarán para cumplir la meta en el próximo trimestre, de acuerdo al instructivo enviado. | AA13: =IF(R13=0,1,"") | AB13: =IF(AND(V13<70%,V13>0),1,"")
A14: 7 | B14: Productiva, social y ambiental | C14: 01. Democratizar los activos administrados por la SAE a través de mecanismos de disposición temporal y definitiva que permitan la creación de valor público, social y ambiental; aporten al desarrollo territorial y productivo y garanticen la función social y ecológica de la propiedad. | D14: Adelantar entrega de activos por mecanismos de disposición temporal y/o definitiva, priorizando los procesos productivos, sociales, ambientales, así como la atención ante emergencias y desastres producto de fenómenos de variabilidad climática | E14: Atender las solicitudes de destinación provisional y definitiva de inmuebles urbanos | F14: Disposición Temporal | G14: Administración de Destinación Provisional | H14: Dirección para la Democratización de Activos Inmuebles Urbanos | I14: SÍ | J14: Trámite de solicitudes de destinación provisional y definitivas | K14: Gestión | L14: Eficacia | M14: Demanda | N14: (Solicitudes de destinación provisional y definitiva de inmuebles urbanos atendidas/ Solicitudes de destinación provisional y definitiva de inmuebles recibidas)*100% | O14: Objetivo del indicador: medir la atención de las solicitudes recibidas por entidades públicas, privadas y personas naturales de destinación provisional y definitivas de inmuebles urbanos. Numerador: para destinación provisional se considera una solicitud atendida cuando ésta es presentada al comité de depositarios, mandatarios y liquidadores, y para el caso de destinación definitiva con la solicitud de viabilidades jurídicas, técnicas y administrativas. Denominador: corresponde a las solicitudes de destinación provisional o definitiva de inmuebles urbanas allegadas por los canales oficiales de comunicación de SAE y que cumplan los requerimientos exigibles. | P14: 1 | Q14: Trimestral | R14: 49 | S14: 54 | T14: 0.4537037 | U14: 0.5 | V14: 0.90740741 | W14: En cuanto a las solicitudes de destinación provisional, la Dirección recibió catorce 14 solicitudes durante el T1 y dieciséis (16) solicitudes en el T2, de las cuales se atendieron diez (10) en T1 y catorce (14) en el segundo trimestre satisfactoriamente, contando con aprobación del Comité de Depositarios, Mandatarios y Liquidadores, y proyección de los Actos Administrativos. Respecto a las otras dos (2) solicitudes se está realizando la respectiva validación de documentos y requisitos para presentar los casos al Comité de Depositarios, Mandatarios y Liquidadores. De la misma manera, esta Dirección recibió durante el T1 (10) solicitudes y catorce (14) solicitudes durante el T2 sobre bienes inmuebles urbanos, de los cuales Se radicaron las solicitudes de viabilidad jurídica, técnica y administrativa sobre 9 en el T1 y once (11) durante el T2 , sobre tres (3) de los inmuebles no se realizaron solicitudes de viabilidades, debido a que no se anexó la totalidad de la información y los documentos requeridos. | Y14: Recordar que el reporte del numerador es acumulado. Durante el primer trimestre se reportaron 19 de 24 solicitudes. Si esta información ya está contenida en la información presentada, hacer caso omiso de este comentario. | AA14: =IF(R14=0,1,"") | AB14: =IF(AND(V14<70%,V14>0),1,"")
A15: 8 | B15: Productiva, social y ambiental | C15: 01. Democratizar los activos administrados por la SAE a través de mecanismos de disposición temporal y definitiva que permitan la creación de valor público, social y ambiental; aporten al desarrollo territorial y productivo y garanticen la función social y ecológica de la propiedad. | D15: Adelantar entrega de activos por mecanismos de disposición temporal y/o definitiva, priorizando los procesos productivos, sociales, ambientales, así como la atención ante emergencias y desastres producto de fenómenos de variabilidad climática | E15: Democratizar bienes muebles para el fomento de la economía popular | F15: DT. Disposición temporal DF. Disposición Final | G15: Administración directa Administración de destinación provisional Otras modalidades de disposición final | H15: Dirección para la Democratización de Activos Muebles | I15: SÍ | J15: Democratización de bienes muebles para el fomento de la economía popular | K15: Producto | L15: Eficacia | M15: Programación anual | N15: (Número de bienes muebles democratizados para el fomento de la economía popular/ Número de bienes muebles programados para el fomento de la economía popular)*100% | O15: Objetivo del indicador: medir el número de bienes entregados bajo mecanismos de disposición temporal y/o final por parte de la Gerencia de Muebles, para el fomento de la economía popular o la creación de valor público, social o ambiental. Numerador: corresponde al número de bienes muebles que se entregan bajo mecanismos de disposición temporal y/o final (Cuentas por participación, comodato, donaciones, destinaciones temporales y definitivas, entre otros esquemas) para el fomento de la economía popular o la creación de valor público, social o ambiental, a organizaciones comunitarias, organizaciones sin ánimo de lucro, entidades públicas u otro actor permitido y priorizado por la entidad. El numero de bienes muebles se consideran entregados cuando estos cuentan con resolución expedida de entrega. Denominador: corresponde al número de bienes muebles que se tienen programados para entrega bajo cualquier mecanismo de disposición temporal y/o definitiva para el fomento de la economía popular o la creación de valor público, social o ambiental. Observación: un ejemplo del alcance de este indicador aplicaría para el transporte de insumos, mano de obra o herramientas en el marco de proyectos ambientales, productivos o sociales. | P15: 40 | Q15: Trimestral | R15: 43 | S15: 45 | T15: 0.95555556 | U15: 0.5 | V15: 1 | W15: se han destinado 13 vehiculos para el fomebnto de la economia popular y se han entregado 30 semovientes bajo contrato de cuentas en participación a la asociación Asocampeje. | X15: se solicita una adicion en la meta estimada de 5 registros teniendo en cuenta que es lo que se encuentra en tramite de alistamiento y el rpoceso para finiquitar la actividad es muy complejo | Y15: Se solicita al área reevaluar la meta y proponer una nueva considerando el alcance del 108% durante el primer semestre. Esta solicitud debe realizarse utilizando la tabla compartida en el correo inicial de este hilo. | AA15: =IF(R15=0,1,"") | AB15: =IF(AND(V15<70%,V15>0),1,"")
A16: 9 | B16: Productiva, social y ambiental | C16: 01. Democratizar los activos administrados por la SAE a través de mecanismos de disposición temporal y definitiva que permitan la creación de valor público, social y ambiental; aporten al desarrollo territorial y productivo y garanticen la función social y ecológica de la propiedad. | D16: Adelantar destinaciones especiales temporales y definitivas, priorizando los procesos productivos, sociales, ambientales, así como la atención ante emergencias y desastres producto de fenómenos de variabilidad climática | E16: Democratizar bienes muebles para uso oficial o institucional | F16: Disposición Temporal Disposición Final | G16: Administración directa Administración de destinación provisional Otras modalidades de disposición final | H16: Dirección para la Democratización de Activos Muebles | I16: SÍ | J16: Democratización de bienes muebles para uso institucional | K16: Producto | L16: Eficacia | M16: Programación anual | N16: (Número de bienes muebles democratizados para uso oficial o institucional/ Número de bienes muebles programados para entrega y uso oficial o institucional)*100% | O16: Objetivo del indicador: medir el número de bienes entregados bajo mecanismos de disposición temporal y/o final por parte de la Gerencia de Muebles, para el uso oficial o institucional. Numerador: corresponde al número de bienes muebles que se entregan bajo mecanismos de disposición temporal y/o final (Cuentas por participación, comodato, donaciones, destinaciones temporales o definitivas, entre otros esquemas) para el uso oficial o institucional. El numero de bienes muebles se consideran entregados cuando estos cuentan con resolución expedida de entrega. Denominador: corresponde al número de bienes muebles que se tienen programados para entrega bajo cualquier mecanismo de disposición temporal y/o final para el uso oficial o institucional. Observación: un ejemplo del alcance de este indicador aplicaría para el desarrollo de actividades administrativas o de transporte institucional de uso oficial del estado. | P16: 60 | Q16: Trimestral | R16: 58 | S16: 65 | T16: 0.89230769 | U16: 0.5 | V16: 1 | W16: en expedicion de acto administrativo se encuentran 40 medios de transporte en expedicion de polizas 17 medios de transporte 1 medio de transporte ya entregado | X16: se incrementa la meta en 5 activos adicionales teniendo en cuenta que es el inventario que tenemos en tramite pero el proceso para cumplimiento de requisitos y culminar el ciclo depende de terceros y es muy complejo. | Y16: Se solicita al área reevaluar la meta y proponer una nueva considerando el alcance del 97% durante el primer semestre. Esta solicitud debe realizarse utilizando la tabla compartida en el correo inicial de este hilo. | AA16: =IF(R16=0,1,"") | AB16: =IF(AND(V16<70%,V16>0),1,"")
A17: 10 | B17: Productiva, social y ambiental | C17: 01. Democratizar los activos administrados por la SAE a través de mecanismos de disposición temporal y definitiva que permitan la creación de valor público, social y ambiental; aporten al desarrollo territorial y productivo y garanticen la función social y ecológica de la propiedad. | D17: Garantizar la inclusión de comunidades, organizaciones sociales y economías populares en condición de vulnerabilidad en los mecanismos de administración existentes | E17: Promover la participación de organizaciones comunitarias en las convocatorias de registro en el Banco de depositarios provisionales | F17: Recepción y Registro | G17: Administración del Registro de Depositarios Provisionales y Liquidadores del FRISCO | H17: Gerencia de Depositarios, Mandatarios y Liquidadores | I17: SÍ | J17: Organizaciones comunitarias registradas como Depositarios y Gerentes Provisionales | K17: Producto | L17: Eficacia | M17: Programación anual | N17: (Organizaciones comunitarias registradas como Depositarios y Gerentes Provisionales/ Meta estimada de organizaciones comunitarias en el registro de Depositarios Provisionales)*100% | O17: Objetivo del indicador: medir la inclusión de organizaciones comunitarias en el registro en el Banco de depositarios provisionales. Numerador: corresponde a las organizaciones comunitarias evaluadas y registradas en el Banco de Depositarios 2024 como depositario o gerente popular. Denominador: corresponde a la estimación de organizaciones comunitarias incluidas dentro del Banco de Depositarios. | P17: 46 | Q17: Trimestral | R17: 0 | S17: 23 | T17: 0 | U17: 0.5 | V17: 0 | W17: Actualmente (10/07/24), está abierta la Convocatoria 02 de 2024 de Gerentes Populares mediante la cual se busca conformar el registro de Gerentes Populares. Esta convocatoria está abierta desde el martes 21 de mayo de 2024. | X17: En el proceso de evaluación técnica, jurídica y de debida diligencia de las personas naturales y jurídicas inscritas se debe certificar la idoneidad de los aspirantes para que initegren el registro de Depositarios y Gerentes Populares. | Y17: Se solicita conservar la meta de 46 como denominador. | AA17: =IF(R17=0,1,"") -> 1 | AB17: =IF(AND(V17<70%,V17>0),1,"")
A18: 11 | B18: Productiva, social y ambiental | C18: 01. Democratizar los activos administrados por la SAE a través de mecanismos de disposición temporal y definitiva que permitan la creación de valor público, social y ambiental; aporten al desarrollo territorial y productivo y garanticen la función social y ecológica de la propiedad. | D18: Garantizar la inclusión de comunidades, organizaciones sociales y economías populares en condición de vulnerabilidad en los mecanismos de administración existentes | E18: Programar convocatorias para el registro de depositarios priorizando la inclusión de economías populares, comunitarias y otras comunidades con especial protección constitucional. | F18: Recepción y Registro | G18: Administración del Registro de Depositarios Provisionales y Liquidadores del FRISCO | H18: Gerencia de Depositarios, Mandatarios y Liquidadores | I18: SÍ | J18: Programación de Convocatorias para registro de Depositarios | K18: Gestión | L18: Eficacia | M18: Programación anual | N18: (Número de convocatorias realizadas / Número De convocatorias programadas) *100% | O18: Objetivo del indicador: medir las convocatorias realizadas para conformar el registro de depositarios provisionales. Numerador: corresponde a las convocatorias ejecutadas para conformar el registro de depositarios provisionales, hasta la aprobación del Comité de Depositarios, Liquidadores y Mandatarios. Denominador: las convocatorias programadas para el 2024 corresponden a 3 convocatorias. | P18: 3 | Q18: Trimestral | R18: 2 | S18: 3 | T18: 0.66666667 | U18: 0.5 | V18: 1 | W18: Actualmente (10/07/24), se han abierto dos (2) convocatorias con el objetivo de conformar el registro de Deposito Provisional. En primer lugar, se aperturó el día 17 de abril la convocatoria 01 de 2024 para registro de Depositarios Provisionales de Sociedades y Liquidadores. En segundo lugar, se publicó la convocatoria 02 de 2024 para la conformación de registro de Gerentes Populares. | X18: Las dos (2) convocatorias se encuentran en la fase de evaluación técnica, jurídica con sus respectivas subsanaciones. Conforme se vaya superando las etapas y validado la idoneidad de los aspirantes, se va conformando el registro para realizar asignación. | AA18: =IF(R18=0,1,"") | AB18: =IF(AND(V18<70%,V18>0),1,"")
A19: 12 | B19: Productiva, social y ambiental | C19: 02. Fomentar las economías populares y comunitarias a partir de proyectos estratégicos que generen valor público, social y ambiental. | D19: Implementar proyectos estratégicos con enfoque productivo, social y ambiental que permitan la creación de valor. | E19: Acompañar el desarrollo de los proyectos en o con activos de la SAE (En cualquier fase del ciclo de vida del proyecto) | F19: Direccionamiento Estratégico | G19: Gobierno y Gestión de la Estrategia | H19: Dirección de Proyectos | I19: SÍ | J19: Acompañamiento al desarrollo de proyectos priorizados con aliados locales, regionales, nacionales e internacionales | K19: Gestión | L19: Eficacia | M19: Demanda | N19: (Proyectos acompañados en sus diferentes fases del ciclo de vida / Proyectos priorizados por la Gerencia de Proyectos Especiales para el acompañamiento en la estructuración y/o desarrollo de proyectos que involucre los activos administrados por la SAE) *100% | O19: Objetivo del indicador: medir el acompañamiento realizado por la Gerencia de Proyectos Especiales para el desarrollo parcial o total de las diferentes etapas del ciclo de vida de los proyectos. Numerador: corresponde al acompañamiento en el desarrollo de los proyectos priorizados en las diferentes etapas de su ciclo de vida. Para entendimiento del cumplimiento del indicador, se considera que el acompañamiento a los proyectos se finaliza cuando se cuenta con desarrollo en cualquier fase del ciclo de vida de los proyectos priorizados por la Gerencia de Proyectos Especiales. En los casos en los que un proyecto cuente con acompañamiento en más de una fase del ciclo de vida de proyectos, solo se contará una vez. Denominador: Corresponde al número de proyectos priorizados por la Gerencia de Proyectos Especiales. | P19: 1 | Q19: Trimestral | R19: 42 | S19: 42 | T19: 0.5 | U19: 0.5 | V19: 1 | W19: Para el segundo trimestre de 2024, la Dirección de proyectos contó con 42 proyectos priorizados, de los cuales diecinueve (19) están en la categoría de proyectos agro productivos, ocho (8) en la categoría de enfoque de genero y quince (15) enla categoría de gerentes populares para el impulso a la economía popular con organizaciones de jóvenes y firmantes de paz. Del total de proyectos priorizados por la Dirección de Proyectos, 42 cuentan con asesoría y acompañamiento por parte de la dirección. | Y19: Durante el primer trimestre se reportaron 28 proyectos. Si durante el segundo trimestre se realizaron 42 más, se sugiere actualizar el numerador y el denominador a 70. La columna de Análisis del indicador se mantiene como está | AA19: =IF(R19=0,1,"") | AB19: =IF(AND(V19<70%,V19>0),1,"")
A20: 13 | B20: Financiera | C20: 03. Garantizar la efectiva transferencia de recursos a la Nación, en concordancia con lo establecido en la ley y contribuyendo a los propósitos del Plan Nacional de Desarrollo. | D20: Cumplimiento de transferencias de recursos a la Nación establecidas en la ley . | E20: Realizar las transferencias a la Nación y destinaciones específicas en recursos líquidos | F20: Gestión Financiera | G20: Tesorería | H20: Dirección Financiera | I20: SÍ | J20: Transferencias a la Nación y destinaciones específicas en recursos líquidos | K20: Producto | L20: Economía | M20: Programación anual | N20: (Sumatoria de los valores de las transferencias a favor de la nación y destinaciones específicas en recursos líquidos/ Meta de transferencias a favor de la Nación y destinaciones específicas en recursos líquidos) *100% | O20: Objetivo del indicador: medir las transferencias realizadas a la nación y destinaciones específicas en recursos líquidos. Este indicador se encuentra globalizado centralizado por la Gerencia Financiera con base en los ingresos producidos al interior de la entidad. Numerador: corresponde a la sumatoria de valores transferidos y destinados oficialmente a las entidades beneficiarias establecidas en la Ley. Denominador: corresponde a la meta establecida en el presupuesto aprobado por el Consejo Nacional de Estupefacientes. | P20: 335841000000 | Q20: Trimestral | R20: 321883062038 | S20: 335841000000 | T20: 0.95843885 | U20: 0.5 | V20: 1 | W20: Corresponde a los recursos líquidos transferidos a la Nación en cumplimiento del Artículo 91 de la Ley 1708 modificado por el artículo 22 de la Ley 1849 de 2017 para la Fiscalía General de la Nación, la Rama Judicial, Policía Judicial, Defensoría del Pueblo y la destinación especifica para el Fondo Victimas, Politica Antidrogas y FOMMUR . | AA20: =IF(R20=0,1,"") | AB20: =IF(AND(V20<70%,V20>0),1,"")
A21: 14 | B21: Financiera | C21: 03. Garantizar la efectiva transferencia de recursos a la Nación, en concordancia con lo establecido en la ley y contribuyendo a los propósitos del Plan Nacional de Desarrollo. | D21: Cumplimiento de transferencias de recursos a la Nación establecidas en la ley . | E21: Gestionar la monetización de divisas y el recaudo de moneda nacional | F21: Disposición Final | G21: Otras Modalidades de Disposición Final | H21: Dirección para la Democratización de Activos Muebles | I21: SÍ | J21: Transferencias realizadas a la Nación a través de divisas monetizadas y moneda nacional | K21: Producto | L21: Economía | M21: Programación anual | N21: (Valor monetizado y recaudado / Valor programado de divisas a monetizar y moneda nacional a recaudar)* 100% | O21: Objetivo del indicador: medir las transferencias realizadas a la Nación a través de divisas monetizadas y recaudo de moneda nacional identificada. Numerador: corresponde al valor monetizado de divisas a través del Banco de la República o de los intermediarios del mercado cambiario y a la moneda nacional recibida e identificada para su registro en el inventario de activos. Denominador: El valor programado de divisas a monetizar se refiere al valor de divisas (moneda extranjera) recibidas por SAE hasta el mes de septiembre del 2024. El valor de moneda nacional a recaudar corresponde al valor de la moneda en pesos colombianos entregada por parte la autoridad competente. | P21: 1 | Q21: Trimestral | R21: 4867749717 | S21: 4867749717 | T21: 1 | U21: 0.5 | V21: 1 | W21: Durante el 2 trimestre se identificaron 10 registros adicionales de moneda nacional y se solicito si ingreso al inventario por un valos $3,733,614,539 | AA21: =IF(R21=0,1,"") | AB21: =IF(AND(V21<70%,V21>0),1,"")
A22: 15 | B22: Financiera | C22: 04. Generar rentabilidad económica a partir de la diversificación de ingresos, para la inversión social y la lucha contra el crimen organizado. | D22: Adelantar procesos de comercialización y venta de activos | E22: Realizar gestion con el fin de apoyar la formalizacion de negocios pendientes de escrituración y registro. | F22: Disposición Final | G22: Comercialización de Activos | H22: Dirección Comercial | I22: SÍ | J22: Formalizacion de negocios pendientes de escrituracion y registro | K22: Gestión | L22: Eficacia | M22: Demanda | N22: Negocios escriturados y registrados / Negocios pendientes de escrituracion y registro. | O22: Objetivo del indicador: Medir la eficiencia del tramite de formalizacion de negocios( escriturados y registrados) en el periodo de ejecución. Numerador: Corresponde al número de negocios escriturados y registrados. Denominador: Corresponde a los negocios pendientes de escrituracion y registro en el periodo de ejecucion. | P22: 100% | Q22: Trimestral | R22: 82 | S22: 405 | T22: 0.10123457 | U22: 0.5 | V22: 0.20246914 | W22: Los negocios pendientes de escrituración y registro corresponden a contratos de compraventa de inmuebles que fueron aprobados durante la vigencia del contrato interadministrativo 011 de 2015 CISA-SAE. Desde el año 2023, la Dirección Comercial emprendió el reto de impulsar el saneamiento o formalización de estos negocios llevándolos al estadío de escritura y posteriormente al de registro. A la fecha, el universo es de 405 negocios y su comportamiento obedece a problemáticas que afectan la pronta formalización de los negocios en marcha principalmente relacionadas con la prescripción de pasivos a cargo de los bienes para su paso a escrituración, así como también los tiempos de las ORIP, entre otros. | X22: Se solicita ajustar la meta del indicador pasando de 505 a 405; toda vez que este es el universo que corresponde a la vigencia del 2024. La meta de 505 corresponde al acumulado de varias vigencias. Se solicita ajustar el comportamiento del indicador pasando de un indicador a “demanda” por un indicador de “programación anual”, dado que, este universo es fijo y corresponde a los negocios pendientes de formalizar a enero del 2024. Se solicita ajustar la meta del indicador pasando de 100% a un 70% lo que corresponde a 283 negocios, teniendo en cuenta que dicho universo cuenta con rezagos de varias vigencias anteriores, este fue el comportamiento del año anterior y en el cumplimiento del mismo se presentan una fuerte dependencia externa que afecta el cumplimiento del indicador. | Y22: Se recuerda que el numerador es un valor acumulado. Por lo tanto, no puede ser inferior al valor reportado y aprobado en comité directivo para el primer trimestre (218). Si es necesario modificar los valores para el primer trimestre, es necesario enviar la justificación de ese cambio, ya que dicho reporte ya está aprobado y publicado en página web. Por favor, realizar la solicitudes de cambio de indicador diligenciando la tabla incluida en el primer mensaje de este hilo de correos. | AA22: =IF(R22=0,1,"") | AB22: =IF(AND(V22<70%,V22>0),1,"") -> 1
A23: 16 | B23: Financiera | C23: 04. Generar rentabilidad económica a partir de la diversificación de ingresos, para la inversión social y la lucha contra el crimen organizado. | D23: Adelantar procesos de comercialización y venta de activos | E23: Gestionar el recaudo de ventas de inmuebles sociales y no sociales comercializados a través de la Gerencia Comercial | F23: Disposición Final | G23: Comercialización de Activos | H23: Dirección Comercial | I23: SÍ | J23: Recaudo por venta de inmuebles | K23: Producto | L23: Economía | M23: Programación anual | N23: (Valor de recaudo por ventas de inmuebles / Valor de recaudo de ventas de inmuebles proyectado para la vigencia)*100% | O23: Objetivo del indicador: medir el recaudo por la venta de inmuebles sociales y no sociales comercializados a través de la G. Comercial. Numerador: es el valor de recaudo por ventas de inmuebles sociales y no sociales comercializados a través de la G. Comercial. Este recaudo es producto de ventas directas, cuotas partes, ventas masivas y ventas a través del operador comercial. Denominador: corresponde al recaudo de ingresos por venta programado para la vigencia. | P23: 468000000000 | Q23: Trimestral | R23: 62730570745 | S23: 468000000000 | T23: 0.13403968 | U23: 0.5 | V23: 0.26807936 | W23: La adecuación del proceso con base en el convenio marco 044-2024 ha implicado la modificación de documentación y la parametrización de un micrositio especial para la venta de inmuebles a través de operador comercial. Dichas adecuaciones explican el comportamiento del indicador para el segundo trimestre. A la fecha, ya han sido publicados inmuebles de alto valor que esperan ser comercializados y así dar cumplimiento a la meta. | X23: Se solicita realizar los siguientes ajustes, teniendo en cuenta que el indicador mide la gestión realizada en la venta de inmuebles sociales y estos no son considerador como ingresos corrientes de SAE, sino de las sociedades, lo que no es constituido como un recaudo: El nombre del indicador a “Ingresos por venta de inmuebles” La fórmula del indicador a “(Valor de ingresos por ventas de inmuebles / Valor de ingresos de ventas de inmuebles proyectado para la vigencia) *100%. Descripción del indicador así: Objetivo del indicador: medir los ingresos por la venta de inmuebles sociales y no sociales comercializados a través de la Dirección Comercial. Numerador: es el valor de ingresos por ventas de inmuebles sociales y no sociales comercializados a través de la D. Comercial. Este ingreso es producto de ventas directas, cuotas partes, ventas masivas y ventas a través del operador comercial. Denominador: corresponde a los ingresos por venta programados para la vigencia. | Y23: El denominador del indicador, aprobado en Comité Directivo Asincrónico N. 4 del 28 de Junio y publicado, es de 468000000000 | AA23: =IF(R23=0,1,"") | AB23: =IF(AND(V23<70%,V23>0),1,"") -> 1
