Workbook
Name Dimensión: #REF!
Name Iniciativas_Objetivo1: #REF!
Name Iniciativas_Objetivo10: #REF!
Name Iniciativas_Objetivo11: #REF!
Name Iniciativas_Objetivo12: #REF!
Name Iniciativas_Objetivo13: #REF!
Name Iniciativas_Objetivo2: #REF!
Name Iniciativas_Objetivo3: #REF!
Name Iniciativas_Objetivo4: #REF!
Name Iniciativas_Objetivo5: #REF!
Name Iniciativas_Objetivo6: #REF!
Name Iniciativas_Objetivo7: #REF!
Name Iniciativas_Objetivo8: #REF!
Name Iniciativas_Objetivo9: #REF!
Name Objetivos_Estratégicos: #REF!

Sheet PAI
D1: FORMATO PLAN DE ACCIÓN INSTITUCIONAL PROCESO GOBIERNO Y GESTIÓN DE LA ESTRATEGIA MACROPROCESO DIRECCIONAMIENTO ESTRATÉGICO | P1: Código: F-DE2-118 Versión No.: 06 Vigencia desde: 26 – 09- 2023
A4: PLAN DE ACCIÓN INSTITUCIONAL (PAI) 2024 SOCIEDAD DE ACTIVOS ESPECIALES S.A.S.
A6: Alineación estratégica y táctica | E6: Alineación Operativa | H6: Información del área que ejecuta la acción | K6: Clasificación de indicadores | N6: Información complementaria del indicador | R6: Seguimiento cuantitativo del indicador | U6: Alerta de desempeño al corte evaluado | W6: Análisis cualitativo del indicador
A7: ID | B7: Dimensión | C7: Objetivos estratégicos | D7: Iniciativas | E7: Acciones | F7: Macroproceso | G7: Proceso | H7: Área responsable de la ejecución | I7: ¿Se toma en cuenta para la evaluación de desempeño? | J7: Nombre del indicador | K7: Clasificación por ubicación en la cadena de valor público | L7: Tipo de indicador | M7: Comportamiento del indicador | N7: Fórmula para medir el indicador | O7: Descripción del indicador | P7: << | Q7: Periodicidad del reporte | R7: Numerador | S7: Denominador | T7: Cumplimiento del indicador en el año | U7: % Meta T4 | V7: Cumplimiento del indicador a corte del trimestre evaluado | W7: Análisis del indicador | X7: Observaciones
A8: 1 | B8: Productiva, social y ambiental | C8: 01. Democratizar los activos administrados por la SAE a través de mecanismos de disposición temporal y definitiva que permitan la creación de valor público, social y ambiental; aporten al desarrollo territorial y productivo y garanticen la función social y ecológica de la propiedad. | D8: Garantizar la inclusión de comunidades, organizaciones sociales y economías populares en condición de vulnerabilidad en los mecanismos de administración existentes | E8: Permitir la inclusión de organizaciones comunitarias en el gerenciamiento de Sociedades Activas y/o establecimientos de comercio. | F8: Disposición Temporal | G8: Administración de Depósitos Provisionales | H8: Dirección de Gobierno, Control y Democratización de Sociedades | I8: SÍ | J8: Gerencias populares en Sociedades Activas y/o establecimientos de comercio | K8: Producto | L8: Eficacia | M8: Programación anual | N8: (Sociedades Activas y/o establecimientos de comercio con gerencias populares/Sociedades Activas y/o establecimientos de comercio priorizados para el gerenciamiento de organizaciones populares)*100% | O8: Objetivo del indicador: medir la inclusión de organizaciones comunitarias en el gerenciamiento de Sociedades Activas y/o establecimientos de comercio. Numerador: corresponde al número de Sociedades Activas y/o establecimientos de comercio con gerenciamiento de organizaciones populares y/o comunitarias. Denominador: son las Sociedades Activas y/o establecimientos de comercio priorizados por la Gerencia de Sociedades Activas para el gerenciamiento popular. | P8: 10 | Q8: Trimestral | R8: 10 | S8: 10 | T8: 1 | U8: 1 | V8: 1 | W8: Se asignan 8 organizaciones para Gerencia Popular de las cuales 8 tienen resolución de nombramiento y 2 tienen proyecto de acto administrativo: Con resolución: 1. TIENDA TUNNING 2. EMILY SPA 3. THE GREEN HOUSE 4. SANVAS INVERSIONES INMOBILIARIAS SAS 5. AUDIOVISUALES IMAGEN Y SONIDO S.A.S. 6. EL RANCHO DE LIZUT 7. BÉLLEGAL S.A.S. 8. CIA AGRICOLA DIAZ SOCIEDAD POR ACCIONES SIMPLIFICA Con proyecto en revisión: 1. EDS EL MIRADOR PIENDAMO 2. HOTEL CASA SOLEDAD
A9: 2 | B9: Productiva, social y ambiental | C9: 01. Democratizar los activos administrados por la SAE a través de mecanismos de disposición temporal y definitiva que permitan la creación de valor público, social y ambiental; aporten al desarrollo territorial y productivo y garanticen la función social y ecológica de la propiedad. | D9: Adelantar entrega de activos por mecanismos de disposición temporal y/o definitiva, priorizando los procesos productivos, sociales, ambientales, así como la atención ante emergencias y desastres producto de fenómenos de variabilidad climática | E9: Democratizar inmuebles rurales sociales para el formento de la economía popular, la reforma agraria o el valor público, social y ambiental. | F9: Disposición Temporal Disposición Final | G9: Administración directa Administración de destinación provisional Otras modalidades de disposición final | H9: Dirección de Gobierno, Control y Democratización de Sociedades | I9: SÍ | J9: Tierras sociales para la paz | K9: Producto | L9: Eficacia | M9: Programación anual | N9: (Número de hectáreas de inmuebles sociales democratizadas en el marco de la estrategia de tierras para la paz/ Número de hectáreas de inmuebles sociales programadas para entrega en la vigencia)*100% | O9: Objetivo del indicador: medir el grado de avance de entrega de tierras sociales para la paz bajo los mecanismos establecidos. Numerador: corresponde al número de hectáreas de inmuebles sociales entregadas mediante transferencias definitivas de inmuebles sociales extintos, ventas a la ANT, entrega de derechos de uso u otros esquemas de administración, que cuenten con acto administrativo o figura jurídica suscrita. Denominador: corresponde al número de hectáreas de inmuebles sociales programados para entrega en la vigencia 2024 que fomenten la economía popular, la reforma agraria y en general el programa de acceso a tierras. | P9: 67468 | Q9: Trimestral | R9: 10004 | S9: 67468 | T9: 0.1482777 | U9: 1 | V9: 0.1482777 | W9: Se finalizaron las actividades de alistamiento administrativo y jurídico, necesarias para proceder con la venta de los predios, de 9152.4611 Hectareas. AGRICOLA PALMARES S.A.S. 1186.6782 CREACIONES YOGUI LIMITADA EN LIQUIDACION 721.2975 IMPORTADORA HEES SA 434.900 INVERSIONES CAMACHO ESTUPINAN Y CIA S EN C - EN LIQUIDACION 4870.856 INVERSIONES MACARNIC PATIÑO Y CIA. S. EN C.S. EN LIQUIDACION 804 SANTA SOFIA DE LOS GANADEROS LIMITADA - EN LIQUIDACION 781.5214 BIO FORESTAL S.A.S. - EN LIQUIDACIÓN 27.225 GANADERIA PRIMAVERA DEL NORTE LTDA. EN LIQUIDACION- GAPRINORTE LTDA 68.773 HATO NUEVO LTDA EN LIQUIDACION 254.948 INVERSIONES AGROVALLE LIMITADA 2.3216 Así mismo, se hizo la entrega de bienes al Fondo para la reparación a las víctimas, con inmuebles correspondientes a 854 Hectareas y 10,772.46 M2. | X9: Esta Dirección solicita el ajuste del indicador teniendo en cuenta que la responsabilidad de la venta de bienes a la ANT es de la Gerencia de Comercialización de Activos Sociales.
A10: 3 | B10: Productiva, social y ambiental | C10: 01. Democratizar los activos administrados por la SAE a través de mecanismos de disposición temporal y definitiva que permitan la creación de valor público, social y ambiental; aporten al desarrollo territorial y productivo y garanticen la función social y ecológica de la propiedad. | D10: Adelantar entrega de activos por mecanismos de disposición temporal y/o definitiva, priorizando los procesos productivos, sociales, ambientales, así como la atención ante emergencias y desastres producto de fenómenos de variabilidad climática | E10: Realizar o actualizar fichas técnicas de caracterización de Inmuebles Rurales para procesos de disposición final gratuita con enfoque social y productivo | F10: Diagnóstico y Alistamiento | G10: Diagnóstico de Activos | H10: Dirección para la Democratización de Activos Inmuebles Rurales | I10: SÍ | J10: Fichas Técnicas de caracterización de Inmuebles Rurales para procesos de disposición final gratuita con enfoque social y productivo | K10: Gestión | L10: Eficacia | M10: Demanda | N10: (Folios de Matrícula Inmobiliaria de inmuebles rurales con ficha de caracterización para disposición final gratuita/ Folios de Matrícula Inmobiliaria de inmuebles con viabilidad para disposición final gratuita) *100% | O10: Objetivo del indicador: medir el proceso de caracterización técnica de inmuebles rurales para disponerlos de manera definitiva y gratuita definidas en la ley. Numerador: corresponde al número de folios de matrícula rurales que cuentan con fichas de caracterización predial elaboradas o actualizadas para el proceso de disposición definitiva y gratuita. Denominador: corresponde al número de folios de matrícula de inmuebles rurales que cuentan con un concepto jurídico favorable para disposición final gratuita favorable. | P10: 1 | Q10: Trimestral | R10: 353 | S10: 326 | T10: 1 | U10: 1 | V10: 1 | W10: Durante el ultimo trimestre se reportaron un total de 17 folios de matricula (numerador). Es importante precisar que se presenta una disminución frente a los otros periodos teniendo en cuenta que durante este lapso de tiempo se priorizaron actividades tales como entregas definitivas por concepto de venta y destinación a entidades como la ANT, las cuales aumentaron su demanda durante este período. Sumado a lo anterior, se precisa que algunas de las fichas de caracterización solicitadas, que aún se encuentran pendientes por entregar, presentan limitación en su elaboración por factores tales como: normas de uso (todas fueron solicitadas, se encuentra en espera de la respuesta), visitas técnicas, saneamiento catastral, POTS y/o EOTS que permitan establecer con certeza el uso actual y permitido de los predios solicitados. Durante el ultimo trimestre del año 2024, se identifican un total de 253 conceptos jurídicos viables para transferencia. Es importante resaltar que estos conceptos fueron allegados por la Dirección de Asuntos Legales Misionales por medio de memorando interno el día 28 de octubre de 2024, el cual contenía un masivo de conceptos y muchos de ellos correspondían a actualizaciones de viabilidades jurídicas que ya habían sido aportadas en meses anteriores (es decir ya se habían entregado al área de Asuntos Legales Misionales, incluso recae sobre 28 FMI que ya cuentan con acto administrativo de transferencia). Lo anterior se resalta dado que en este indicador se observa una gran diferencia con el numerador aportado, no queriendo decir que los 253 conceptos no cuenten con ficha técnica de caracterización, ya que de estos 207 cuentan con la ficha técnica correspondiente, es decir los que se encuentran pendientes por ficha de caraterizacion a a la fecha son 46 FMI (el cual reportaremos como denominador).
A11: 4 | B11: Productiva, social y ambiental | C11: 01. Democratizar los activos administrados por la SAE a través de mecanismos de disposición temporal y definitiva que permitan la creación de valor público, social y ambiental; aporten al desarrollo territorial y productivo y garanticen la función social y ecológica de la propiedad. | D11: Adelantar entrega de activos por mecanismos de disposición temporal y/o definitiva, priorizando los procesos productivos, sociales, ambientales, así como la atención ante emergencias y desastres producto de fenómenos de variabilidad climática | E11: Presentar casos de destinación definitiva de inmuebles rurales, priorizando aquellos que contribuyen a la reforma agraria, al fomento de la economía popular y a la generación de valor público, social o ambiental. | F11: Disposición Final | G11: Otras modalidades de disposición final | H11: Dirección para la Democratización de Activos Inmuebles Rurales | I11: SÍ | J11: Trámite de destinaciones definitivas de Inmuebles Rurales | K11: Gestión | L11: Eficacia | M11: Demanda | N11: (Número de folios de matrícula de inmuebles rurales presentados para destinación definitiva / Número de folios de matrícula viables para destinaciones definitivas) *100% | O11: Objetivo del indicador: medir la presentación de folios de matrícula de inmuebles rurales para el mecanismo de destinación definitiva gratuita prevista en la ley. Numerador: total de folios de matrícula de inmuebles rurales viables jurídicamente que cuentan con solicitud de elaboración de acto administrativo de destinación definitiva gratuita. Denominador: corresponde a los folios de matrícula de inmuebles rurales con solicitudes de destinación definitiva de inmuebles rurales que se consideran viables de acuerdo con la metodología y procedimientos. Observación: se hace necesario indicar en el análisis del indicador, las destinaciones definitivas aprobadas como insumo para la medición de la macrometa estratégica "Destinaciones de inmuebles al fomento de la economía popular y reforma agraria" | P11: 1 | Q11: Trimestral | R11: 247 | S11: 215 | T11: 1 | U11: 1 | V11: 1 | W11: Durante el cuarto trimestre, se recibieron un total de 33 solicitudes (numerador) de transferencia definitiva, de las cuales 19 ya relacionan solicitud en Dirección de Asuntos Legales Misionales para elaboración de acto administrativo ncorrespondiente, 4 se encuentran en saneamiento jurídico, 1 se encuentra no viable, y 9 se encuentran en proceso de elaboración de acto administrativo. El total folios de matrícula de inmuebles rurales con solicitudes de destinación definitiva de inmuebles rurales que se consideran viables es de 32 (denominador). Es preciso indicar que para el tercer trimestre de 2024 se reportó la cifra solicitada tomando en cuenta las descripciones de numerador y denominador dadas en la columna O, siendo estas distintas a la fórmula del indicador dada en la columna N, toda vez que, de la manera en la que se reportó, la cifra se encontraba sujeta a que sobre los FMI existiera solicitud de transferencia definitiva. Por lo anterior, la cifra acumulada reportada en el tercer trimestre de 2024 fue de 153 como numerador y 158 como denominador. Sin embargo, es preciso acotar que de haberse tomado como se señala en la fórmula del indicador, esto es en la columna N, alno ser una cifra condicionada a la existencia de solicitud el valor para ese trimestre sería de 214 sobre 184,
A12: 5 | B12: Productiva, social y ambiental | C12: 01. Democratizar los activos administrados por la SAE a través de mecanismos de disposición temporal y definitiva que permitan la creación de valor público, social y ambiental; aporten al desarrollo territorial y productivo y garanticen la función social y ecológica de la propiedad. | D12: Adelantar entrega de activos por mecanismos de disposición temporal y/o definitiva, priorizando los procesos productivos, sociales, ambientales, así como la atención ante emergencias y desastres producto de fenómenos de variabilidad climática | E12: Presentar casos de destinación provisional de inmuebles rurales, priorizando aquellos que contribuyen a la reforma agraria, al fomento de la economía popular y a la generación de valor público, social o ambiental. | F12: Disposición Temporal | G12: Administración de destinación provisional | H12: Dirección para la Democratización de Activos Inmuebles Rurales | I12: SÍ | J12: Trámite de destinaciones provisionales de Inmuebles Rurales | K12: Gestión | L12: Eficacia | M12: Demanda | N12: (Número de folios de matrícula de Inmuebles rurales presentados a Comité/ Número de folios de matrícula con solicitudes de destinaciones provisionales viables) *100% | O12: Objetivo del indicador: medir la presentación de inmuebles rurales para destinación provisional ante el Comité de Depositarios, Destinatarios, Mandatarios y Liquidadores. Numerador: total de folios de matrícula de inmuebles rurales presentadas al Comité de Depositarios, Destinatarios, Mandatarios y Liquidadores para aprobación del mecanismo de destinación provisional. Denominador: corresponde al número de folios de matrícula que se consideran viables para presentar al Comité de Depositarios, Destinatarios, Mandatarios y Liquidadores con el fin de que se considere la aprobación de la destinación provisional. Observación: se hace necesario indicar en el análisis del indicador, las destinaciones provisionales aprobadas como insumo para la medición de la macrometa estratégica "Destinaciones de inmuebles al fomento de la economía popular y la reforma agraria" | P12: 1 | Q12: Trimestral | R12: 58 | S12: 58 | T12: 1 | U12: 1 | V12: 1 | W12: Se precisa que para el tercer trimestre de 2024 se presentaron un total de 15 FMI para destinación provisional ante Comité de Depositarios, Destinatarios, Mandatarios y Liquidadores, los cuales fueron aprobados en su totalidad. | X12: Es preciso indicar que el número de folios de matrícula inmobiliaria aprobados ante el Comité de Depositarios Provisionales, Mandatarios y Liquidadores para asignación a través del mecanismo de destinación provisional es sujeto a variación, en el entendido de que, en ocasiones, las organizaciones realizan un alcance a su petición inicial solicitando el cambio de folios para un número menor o mayor, dependiendo la unidad económica que conformen los activos. Esto se debe a diferentes factores, como problemas de orden público y/o amenazas que afectan los derechos fundamentales de los miembros de las organizaciones, aspectos que imposibilitan la materialización de las destinaciones.
A13: 6 | B13: Productiva, social y ambiental | C13: 01. Democratizar los activos administrados por la SAE a través de mecanismos de disposición temporal y definitiva que permitan la creación de valor público, social y ambiental; aporten al desarrollo territorial y productivo y garanticen la función social y ecológica de la propiedad. | D13: Adelantar entrega de activos por mecanismos de disposición temporal y/o definitiva, priorizando los procesos productivos, sociales, ambientales, así como la atención ante emergencias y desastres producto de fenómenos de variabilidad climática | E13: Democratizar inmuebles urbanos para la educación pública | F13: Disposición Temporal | G13: Administración directa Administración de destinación provisional | H13: Dirección para la Democratización de Activos Inmuebles Urbanos | I13: SÍ | J13: Disposición temporal de inmuebles urbanos para la educación pública | K13: Producto | L13: Eficacia | M13: Demanda | N13: (Inmuebles urbanos aprobados para entrega en disposición temporal al fortalecimiento de la educación pública /Inmuebles urbanos solicitados para entrega en disposición temporal para el fortalecimiento de la educación pública)* 100% | O13: Objetivo del indicador: medir la asignacion de inmuebles urbanos bajo el mecanismo de disposición temporal para el fortalecimiento de la educación pública. Numerador: corresponden a los inmuebles urbanos aprobados por comité para su asignación bajo el mecanismo de disposición temporal a entidades o establecimientos públicos para el fortalecimiento de la educación pública Denominador: corresponde a los inmuebles urbanos solicitados para el fortalecimiento de la educación pública por parte de las instituciones de educación pública del sistema educativo colombiano en todos sus subsistemas o niveles y establecimientos públicos facultados para aprobar e impartir programas que se enmarcan en la Educación para el Trabajo y el Desarrollo Humano. Estas solicitudes deben ser allegadas por los canales oficiales de comunicación de SAE y cumplir los requerimientos exigibles (Formularios, información completa, soportes). | P13: 1 | Q13: Trimestral | R13: 16 | S13: 16 | T13: 1 | U13: 1 | V13: 1 | W13: Con relación a los Inmuebles urbanos aprobados para entrega al fortalecimiento de la educación pública de conformidad con el macroproceso P-DT4-101 Procedimiento Destinación Provisional de bienes, en esta Dirección no recibio solicitudes de destinaciones provisionales para el fortalecimiento de educacion pública.
A14: 109 | B14: Productiva, social y ambiental | C14: 01. Democratizar los activos administrados por la SAE a través de mecanismos de disposición temporal y definitiva que permitan la creación de valor público, social y ambiental; aporten al desarrollo territorial y productivo y garanticen la función social y ecológica de la propiedad. | D14: Adelantar entrega de activos por mecanismos de disposición temporal y/o definitiva, priorizando los procesos productivos, sociales, ambientales, así como la atención ante emergencias y desastres producto de fenómenos de variabilidad climática | E14: Democratizar inmuebles urbanos para la educación pública | F14: Disposición Final | G14: Otras modalidades de disposición final | H14: Dirección para la Democratización de Activos Inmuebles Urbanos | I14: No | J14: Gestión de viabilidades de inmuebles urbanos para la Destinación definitiva para la educación pública | K14: Producto | L14: Eficacia | M14: Demanda | N14: (Inmuebles urbanos con solicitudes de viabilidades para el fortalecimiento de la educación pública /Inmuebles urbanos solicitados para el fortalecimiento de la educación pública)* 100% | O14: Objetivo del indicador: medir la gestion de las viabilidades de inmuebles urbanos para la Destinación Definitiva para el fortalecimiento de la educación pública. Numerador: corresponden a las solicitudes viabilidades jurídicas, administrativas y técnicas de los inmuebles urbanos suceptibles de Destinacion Definitiva para el fortalecimiento de la educación pública. Denominador: corresponde a los inmuebles urbanos solicitados para el fortalecimiento de la educación pública por parte de las instituciones de educación pública del sistema educativo colombiano en todos sus subsistemas o niveles y establecimientos públicos facultados para aprobar e impartir programas que se enmarcan en la Educación para el Trabajo y el Desarrollo Humano. Estas solicitudes deben ser allegadas por los canales oficiales de comunicación de SAE y cumplir los requerimientos exigibles (Formularios, información completa, soportes). | P14: 1 | Q14: Trimestral | R14: 31 | S14: 32 | T14: 0.96875 | U14: 1 | V14: 0.96875 | W14: La Dirección recibió durante el T1 once (11) solicitudes T2 Veinte (20), y en el T3, cero (0) solicitudes de destinaciónes de Instituciones Educativas, de la cuales ya se radicaron todas las solicitudes de viabilidad jurídica, técnica y administrativa; y, sobre uno (1) de los inmuebles no se continuó el trámite, debido a que la entidad universitaria desistió de la solicitud.finalmente durante el T4, una solicitud una (1) de la universidad UNIVERSIDAD INDUSTRIAL DE SANTANDER (UIS)
A15: 7 | B15: Productiva, social y ambiental | C15: 01. Democratizar los activos administrados por la SAE a través de mecanismos de disposición temporal y definitiva que permitan la creación de valor público, social y ambiental; aporten al desarrollo territorial y productivo y garanticen la función social y ecológica de la propiedad. | D15: Adelantar entrega de activos por mecanismos de disposición temporal y/o definitiva, priorizando los procesos productivos, sociales, ambientales, así como la atención ante emergencias y desastres producto de fenómenos de variabilidad climática | E15: Atender las solicitudes de destinación provisional y definitiva de inmuebles urbanos | F15: Disposición Temporal | G15: Administración de Destinación Provisional | H15: Dirección para la Democratización de Activos Inmuebles Urbanos | I15: SÍ | J15: Trámite de solicitudes de destinación provisional | K15: Gestión | L15: Eficacia | M15: Demanda | N15: (Solicitudes de destinación provisional de inmuebles urbanos atendidas/ Solicitudes de destinación provisional de inmuebles recibidas)*100% | O15: Objetivo del indicador: medir la atención de las solicitudes recibidas por entidades públicas, privadas y personas naturales de destinación provisional. Numerador: para destinación provisional se considera una solicitud atendida cuando ésta es presentada al comité de depositarios, mandatarios y liquidadores. Denominador: corresponde a las solicitudes de destinación provisional de inmuebles urbanos allegadas por los canales oficiales de comunicación de SAE y que cumplan los requerimientos exigibles. | P15: 1 | Q15: Trimestral | R15: 89 | S15: 89 | T15: 1 | U15: 1 | V15: 1 | W15: En cuanto a las solicitudes de destinación provisional, la Dirección recibió catorce 14 solicitudes durante el T1, dieciséis (16) solicitudes en el T2 y once (11) en el T3 de las cuales se atendieron diez (10) en T1, catorce (14) en el segundo trimestre y once (11) en el T3 satisfactoriamente, contando con aprobación del Comité de Depositarios, Mandatarios y Liquidadores, y proyección de los Actos Administrativos. finalmente durante el el T4 se atendieron 7 destinaciones satisfactoriamente que fueron aprobas en el comite.se precisa que 2 destinaciones provisionales del T2 no pasaron a comite por no ser viable. en la cual fueron descontado en el informe final del T4.
A16: 110 | B16: Productiva, social y ambiental | C16: 01. Democratizar los activos administrados por la SAE a través de mecanismos de disposición temporal y definitiva que permitan la creación de valor público, social y ambiental; aporten al desarrollo territorial y productivo y garanticen la función social y ecológica de la propiedad. | D16: Adelantar entrega de activos por mecanismos de disposición temporal y/o definitiva, priorizando los procesos productivos, sociales, ambientales, así como la atención ante emergencias y desastres producto de fenómenos de variabilidad climática | E16: Atender las solicitudes de destinación provisional y definitiva de inmuebles urbanos | F16: Dispocisión Final | G16: Otras modalidades de disposición final | H16: Dirección para la Democratización de Activos Inmuebles Urbanos | I16: No | J16: Trámite de solicitudes de destinación definitiva | K16: Gestión | L16: Eficacia | M16: Demanda | N16: (Solicitudes de destinación definitiva de inmuebles urbanos atendidas/ Solicitudes de destinación definitiva de inmuebles recibidas)*100 | O16: Objetivo del indicador: medir la atención de las solicitudes recibidas por entidades públicas, privadas y personas naturales de destinación definitiva de inmuebles urbanos. Numerador: Para destinación Definitiva se considera una solicitud atendida con la solicitud de viabilidades jurídicas, técnicas y administrativas. Denominador: Corresponde a las solicitudes de destinación definitiva de inmuebles urbanos allegadas por los canales oficiales de comunicación de SAE y que cumplan los requerimientos exigibles. | P16: 1 | Q16: Trimestral | R16: 33 | S16: 37 | T16: 0.89189189 | U16: 1 | V16: 0.89189189 | W16: De la misma manera, esta Dirección recibió durante el T1 (10) solicitudes, catorce (14) solicitudes durante el T2 y cinco (5) en el T3 sobre bienes inmuebles urbanos, de los cuales Se radicaron las solicitudes de viabilidad jurídica, técnica y administrativa sobre 9 en el T1, once (11) durante el T2, y cinco (5) en el T3. finalmente durante el T4 se recibieron 8 solicitudes , que fueron atendidas oportunamente teniendo en cuenta que se solicitaron la respectivas viabiliadades.
A17: 8 | B17: Productiva, social y ambiental | C17: 01. Democratizar los activos administrados por la SAE a través de mecanismos de disposición temporal y definitiva que permitan la creación de valor público, social y ambiental; aporten al desarrollo territorial y productivo y garanticen la función social y ecológica de la propiedad. | D17: Adelantar entrega de activos por mecanismos de disposición temporal y/o definitiva, priorizando los procesos productivos, sociales, ambientales, así como la atención ante emergencias y desastres producto de fenómenos de variabilidad climática | E17: Democratizar bienes muebles para el fomento de la economía popular | F17: DT. Disposición temporal DF. Disposición Final | G17: Administración directa Administración de destinación provisional Otras modalidades de disposición final | H17: Dirección para la Democratización de Activos Muebles | I17: SÍ | J17: Democratización de bienes muebles para el fomento de la economía popular | K17: Producto | L17: Eficacia | M17: Programación anual | N17: (Número de bienes muebles democratizados para el fomento de la economía popular/ Número de bienes muebles programados para el fomento de la economía popular)*100% | O17: Objetivo del indicador: medir el número de bienes entregados bajo mecanismos de disposición temporal y/o final por parte de la Gerencia de Muebles, para el fomento de la economía popular o la creación de valor público, social o ambiental. Numerador: corresponde al número de bienes muebles que se entregan bajo mecanismos de disposición temporal y/o final (Cuentas por participación, comodato, donaciones, destinaciones temporales y definitivas, entre otros esquemas) para el fomento de la economía popular o la creación de valor público, social o ambiental, a organizaciones comunitarias, organizaciones sin ánimo de lucro, entidades públicas u otro actor permitido y priorizado por la entidad. El numero de bienes muebles se consideran entregados cuando estos cuentan con resolución expedida de entrega. Denominador: corresponde al número de bienes muebles que se tienen programados para entrega bajo cualquier mecanismo de disposición temporal y/o definitiva para el fomento de la economía popular o la creación de valor público, social o ambiental. Observación: un ejemplo del alcance de este indicador aplicaría para el transporte de insumos, mano de obra o herramientas en el marco de proyectos ambientales, productivos o sociales. | P17: 50 | Q17: Trimestral | R17: 99 | S17: 50 | T17: 1 | U17: 1 | V17: 1 | W17: se han destinarón 69 vehiculos para el fomento de la economia popular y se han entregado 30 semovientes bajo contrato de cuentas en participación a la asociación Asocampeje.
A18: 9 | B18: Productiva, social y ambiental | C18: 01. Democratizar los activos administrados por la SAE a través de mecanismos de disposición temporal y definitiva que permitan la creación de valor público, social y ambiental; aporten al desarrollo territorial y productivo y garanticen la función social y ecológica de la propiedad. | D18: Adelantar destinaciones especiales temporales y definitivas, priorizando los procesos productivos, sociales, ambientales, así como la atención ante emergencias y desastres producto de fenómenos de variabilidad climática | E18: Democratizar bienes muebles para uso oficial o institucional | F18: Disposición Temporal Disposición Final | G18: Administración directa Administración de destinación provisional Otras modalidades de disposición final | H18: Dirección para la Democratización de Activos Muebles | I18: SÍ | J18: Democratización de bienes muebles para uso institucional | K18: Producto | L18: Eficacia | M18: Programación anual | N18: (Número de bienes muebles democratizados para uso oficial o institucional/ Número de bienes muebles programados para entrega y uso oficial o institucional)*100% | O18: Objetivo del indicador: medir el número de bienes entregados bajo mecanismos de disposición temporal y/o final por parte de la Gerencia de Muebles, para el uso oficial o institucional. Numerador: corresponde al número de bienes muebles que se entregan bajo mecanismos de disposición temporal y/o final (Cuentas por participación, comodato, donaciones, destinaciones temporales o definitivas, entre otros esquemas) para el uso oficial o institucional. El numero de bienes muebles se consideran entregados cuando estos cuentan con resolución expedida de entrega. Denominador: corresponde al número de bienes muebles que se tienen programados para entrega bajo cualquier mecanismo de disposición temporal y/o final para el uso oficial o institucional. Observación: un ejemplo del alcance de este indicador aplicaría para el desarrollo de actividades administrativas o de transporte institucional de uso oficial del estado. | P18: 70 | Q18: Trimestral | R18: 64 | S18: 70 | T18: 0.91428571 | U18: 1 | V18: 0.91428571 | W18: en expedicion de acto administrativo se encuentran 23 medios de transporte en expedicion de polizas 33 medios de transporte 5 medio de transporte ya entregado 3 pendiente para comite
A19: 10 | B19: Productiva, social y ambiental | C19: 01. Democratizar los activos administrados por la SAE a través de mecanismos de disposición temporal y definitiva que permitan la creación de valor público, social y ambiental; aporten al desarrollo territorial y productivo y garanticen la función social y ecológica de la propiedad. | D19: Garantizar la inclusión de comunidades, organizaciones sociales y economías populares en condición de vulnerabilidad en los mecanismos de administración existentes | E19: Promover la participación de organizaciones comunitarias en las convocatorias de registro en el Banco de depositarios provisionales | F19: Recepción y Registro | G19: Administración del Registro de Depositarios Provisionales y Liquidadores del FRISCO | H19: Gerencia de Depositarios, Mandatarios y Liquidadores | I19: SÍ | J19: Organizaciones comunitarias registradas como Depositarios y Gerentes Provisionales | K19: Producto | L19: Eficacia | M19: Programación anual | N19: (Organizaciones comunitarias registradas como Depositarios y Gerentes Provisionales/ Meta estimada de organizaciones comunitarias en el registro de Depositarios Provisionales)*100% | O19: Objetivo del indicador: medir la inclusión de organizaciones comunitarias en el registro en el Banco de depositarios provisionales. Numerador: corresponde a las organizaciones comunitarias evaluadas y registradas en el Banco de Depositarios 2024 como depositario o gerente popular. Denominador: corresponde a la estimación de organizaciones comunitarias incluidas dentro del Banco de Depositarios. | P19: 46 | Q19: Trimestral | R19: 81 | S19: 46 | T19: 1 | U19: 1 | V19: 1 | W19: 07-01-2025: La Gerencia de Depositarios tenía como objetivo para el periodo 2024 ingresar un total de 46 personas al registro de depositarios o gerentes populares. A la fecha, se ha avanzado significativamente en el cumplimiento de esta meta. A continuación, se detalla el estado actual de los ingresos al registro: Ingreso mediante la Resolución 1035 del 29 de noviembre de 2024: Se ha logrado el ingreso de 9 personas al registro de depositarios populares bajo esta resolución, cumpliendo parcialmente con la meta de 46. Proyección de Resoluciones Pendientes: Se encuentra en proceso la resolución de ingreso al registro para 41 personas adicionales, las cuales están próximas a ser formalizadas, lo que permitirá avanzar significativamente hacia el cumplimiento total de la meta. Presentación al Comité: En el próximo comité se presentarán 31 personas que han cumplido con todos los requisitos establecidos para su incorporación al registro, lo que representa un paso clave en la validación y resolución de estos casos. En conjunto, esto llevaría a un total de 81 gerentes populares que han sido o están en proceso de ser ingresados al registro, superando ampliamente la meta inicial de 46 personas. | X19: N/A
A20: 11 | B20: Productiva, social y ambiental | C20: 01. Democratizar los activos administrados por la SAE a través de mecanismos de disposición temporal y definitiva que permitan la creación de valor público, social y ambiental; aporten al desarrollo territorial y productivo y garanticen la función social y ecológica de la propiedad. | D20: Garantizar la inclusión de comunidades, organizaciones sociales y economías populares en condición de vulnerabilidad en los mecanismos de administración existentes | E20: Programar convocatorias para el registro de depositarios priorizando la inclusión de economías populares, comunitarias y otras comunidades con especial protección constitucional. | F20: Recepción y Registro | G20: Administración del Registro de Depositarios Provisionales y Liquidadores del FRISCO | H20: Gerencia de Depositarios, Mandatarios y Liquidadores | I20: SÍ | J20: Programación de Convocatorias para registro de Depositarios | K20: Gestión | L20: Eficacia | M20: Programación anual | N20: (Número de convocatorias realizadas / Número De convocatorias programadas) *100% | O20: Objetivo del indicador: medir las convocatorias realizadas para conformar el registro de depositarios provisionales. Numerador: corresponde a las convocatorias ejecutadas para conformar el registro de depositarios provisionales, hasta la aprobación del Comité de Depositarios, Liquidadores y Mandatarios. Denominador: las convocatorias programadas para el 2024 corresponden a 3 convocatorias. | P20: 3 | Q20: Trimestral | R20: 2 | S20: 3 | T20: 0.66666667 | U20: 1 | V20: 0.66666667 | W20: 07-01-2025: Durante la vigencia de 2024, la Gerencia de Depositarios tenía como objetivo la realización de tres convocatorias para el registro de depositarios. Sin embargo, únicamente se llevaron a cabo dos convocatorias, las cuales se detallan a continuación: Convocatoria 01 de 2024: Dirigida a depositarios y liquidadores. Convocatoria 02 de 2024: Dirigida a gerentes populares. No se alcanzó la meta de realizar tres convocatoria, la principal causa del no cumplimieno fue la identificación de múltiples fallas en el aplicativo diseñado para el proceso de convocatoria, las cuales se evidenciaron durante el desarrollo de la Convocatoria 01 de 2024. Estas fallas impidieron la planificación y ejecución de una tercera convocatoria en el mismo periodo. Adicionalmente, en la Convocatoria 02 de 2024, el proceso se realizó de manera manual debido a la persistencia de fallas en el aplicativo. Esta solución temporal implicó una carga de trabajo adicional considerable para los funcionarios de la Gerencia de Depositarios, lo que generó una reducción en la eficiencia operativa y afectó los tiempos previstos para el desarrollo de otras actividades. Durante el tercer trimestre de 2024, se llevó a cabo un trabajo conjunto con la OTI para realizar una revisión del aplicativo y corregir las fallas detectadas y mejorar el ambiente para que sea mas claro para los aspirantes. | X20: Para el año 2025, la Gerencia de Depositarios espera que el aplicativo esté completamente operativo y libre de fallas antes de iniciar cualquier convocatoria. Se realizaran pruebas piloto con los usuarios internos de la entidad para verificar la funcionalidad y facilidad de uso del sistema antes de su lanzamiento. Realizar una revision trimestral sobre el avance de las convocatorias, las incidencias presentadas y las soluciones implementadas, para mantener a la alta dirección informada y tomar decisiones oportunas.
A21: 12 | B21: Productiva, social y ambiental | C21: 02. Fomentar las economías populares y comunitarias a partir de proyectos estratégicos que generen valor público, social y ambiental. | D21: Implementar proyectos estratégicos con enfoque productivo, social y ambiental que permitan la creación de valor. | E21: Acompañar el desarrollo de los proyectos en o con activos de la SAE (En cualquier fase del ciclo de vida del proyecto) | F21: Direccionamiento Estratégico | G21: Gobierno y Gestión de la Estrategia | H21: Dirección de Proyectos | I21: SÍ | J21: Acompañamiento al desarrollo de proyectos priorizados con aliados locales, regionales, nacionales e internacionales | K21: Gestión | L21: Eficacia | M21: Demanda | N21: (Proyectos acompañados en sus diferentes fases del ciclo de vida / Proyectos priorizados por la Gerencia de Proyectos Especiales para el acompañamiento en la estructuración y/o desarrollo de proyectos que involucre los activos administrados por la SAE) *100% | O21: Objetivo del indicador: medir el acompañamiento realizado por la Gerencia de Proyectos Especiales para el desarrollo parcial o total de las diferentes etapas del ciclo de vida de los proyectos. Numerador: corresponde al acompañamiento en el desarrollo de los proyectos priorizados en las diferentes etapas de su ciclo de vida. Para entendimiento del cumplimiento del indicador, se considera que el acompañamiento a los proyectos se finaliza cuando se cuenta con desarrollo en cualquier fase del ciclo de vida de los proyectos priorizados por la Gerencia de Proyectos Especiales. En los casos en los que un proyecto cuente con acompañamiento en más de una fase del ciclo de vida de proyectos, solo se contará una vez. Denominador: Corresponde al número de proyectos priorizados por la Gerencia de Proyectos Especiales. | P21: 1 | Q21: Trimestral | R21: 97 | S21: 97 | T21: 1 | U21: 1 | V21: 1 | W21: Para el cuarto trimestre de 2024, la Dirección de Proyectos contó con 97 proyectos priorizados acumulados, de los cuales treinta y cuatro (34) están en la categoría de proyectos agro productivos, doce (12) en la categoría de enfoque de genero , dieciséis (16) en la categoría de gerentes populares para el impulso a la economía popular con organizaciones de jóvenes y firmantes de paz y treinta y cinco (35) de diferentes grupos poblacionales con enfoque de economía popular. | X21: Modificar Gerencia de Proyectos Especiales por Dirección de Proyectos.
A22: 13 | B22: Financiera | C22: 03. Garantizar la efectiva transferencia de recursos a la Nación, en concordancia con lo establecido en la ley y contribuyendo a los propósitos del Plan Nacional de Desarrollo. | D22: Cumplimiento de transferencias de recursos a la Nación establecidas en la ley . | E22: Realizar las transferencias a la Nación y destinaciones específicas en recursos líquidos | F22: Gestión Financiera | G22: Tesorería | H22: Dirección Financiera | I22: SÍ | J22: Transferencias a la Nación y destinaciones específicas en recursos líquidos | K22: Producto | L22: Economía | M22: Programación anual | N22: (Sumatoria de los valores de las transferencias a favor de la nación y destinaciones específicas en recursos líquidos/ Meta de transferencias a favor de la Nación y destinaciones específicas en recursos líquidos) *100% | O22: Objetivo del indicador: medir las transferencias realizadas a la nación y destinaciones específicas en recursos líquidos. Este indicador se encuentra globalizado centralizado por la Gerencia Financiera con base en los ingresos producidos al interior de la entidad. Numerador: corresponde a la sumatoria de valores transferidos y destinados oficialmente a las entidades beneficiarias establecidas en la Ley. Denominador: corresponde a la meta establecida en el presupuesto aprobado por el Consejo Nacional de Estupefacientes. | P22: 335841000000 | Q22: Trimestral | R22: 332466570639 | S22: 332467062038 | T22: 0.99999852 | U22: 1 | V22: 0.99999852 | W22: Corresponde a los recursos líquidos transferidos a la Nación en cumplimiento del Artículo 91 de la Ley 1708 modificado por el artículo 22 de la Ley 1849 de 2017 para la Fiscalía General de la Nación, la Rama Judicial, Policía Judicial, Defensoría del Pueblo y la destinación especifica para el Fondo Victimas, Politica Antidrogas, San Andres y FOMMUR . | X22: Se debe ajustar la meta a la suma de $332.467.062.038, conforme a la modificación aprobada por el CNE, según resolución 0001 de 2024 del CNE
A23: 14 | B23: Financiera | C23: 03. Garantizar la efectiva transferencia de recursos a la Nación, en concordancia con lo establecido en la ley y contribuyendo a los propósitos del Plan Nacional de Desarrollo. | D23: Cumplimiento de transferencias de recursos a la Nación establecidas en la ley . | E23: Gestionar la monetización de divisas y el recaudo de moneda nacional | F23: Disposición Final | G23: Otras Modalidades de Disposición Final | H23: Dirección para la Democratización de Activos Muebles | I23: SÍ | J23: Transferencias realizadas a la Nación a través de divisas monetizadas y moneda nacional | K23: Producto | L23: Economía | M23: Programación anual | N23: (Valor monetizado y recaudado / Valor programado de divisas a monetizar y moneda nacional a recaudar)* 100% | O23: Objetivo del indicador: medir las transferencias realizadas a la Nación a través de divisas monetizadas y recaudo de moneda nacional identificada. Numerador: corresponde al valor monetizado de divisas a través del Banco de la República o de los intermediarios del mercado cambiario y a la moneda nacional recibida e identificada para su registro en el inventario de activos. Denominador: El valor programado de divisas a monetizar se refiere al valor de divisas (moneda extranjera) recibidas por SAE hasta el mes de septiembre del 2024. El valor de moneda nacional a recaudar corresponde al valor de la moneda en pesos colombianos entregada por parte la autoridad competente. | P23: 1 | Q23: Trimestral | R23: 23348376353 | S23: 23348376353 | T23: 1 | U23: 1 | V23: 1 | W23: En el primer trimestre se identifico $1.134.135.178 En el segundo trimestre se identifico $3.733.614.539 En el tercer trimestre se identificaron $713.780.224 En el cuarto trimestre se monetizaron divisas por un valor de $ 17,766,846,412
A24: 15 | B24: Financiera | C24: 04. Generar rentabilidad económica a partir de la diversificación de ingresos, para la inversión social y la lucha contra el crimen organizado. | D24: Adelantar procesos de comercialización y venta de activos | E24: Realizar gestion con el fin de apoyar la formalizacion de negocios pendientes de escrituración y registro. | F24: Disposición Final | G24: Comercialización de Activos | H24: Dirección Comercial | I24: SÍ | J24: Formalizacion de negocios pendientes de escrituracion y registro | K24: Gestión | L24: Eficacia | M24: Programación anual | N24: Negocios escriturados y registrados / Negocios pendientes de escrituracion y registro. | O24: Objetivo del indicador: Medir la eficiencia del tramite de formalizacion de negocios( escriturados y registrados) en el periodo de ejecución. Numerador: Corresponde al número de negocios escriturados y registrados. Denominador: Corresponde a los negocios pendientes de escrituracion y registro en el periodo de ejecucion. | P24: 283 | Q24: Trimestral | R24: 169 | S24: 283 | T24: 0.59717314 | U24: 1 | V24: 0.59717314 | W24: Las principales dificultades en el proceso de formalización se presentan en la consecución y pago de Impuesto Predial dada la necesidad de solicitar prescripción a gran parte de los inmuebles. Por otro lado, dadas las variaciones sobre los Estados de Ocupación y la longevidad de los negocios, las Direcciones Territoriales se enfrentan a situaciones jurídicas complicadas en las que reciben poco apoyo por parte de las oficinas jurídicas dispuestas en la Entidad. Se hace necesario fortalecer el proceso de formalización y sus tiempos de gestión dados los efectos que esto tiene sobre la reputación comercial de la Entidad y sobre sus propios procesos internos. | X24: Es necesario que se realice una organización estratégica del proceso, de manera que se supriman tiempos muertos en esperas de respuestas externas, tales como respuestas de alcaldías y diligencias de desalojo.
A25: 16 | B25: Financiera | C25: 04. Generar rentabilidad económica a partir de la diversificación de ingresos, para la inversión social y la lucha contra el crimen organizado. | D25: Adelantar procesos de comercialización y venta de activos | E25: Gestionar los ingresos de ventas de inmuebles sociales y no sociales comercializados a través de la Dirección Comercial | F25: Disposición Final | G25: Comercialización de Activos | H25: Dirección Comercial | I25: SÍ | J25: Ingresos por venta de inmuebles | K25: Producto | L25: Economía | M25: Programación anual | N25: (Valor de ingresos por ventas de inmuebles / Valor de ingresos de ventas de inmuebles proyectado para la vigencia)*100% | O25: Objetivo del indicador: medir los ingresos por la venta de inmuebles sociales y no sociales comercializados a través de la Dirección Comercial Numerador: es el valor de ingresos por ventas de inmuebles sociales y no sociales comercializados a través de la Dirección Comercial. Este ingreso es producto de ventas directas, cuotas partes, ventas masivas y ventas a través del operador comercial. Denominador: corresponde a los ingresos por venta programados para la vigencia. | P25: 468000000000 | Q25: Trimestral | R25: 204373356210 | S25: 468000000000 | T25: 0.39836238 | U25: 1 | V25: 0.39836238 | W25: Este recaudo se discrimina así: activos sociales,$97.891.077.329 ; y activos no sociales $106.482.278.881. El único recaudo efectivo contabilizado al final de la vigencia corresponde al recaudo por venta de inmuebles NO Sociales. Los diversos cambios formales y estratégicos tomados en las distintas partes del proceso de adjudicación han ocasionado una baja consistencia en las actividades orientadas al cumplimiento de la Meta Comercial. | X25: Las estrategias de posicionamiento han atraído bastantes ventas. No obstante, se requiere continuidad en el proceso con el fin de que se puedan determinar niveles de efectividad y alcance de las políticas comerciales.
A26: 18 | B26: Financiera | C26: 04. Generar rentabilidad económica a partir de la diversificación de ingresos, para la inversión social y la lucha contra el crimen organizado. | D26: Generar ingresos producto de la administración o disposición temporal de activos | E26: Distribuir las utilidades generadas por sociedades activas al FRISCO | F26: Disposición Temporal | G26: Administración de Depósitos Provisionales | H26: Dirección de Gobierno, Control y Democratización de Sociedades | I26: SÍ | J26: Cumplimiento del presupuesto de ingreso de Sociedades Activas | K26: Producto | L26: Economía | M26: Programación anual | N26: (Ingresos económicos generados por sociedades y establecimientos de comercio / Ingresos económicos estimados a distribuir al FRISCO)*100% | O26: Objetivo del indicador: medir la generación de ingresos a partir de las ventas y productividad de sociedades activas y establecimientos de comercio. Numerador: corresponde al valor ventas, utilidades y demás recursos que ingresen al FRISCO producto de alguna gestion realizada por la gerencia de sociedades activas. Denominador: corresponde al presupuesto de ingreso estimado para la Gerencia de Sociedades Activas, que incluye todos los recursos por cualquier concepto que ingresen al FRISCO producto de alguna gestion realizada por la vicepresidencia de sociedades. | P26: 225000000000 | Q26: Trimestral | R26: 32189560853 | S26: 225000000000 | T26: 0.14306471 | U26: 1 | V26: 0.14306471 | W26: La meta es de $ 25.000.000.000 y no de $ 250.000.000.000, se cambia el denominador y el valor de la meta 2024 ya que estaba mal, la meta se cumplio de conformidad a lo establecido. | X26: Esta Dirección reitera la solicitud para ajustar el indicador, donde únicamente se tenga en cuenta el monto de Utilidades que recibe el FRISCO. Teniendo en cuenta que la venta de sociedades depende de factores externos que no se pueden garantizar.
A27: 19 | B27: Financiera | C27: 04. Generar rentabilidad económica a partir de la diversificación de ingresos, para la inversión social y la lucha contra el crimen organizado. | D27: Diseñar y/o implementar estrategias de ahorro en la administración de activos. | E27: Disponer de manera definitiva los activos entregados por las extintas FARC que no cuenten con potencial de comercialización | F27: Disposición Final | G27: Comercialización de Activos Otras Modalidades de Disposición Final | H27: Dirección de Proyectos | I27: SÍ | J27: Disposición Final de activos entregados por las extintas FARC | K27: Producto | L27: Eficacia | M27: Programación anual | N27: (Activos entregados por las extintas FARC dispuestos de manera definitiva/Activos programados a disponer de manera definitiva)*100% | O27: Objetivo del indicador: medir la disposición final de los activos entregados por las extintas FARC que no cuenten con potencial de comercialización Numerador: activos entregados por las extintas FARC, dispuestos de manera definitiva por mecanismos de chatarrización, destrucción o donación. Denominador: los activos programados y con alistamiento para disponer de manera definitiva corresponden a los bienes a chatarrizar, destruir o donar, que no fueron objeto de interés en los procesos de comercialización, es decir, que al menos cuenten con aprobación del consejo fiduciario para su respectiva disposición. Esta meta es variable conforme al comportamiento de la comercialización de activos. | P27: 1 | Q27: Trimestral | R27: 0 | S27: 0 | T27: 0 | U27: 1 | V27: 0 | W27: Durante la vigencia 2024, se realizaron actividades relacionadas con la destinación final de 732 unidades de bienes muebles como se indica a continuación: * Donación de radios y accesorios: 248 ud. * Donación de uniformes militares (intendencia): 484 ud. El proceso de donación de los activos entregados por las extintas FARC, requiere la aprobación de las diez (10) entidades de Gobierno que conforman el Consejo Fiduciario del que trata el Decreto 1407 de 2017, el cual debe ser convocado por el DAPRE en su rol como secretario técnico. No obstante, pese a la solicitud y reiteraciones realizadas desde la SAE para llevar a cabo la convocatoria de este Consejo, durante el cuarto trimestre de 2024 no se obtuvo respuesta respecto a la fecha para su realización. Por esta razón, el indicador no tuvo el cumplimiento proyectado, toda vez que se depende en su totalidad de la aprobación de este Consejo para determinar la destinación de los bienes. Con el fin de avanzar en este proceso, se tiene previsto realizar una mesa de trabajo entre SAE y DAPRE en semana del 20 de enero de 2025 con el fin de establecer la fecha de realización del Consejo Fiduciario. | X27: En atención a la dependencia que tiene el proceso de destinación definitiva de los bienes entregados por las extintas FARC-EP, por parte de entidades externas a la SAE, solicito por favor su colaboración para que este indicador no sea tenido en cuenta en la medición de la gestión de la Dirección de Proyectos para la vigencia 2024.
A28: 21 | B28: Financiera | C28: 04. Generar rentabilidad económica a partir de la diversificación de ingresos, para la inversión social y la lucha contra el crimen organizado. | D28: Adelantar procesos de comercialización y venta de activos | E28: Entregar a las Gerencias de Inmuebles los remanentes en inmuebles por liquidación de sociedades | F28: Disposición Final | G28: Comercialización de Activos | H28: Dirección de Seguimiento y Control de Liquidaciones | I28: SÍ | J28: Entrega de remanentes en inmuebles por liquidación de Sociedades | K28: Producto | L28: Economía | M28: Programación anual | N28: (Remanentes en inmuebles entregados por liquidación de sociedades / Remanentes en inmuebles de sociedades en liquidación estimados para entrega) *100% | O28: Objetivo del indicador: medir la entrega de remanentes en inmuebles a favor del FRISCO por liquidación de Sociedades. Numerador: los remanentes en inmuebles corresponden a los activos sociales producto de la liquidación de la sociedad. Denominador: la estimación de los remanentes se realiza con base en la valoración patrimonial de los activos sociales priorizados para la vigencia. | P28: 7842597469 | Q28: Trimestral | R28: 10685933444 | S28: 7842597469 | T28: 1.3625503 | U28: 1 | V28: 1 | W28: Durante el cuarto trimestre del 2024, la dirección no realizo entrega de remanente fisico al FRISCO. | X28: Se han realizado mesas de trabajo con la Vicepresidencia De Bienes Muebles e Inmuebles con fin de revisar a profundidad el “ N-DF2-059 Instructivo Remanentes bienes sociales a ingresar al FRISCO y en ese sentido alinear el procedimeinto para continuar con las entregas y realizar un alcance de meta para los indicadores del 2025.
A29: 22 | B29: Financiera | C29: 04. Generar rentabilidad económica a partir de la diversificación de ingresos, para la inversión social y la lucha contra el crimen organizado. | D29: Adelantar procesos de comercialización y venta de activos | E29: Entregar a la Gerencia Financiera los remanentes líquidos por la liquidación de sociedades | F29: Disposición Final | G29: Comercialización de Activos | H29: Dirección de Seguimiento y Control de Liquidaciones | I29: SÍ | J29: Entrega de remanentes líquidos por liquidación de Sociedades | K29: Producto | L29: Economía | M29: Programación anual | N29: (Remanentes líquidos entregados por liquidación de sociedades / Remanentes líquidos de sociedades en liquidación estimados para entrega) *100% | O29: Objetivo del indicador: medir la entrega de recursos líquidos realizada a favor del FRISCO por liquidación de Sociedades. Numerador: los remanentes líquidos corresponden a los dineros provenientes de la liquidación de las sociedades. Denominador: la estimación de los remanentes se realiza con base en la valoración patrimonial de las sociedades priorizadas para la vigencia. | P29: 12472577991 | Q29: Trimestral | R29: 20672138292 | S29: 12472577991 | T29: 1.657407 | U29: 1 | V29: 1 | W29: Con memorando No. 20245100073763 del 13 de junio del 2024 la sociedad COMPAÑÍA COSTRUCTORA Y COMERCIALIZADORA DEL SUR LIMITADA COSUR LTDA EN LIQUIDACION formalizo la entrega de remanente liquidado anticipado por valor de $1,740,125,924 Con memorando No. 20245100075993 la sociedad CONSTRUCCIONES MIRAMAR LIMITADA EN LIQUIDACIÓN formalizo la entrega de remanente liquidado Final por valor de $10,583,508,601.444 Con memorando No.20245100108763 la sociedad POSADA ALEMANA LTDAEN LIQUIDACIÓN, formalizo la entrega de remanente liquido final por e valor 6,329,582,572 Para el ultimo trimestre del 2024 la direccion mediante memorando No.20245100165853, le 02 de diciembre 2024 la sociedad COMPAÑÍA COSTRUCTORA Y COMERCIALIZADORA DEL SUR LIMITADA COSUR LTDA EN LIQUIDACION formalizo la entrega de remanente liquidado anticipado por valor de $ 2,018,921,195
A30: 23 | B30: Financiera | C30: 04. Generar rentabilidad económica a partir de la diversificación de ingresos, para la inversión social y la lucha contra el crimen organizado. | D30: Diseñar y/o implementar estrategias de ahorro en la administración de activos. | E30: Reducir el inventario de las sociedades en liquidación con activos | F30: Disposición Final | G30: Comercialización de Activos | H30: Dirección de Seguimiento y Control de Liquidaciones | I30: SÍ | J30: Liquidación de sociedades con activos | K30: Producto | L30: Eficacia | M30: Programación anual | N30: (Sociedades con activos liquidadas / Sociedades con activos priorizados para cierre liquidatario) *100% | O30: Objetivo del indicador: medir la reducción del inventario de las sociedades con activos en liquidación. Numerador: corresponde a las sociedades liquidadas registrados en el sistema de información de SAE con marcación de "Pre -Estado" en el inventario. Denominador: corresponde a las sociedades con activos priorizadas para cierre liquidatario en la vigencia 2024. | P30: 4 | Q30: Trimestral | R30: 3 | S30: 4 | T30: 0.75 | U30: 1 | V30: 0.75 | W30: En virtud del “P-DF2-107 Procedimiento Entrega de Activos”, las siguientes sociedades cuentan con la marcación de PRE-ESTADO, en el aplicativo sigma: - GANADERIA LA REFORMA LIMITADA EN LIQUIDACIÓN - COMICARSA SA EN LIQUIDACIÓN Para el cuatro trimestre la direccion realizo la marcacion en prestado de la sociedad INVERSIONES Y CONSTRUCCIONES COSMOVALLE LTDA EN LIQUIDACION.
