Workbook
Name Clasi_Impacto: [1]Tablas!$A$5:$A$7
Name Impacto: [1]Tablas!$A$1:$A$2
Name Nuevo: [2]!Pro[Procesos]
Name Probabilidad: Proba[Descriptor]
Name Procesos: Pro[Procesos]
Name Riesgos: Tipo_Riesgo[Tipo de Riesgos]
Name Tip.Ctrl: [1]Tablas!$A$27:$A$29
Name Tipo: Tipo_Riesgo[Tipo de Riesgos]

Sheet Riesgos
A4: Número | B4: PROCESO | C4: RIESGO | D4: CAUSAS | E4: EFECTOS | F4: Tipo de Riesgo | G4: Estado | H4: Área | I4: Columna1
A5: 1 | B5: TODOS LOS PROCESOS | C5: Posibilidad de que un funcionario vaya mas allá de las funciones designadas con el fin de obtener un beneficio privado. | D5: Debido a que las funciones definidas para cada uno de los funcionarios no abarquen la totalidad de funciones del Área Debido a que no se cuente con la totalidad de procedimientos definidos Debido a que no se conocen las funciones de cada uno de los cargos | E5: Generación de Sanciones (penales, disciplinarias, morales) Pérdida de imagen reputacional | F5: Corrupción | G5: Vigente
A6: 2 | B6: TODOS LOS PROCESOS | C6: Eliminado - Reemplazado por Riesgo 56 | D6: Debido a la falta de definición de estándares metodológicos de identificación de procesos Como consecuencia del apoyo de la alta dirección Debido a la no disponibilidad de recursos para definición de estándares | E6: Los cuales llevarían a tener inexistencia o debilidad de canales de entrega y acceso a la información por parte de la ciudadanía o de los mismos servidores públicos de la entidad. | F6: Corrupción | G6: Eliminado
A7: 3 | B7: TODOS LOS PROCESOS | C7: Puede ocurrir intercambio extraoficial de favores, en el cual un individuo se beneficie a si mismo o a un tercero. Amiguismo y clientelismo. | D7: Debido al "contacto permanente" con depositarios, liquidadores y Mandatarios, contratistas, proveedores y arrendatarios Debido a una cultura interna de amiguismo Debido a las relaciones personales derivadas de las relaciones interinstitucionales | E7: Lo cual generaría una pérdida de imagen reputacional Lo cual generaría Sanciones a la entidad y sus funcionarios (penales, disciplinarias, morales) | F7: Corrupción | G7: Vigente
A8: 4 | B8: TODOS LOS PROCESOS | C8: Puede presentarse situaciones de orden moral y económico que le impidan a un funcionario actuar en forma objetiva e independiente, porque le sea particularmente conveniente. | D8: Debido a la falta de mecanismos de control en la identificación de posibles conflictos de interés y definición de políticas Debido a una cultura interna de amiguismo Debido a la inexistencia de política de atención psicosocial a los funcionarios de la entidad | E8: Lo cual generaría una pérdida de imagen reputacional Lo cual generaría Sanciones a la entidad y sus funcionarios (penales, disciplinarias, morales) | F8: Corrupción | G8: Vigente
A9: 5 | B9: TODOS LOS PROCESOS | C9: Puede ocurrir falta de apoyo en los procesos de control social realizados por los ciudadanos. | D9: Debido a la falta de conocimiento de la normatividad de control social Como consecuencia del desconocimiento de las funciones de la entidad | E9: Lo cual generaría una pérdida de imagen reputacional Lo cual generaría Sanciones a la entidad y sus funcionarios Lo cual ocasionaría demandas de la ciudadanía | F9: Operativo | G9: Vigente
A10: 6 | B10: TODOS LOS PROCESOS | C10: Posibilidad de recibir o solicitar cualquier dádiva o beneficio a nombre propio o de terceros con el fin de celebrar un contrato. | D10: Como consecuencias de la ineficacia de los controles definidos Debido a que no se cuente con lineamientos claros, en términos de conflictos de interés Falta de difusión de los lineamientos o políticas sobre conflictos de interés Inaplicación del Manual de Ética y Buen Gobierno | E10: Lo cual generaría una pérdida de imagen reputacional Lo cual generaría Sanciones a la entidad y sus funcionarios (penales, disciplinarias, morales) Lo cual ocasionaría demandas de la ciudadanía | F10: Corrupción | G10: Vigente
A11: 7 | B11: TODOS LOS PROCESOS | C11: Posibilidad de que un funcionario reciba u ofrezca un soborno, con el fin de dar o recibir un trato especial con una compañía o persona natural. | D11: Como consecuencias de la ineficacia de los controles definidos Debido a que no se cuente con lineamientos claros, en términos de conflictos de interés Falta de difusión de los lineamientos o políticas sobre conflictos de interés Inaplicación del Manual de Ética y Buen Gobierno | E11: Lo cual generaría una pérdida de imagen reputacional Lo cual generaría Sanciones a la entidad y sus funcionarios (penales, disciplinarias, morales) Lo cual ocasionaría demandas de la ciudadanía | F11: Corrupción | G11: Vigente
A12: 8 | B12: TODOS LOS PROCESOS | C12: Puede incitar la participación de varias personas o compañías para cometer un delito buscando el beneficio propio. Concierto para delinquir. | D12: Como consecuencias de la ineficacia de los controles definidos Debido a que no se cuente con lineamientos claros, en términos de conflictos de interés Falta de difusión de los lineamientos o políticas sobre conflictos de interés | E12: Lo cual generaría una pérdida de imagen reputacional Lo cual generaría Sanciones a la entidad y sus funcionarios Lo cual ocasionaría demandas de la ciudadanía | F12: Corrupción | G12: Vigente
A13: 9 | B13: TODOS LOS PROCESOS | C13: Puede ocurrir que un funcionario abuse de su cargo o funciones para inducir a otra persona a dar o prometer dinero o cualquier otro beneficio indebido. | D13: Debido a la falta de controles dentro del proceso de contratación Por la falta de valores éticos y morales en los funcionarios Inaplicación del Manual de Ética y Buen Gobierno | E13: Lo cual generaría una pérdida de imagen reputacional Lo cual generaría Sanciones a la entidad y sus funcionarios Lo cual ocasionaría demandas de la ciudadanía | F13: Corrupción | G13: Vigente
A14: 10 | B14: TODOS LOS PROCESOS | C14: Puede ocurrir que teniendo conocimiento de una conducta delictiva, no se informe a las autoridades por temor a repercusiones sociales o financieras. Omisión de denuncia | D14: Debido al desconocimiento de la normatividad que exige la denuncia de las conductas delictivas Por temor a repercusiones en su estabilidad laboral | E14: Lo cual generaría una pérdida de imagen reputacional Lo cual generaría Sanciones a la entidad y sus funcionarios Lo cual ocasionaría demandas de la ciudadanía | F14: Corrupción | G14: Vigente
A15: 11 | B15: TODOS LOS PROCESOS | C15: Posibilidad de que uno o varios funcionarios utilicen de forma indebida la información privilegiada de los sistemas de información para obtener beneficio privado. | D15: Debido a la falta de políticas de accesibilidad de la información Debido a la falta de identificación de activos de información Debido a la diversidad de los sistemas de información Falta de capacitación y socialización de las políticas de la entidad tanto al ingreso de nuevos funcionarios como de manera periódica Fácil acceso a la información y a la difusión de copias de la misma | E15: Lo cual generaría pérdidas económicas Lo cual generaría una pérdida de imagen reputacional Lo cual generaría Sanciones a la entidad y sus funcionarios Lo cual ocasionaría demandas de los funcionarios | F15: Corrupción | G15: Vigente
A16: 12 | B16: TODOS LOS PROCESOS | C16: Puede generarse menoscabo, disminución, detrimento, pérdida, uso indebido, o deterioro de los bienes o recursos públicos, o intereses patrimoniales del Estado. | D16: Debido a la falta de información real en la toma de decisiones Debido al diseño de procesos ineficientes Debido a ineficientes canales de comunicación Debido a la falta de un sistema de información unificado y confiable Debido al déficit de personal y falta de competencias en la selección del personal | E16: Lo cual generaría pérdidas económicas Lo cual generaría una pérdida de imagen reputacional Lo cual generaría Sanciones a la entidad y sus funcionarios Lo cual ocasionaría demandas de los funcionarios | F16: Estratégico | G16: Vigente
... A76: 73 | B76: GESTIÓN DE LA INFRAESTRUCTURA TECNOLOGICA | C76: Puede ocurrir una operación inadecuada de los sistemas de información. | D76: Falta de conocimiento en la operación de los aplicativos para los diferentes procesos, por parte de los usuarios funcionales | E76: Obstaculización del flujo normal de los procesos, pérdida de tiempo y pérdida de imagen reputacional | F76: Seguridad de la Información | G76: Vigente
A77: 74 | B77: GESTIÓN DOCUMENTAL | C77: Puede ocurrir el filtro o utilización indebida de información privilegiada de la información que reposa físicamente | F77: Seguridad de la Información | G77: Eliminado
A78: 75 | B78: RECEPCIÓN Y REGISTRO | C78: No contar con la información real del inventario de los activos en administración | D78: Debido al tiempo requerido para el registro de activos en el inventario y el volumen de expedientes Debido a que no se registra el descargue del activo por proceso disposición final Errores en el cargue de información de la visita al sistema de información | E78: No se puede asignar a un mecanismo de administración Detrimento patrimonial Pérdida de imagen reputacional Inadecuada administración de los activos | F78: Seguridad de la Información | G78: Vigente
A79: 76 | B79: RECEPCIÓN Y REGISTRO | C79: Puede ocurrir que no se efectué la entrega física del activo una vez posesionado el depositario provisional | D79: No hay un canal efectivo de comunicación Por la falta de la capacidad operativa de las regionales Difícil acceso a los bienes por su ubicación geográfica | E79: Un activo sin administración Detrimento patrimonial Sanciones (disciplinaria y fiscal) para la entidad Perjuicios económicos para el depositario | F79: Operativo | G79: Vigente
A80: 77 | B80: TODOS LOS PROCESOS | C80: Puede ocurrir que se utilice erradamente las funcionalidades de los Sistemas de Información (aplicativo Zeus) | F80: Operativo | G80: Eliminado
A81: 78 | B81: RECEPCIÓN Y REGISTRO | C81: Pueden presentar errores en la información en el registro de los activos | D81: Debido a la metodología utilizada para el secuestro de activos por parte de la Fiscalía General de la Nación. Debido a que por ser un proceso manual | E81: Bienes Ingresado que no deberían ser administrados por esta sociedad o con información errónea. Procesos judiciales en contra del administrador del FRISCO. | F81: Seguridad de la Información | G81: Eliminado
A82: 79 | B82: TODOS LOS PROCESOS | C82: Puede ocurrir la entrega extemporánea de informes a los entes de control | F82: Operativo | G82: Eliminado
A83: 80 | B83: ADQUISICIONES | C83: Puede ocurrir no alcanzar el objetivo del contrato | F83: Operativo | G83: Eliminado
A84: 81 | B84: RECEPCIÓN Y REGISTRO | C84: Contar con Depositarios Provisionales y/o Liquidadores incorporados en el Registro con características erróneas | D84: Evaluación incorrecta o errónea de las diferentes características de clasificación, calificación, experiencia Existencia de diferentes criterios de evaluación (evaluadores) frente a los requisitos exigidos en la Convocatoria Desconocimiento de los requisitos exigidos en la Convocatoria por parte de los evaluadores Inconsistencias y falta de claridad en los requisitos establecidos en la Convocatoria | E84: Depositarios Provisionales y/o Liquidadores que no pueden desarrollar de manera idónea la función para la que fueron seleccionados, así como su gestión y/o administración de los activos | F84: Operativo | G84: Vigente
A85: 82 | B85: RECEPCIÓN Y REGISTRO | C85: Puede ocurrir que no se asignen Depositarios Provisionales y/o Liquidadores de acuerdo a las necesidades. | D85: Solicitudes no recibidas, dado que el área misional envió el correo a un destinatario diferente al del responsable de la asignación Solicitudes enviadas sin la oportunidad requerida Solicitudes enviadas sin el formato establecido o sin la aprobación de la gerencia misional responsable Olvido en la realización de la asignación Resolución de designación errónea o no generada | E85: Activos (Inmuebles y/o Sociedades) sin Depositarios Provisionales y/o Liquidadores para ser administrados que pueden ser invadidos u ocupados de manera ilegal y que no presenten ninguna gestión. Activos (Inmuebles y/o Sociedades) que no requieren ser asignados | F85: Operativo | G85: Vigente
A86: 83 | B86: RECEPCIÓN Y REGISTRO | C86: Puede ocurrir que no se acepte la renuncia y/o remoción como Depositarios Provisionales y/o Liquidadores | D86: Depositarios Provisionales y Liquidadores que no reciben el apoyo de las áreas misionales en las diferentes situaciones que se les presentan con los activos Depositarios Provisionales y Liquidadores que no entregan la póliza de disposiciones legales por los costos frente a la rentabilidad Dificultades en la expedición de la póliza de disposiciones legales por parte de las aseguradoras por factores financieros del depositario Depositarios Provisionales y Liquidadores que llevan mucho tiempo inscritos en el Registro y no se les ha asignado activos o los activos que les han sido asignados no son rentables Depositarios Provisionales y Liquidadores que no cumplen con su función como administradores de los activos | E86: Activos (Inmuebles y/o Sociedades) sin Depositarios Provisionales y/o Liquidadores para ser administrados que pueden ser invadidos u ocupados de manera ilegal y que no presenten ninguna gestión. Reprocesos administrativos por la remoción y reasignación de activos | F86: Operativo | G86: Vigente | I86: GIT de Gestión de Depositarios Provisionales y Liquidadores
A87: 84 | B87: RECEPCIÓN Y REGISTRO | C87: Puede ocurrir que la designación sea errónea o no generada | D87: Resolución de designación automática de activos a Depositarios Provisionales y Liquidadores se genera de manera errónea por información incompleta o incorrecta en la creación de los activos Resolución de designación automática de activos a Depositarios Provisionales y Liquidadores se genera con mayor o menor cantidad de activos a los realmente asignados Resolución de designación automática de activos a Depositarios Provisionales y Liquidadores se genera con información incorrecta de la sesión o fecha del Comité que aprobó la asignación Desconocimiento del proceso de asignación en el sistema por funcionarios que asuman la función de asignación | E87: Depositarios Provisionales y/o Liquidadores que administren Activos (Inmuebles y/o Sociedades) que no correspondan a los requeridos, o sin información de los activos que les han sido asignados | F87: Operativo | G87: Vigente | I87: GIT de Gestión de Depositarios Provisionales y Liquidadores
A88: 85 | B88: RECEPCIÓN Y REGISTRO | C88: Puede ocurrí que no se presente la garantía (póliza de disposiciones legales) por parte de los Depositarios Provisionales y/o Liquidadores | D88: Desconocimiento de las obligaciones establecidas en la normatividad vigente por parte de los Depositarios Desconocimiento de los condicionados para las pólizas de disposiciones legales por parte de asesores de seguros Errores en los términos de expedición de las pólizas de disposiciones legales por parte de las aseguradoras de acuerdo con la normatividad vigente | E88: Remoción de activos y retiro del registro del depositario Posible deterioro de los activos asignados al depositario por falta de gestión oportuna Activos entregados en diligencia a los depositarios sin contar con la póliza de disposiciones legales que garantice la gestión oportuna del Depositario Provisional o Liquidador asignado | F88: Operativo | G88: Vigente | I88: GIT de Gestión de Depositarios Provisionales y Liquidadores
A89: 86 | B89: Aprobación incorrecta o falta de aprobación de la garantía (póliza de cumplimiento) presentada por parte de los Depositarios Provisionales y/o Liquidadores | C89: Puede ocurrir que se administren activos por parte de los Depositarios Provisionales y/o Liquidadores sin tener la cobertura total para el cumplimiento de sus obligaciones | D89: Desconocimiento del proceso de revisión y aprobación de la póliza de cumplimiento Errores en las variables, elementos y requisitos requeridos en las pólizas de cumplimiento de acuerdo con la normatividad vigente No presentación de la garantía (póliza de cumplimiento) por parte de los Depositarios Provisionales y/o Liquidadores Fallas de comunicación entre el área responsable de asignación y control de pólizas y las áreas que controlan la gestión de los depositarios. | E89: No se puede afectar total o parcialmente la póliza en el evento en que se presente incumplimiento en la gestión de los Depositarios Provisionales y Liquidadores en razón de los activos asignados Perdidas económicas | F89: Operativo | G89: Eliminado
A90: 87 | B90: RECEPCIÓN Y REGISTRO | C90: Puede ocurrir que se generen y suscriban del Acta de posesión con datos incorrectos o incompletos | D90: Descuido en la elaboración del acta Inconsistencia en la información de la asignación contenida en la resolución que contiene los datos de los activos asignados | E90: Reprocesos en la elaboración y firma de las actas de posesión que demandan mayores tiempos antes de la entrega de los activos a los Depositarios Provisionales y liquidadores y la inscripción en las Oficinas de Registro e Instrumentos Públicos o Cámaras de Comercio | F90: Operativo | G90: Vigente
A91: 88 | B91: RECEPCIÓN Y REGISTRO | C91: Puede ocurrir que los Depositarios Provisionales y Liquidadores no estén registrados en las entidades de registro. | D91: Inconsistencias en el envío de la solicitud de inscripción por información incorrecta de los Depositarios Provisionales y Liquidadores, activos que no corresponden a los asignados o que presentan errores Ausencia en el envío de la solicitud de inscripción Solicitud de pagos del proceso de inscripción por parte de las Oficinas de Registro e Instrumentos Públicos o de las Cámaras de Comercio | E91: Depositarios Provisionales y Liquidadores no puedan administrar los activos Detrimento patrimonial | F91: Seguridad de la Información | G91: Vigente
A92: 89 | B92: RECEPCIÓN Y REGISTRO | C92: Puede ocurrir que se ingrese erróneamente información de los activos y actos administrativos en el sistema de Asignación de activos a Depositarios Provisionales y/o Liquidadores o Registro. | D92: Resolución de designación automática de activos a Depositarios Provisionales y Liquidadores se genera de manera errónea por información incompleta o incorrecta en la creación de los activos Resolución de designación automática de activos a Depositarios Provisionales y Liquidadores se genera con mayor o menor cantidad de activos a los realmente asignados Registro de los actos administrativos en el sistema realizado por otras áreas y no por el Grupo de Gestión de Depositarios Provisionales y Liquidadores, afectando el proceso Resolución de remoción de activos y/o retiro de Depositarios Provisionales y Liquidadores se genera de manera errónea por información incompleta o incorrecta en los activos que deben ser removidos y que pasan a administración directa afectando el inventario | E92: Inconsistencias en el sistema de información en relación con los activos, actos administrativos e inventario en general por la deficiente calidad en la información que se registra | F92: Operativo | G92: Eliminado
A93: 90 | B93: TODOS LOS PROCESOS | C93: Pueden ocurrir fallas e inconsistencias funcionales y técnicas en los sistemas de información relacionados con el proceso de Registro de Depositarios Provisionales y Liquidadores, así como del proceso de Asignación de activos. | D93: Inconsistencias en el diseño funcional y técnico, actualización o mejoras de los sistemas de información de los procesos de Registro relacionado con la realización de Convocatorias, renovación y/o actualización de información de los Depositarios Provisionales y Liquidadores que forman parte del Registro Inconsistencias en el diseño, actualización o mejoras de los sistemas de información de los procesos de Asignación de activos a los Depositarios Provisionales y Liquidadores que forman parte del Registro Inconsistencias en el desarrollo de los aplicativos frente a los diseños funcionales y técnicos, así como los requerimientos establecidos por el GIT Depositarios Provisionales y Liquidadores Inconsistencias en el registro, revisión y/o consulta de la información tanto de los Depositarios Provisionales y Liquidadores como de las asignaciones efectuadas. | E93: Dificultad para el uso de los sistemas de información por parte de clientes externos en la participación de los procesos de convocatoria para formar parte del registro Pérdidas económicas por reprocesos administrativos Afectación negativa de la imagen institucional frente a entes de control y clientes externos Posibles sanciones y demandas por falta de transparencia en los procesos de la convocatoria Perdida de información para la entidad y para los Depositarios que no cuenten con sistemas de información adecuados. Sistemas de información poco confiables Realización de estudios de seguridad equivocados o no necesarios generando costos adicionales. Activos asignados de manera incorrecta a los Depositarios Provisionales y Liquidadores. | F93: Operativo | G93: Vigente
A94: 91 | B94: TODOS LOS PROCESOS | C94: Puede ocurrir que se presente fuga o pérdida de información. | D94: Debido a la falta de controles de acceso en los sistemas de información y/o aplicativos con los cuales cuenta la SAE Debido al hurto de medios extraíbles, dispositivos tecnológicos o documentos físicos que salen de la organización Debido al hurto de dispositivos tecnológicos expuestos para atención al público Debido al uso no autorizado de información de los procesos de negocio Debido a la ausencia de política de cierre de sesión cuando se abandona la estación de trabajo Debido a la falta de concientización por parte de los usuarios en el manejo de los activos de información Debido a la falta de capacitación en seguridad y privacidad de la información Debido a trabajo no supervisado del personal externo o terceros Debido a la ausencia de políticas para el uso correcto de los medios de comunicaciones y mensajería Debido al incumplimiento del plan de continuidad del negocio Debido al mal uso de las aplicaciones en la nube Debido a la falta de controles para el uso de dispositivos móviles Debido a la ausencia de recursos para la ejecución de las actividades desarrolladas por los colaboradores Debido al ingreso no autorizado a las áreas con acceso restringido | E94: Lo cual generaría pérdidas económicas. Lo cual generaría pérdida de credibilidad o imagen reputacional Lo cual puede ocasionar sanciones legales o de entes de control Lo cual generaría reproceso en la ejecución de las actividades | F94: Seguridad de la Información | G94: vigente
A95: 101 | B95: INTELIGENCIA DE NEGOCIOS | C95: Podría ocurrir que se publiquen datos o información sensible | D95: Debido a no realizar un análisis completo para determinar la publicación o no de la información en la Web Debido a la falta de clasificación del activo de información Debido al uso indebido de la información | E95: Lo cual generaría pérdida de reputación Lo cual generaría pérdida de información Lo cual podría generar sanciones legales y/o económicas | F95: Seguridad de la Información | G95: Vigente
A96: 102 | B96: INTELIGENCIA DE NEGOCIOS | C96: Podría ocurrir que no se ejecuten las etapas del análisis de la información que se requieren para la inteligencia de negocio | D96: Debido a la falta de claridad en los requerimientos de los reportes solicitados por los procesos de negocio Debido a no contar con información suficiente para el análisis o contar con información inconsistente, incompleta o inexacta Debido a la falta de revisión de los atributos del reporte durante el proceso de análisis Debido al desconocimiento de la herramienta utilizada para analítica del negocio Debido al desconocimiento de la metodología y mejores prácticas Debido a constantes cambios en requerimientos de los reportes Debido a falta de documentación de la metodología y procedimiento para generación de analítica del negocio. | E96: Lo cual generaría pérdida de reputación Lo cual generaría pérdida de información Lo cual podría generar sanciones legales y/o económicas Lo cual generaría toma de decisiones sin contar con los análisis requeridos | F96: Operativo | G96: Vigente
A97: 104 | B97: TODOS LOS PROCESOS | C97: Puede ocurrir que se presenten incumplimientos a la normatividad vigente relacionada con derechos de autor. | D97: Debido al uso de software no licenciado Debido a instalación o copia de música y videos ilegales en los computadores de la organización Debido a la falta de controles para instalación de software | E97: Lo cual generaría pérdidas económicas Lo cual generaría pérdida de credibilidad o imagen reputacional Lo cual puede ocasionar sanciones legales o de entes de control | F97: Cumplimiento | G97: Vigente
A98: 105 | B98: DIAGNOSTICO Y ALISTAMIENTO DE ACTIVOS | C98: Puede ocurrir que se presenten errores en la identificación del estado de los activos | D98: Información incompleta, capacidad operativa de la entidad, desconocimiento por parte de los servidores públicos, rezagos recibidos por la administración anterior, existan activos rurales con potencial de ser urbanos para la disposición final de acuerdo con las marcaciones territoriales | E98: Toma de decisiones inadecuadas Pérdidas económicas Sanciones Pérdida de la imagen reputacional de la entidad Limitación a la gestión de administración de los activos | F98: Operativo | G98: Vigente
A99: 106 | B99: DIAGNOSTICO Y ALISTAMIENTO DE ACTIVOS | C99: Puede ocurrir que el alistamiento sin previo cumplimiento de los requisitos, no permita disponer del activo | D99: Debilidades en el análisis para la disposición de los activos Que se presente acciones judiciales externas durante el alistamiento debido a que existen inmuebles que no tienen la medida inscrita | E99: Reproceso en el alistamiento Posible detrimento patrimonial Sanciones a la SAE | F99: Operativo | G99: Vigente
A100: 107 | B100: DIAGNOSTICO Y ALISTAMIENTO DE ACTIVOS | C100: Puede ocurrir que no se gestione oportunamente el alistamiento de los activos | D100: Falta de capacidad operativa Procesos ineficientes Entrega inadecuada de información de los activos por parte de la Fiscalía | E100: Impacto ambiental y social Posible detrimento patrimonial Deterioro físico e invasión de los activos Sanciones a la SAE | F100: Operativo | G100: vigente
... A135: 94 | B135: GESTIÓN DE LA INFRAESTRUCTURA TECNOLOGICA | C135: Soporte técnico inadecuado | D135: Falta de soporte especializado a los servicios Desconocimiento de la tecnología | E135: Costos Operacionales, pérdida de tiempo, pérdida de información | F135: Operativo | G135: Eliminado

Sheet Tablas de calculos
U1: Matriz definición de Riesgos de Corrupción
T2: Descripción del riesgo | U2: Acción u Omisión | V2: Uso del poder | W2: Desviar la gestión de lo público | X2: Beneficio Privado
T3: Posibilidad de recibir o solicitar cualquier dádiva o beneficio a nombre propio o de terceros con el fin de celebrar un contrato | U3: X | V3: X | W3: X | X3: X | AG3: Combinaciones posibles de matriz 5x5 | AN3: Rango 1 - 28 | AP3: Criterio de evaluación | AQ3: Aspecto a Evaluar en el Diseño del Control | AR3: Opciones de respuesta | AS3: Puntaje en la evaluación del control | AU3: Peso del diseño individual o promedio de los controles. (DISEÑO) | AV3: El control se ejecuta de manera consistente por los responsables. (EJECUCIÓN) | AW3: Solidez individual de cada control fuerte:100 moderado:50 debil:0 | AX3: Aplica plan de acción para fortalecer el control Sí / NO | AZ3: Concatenar | BA3: Solidez del conjunto de los controles. | BB3: Controles ayudan a disminuir la probabilidad | BC3: Controles ayudan a disminuir impacto | BD3: # Columnas en la matriz de riesgo que se desplaza en el eje de la probabilidad | BE3: # Columnas en la matriz de riesgo que se desplaza en el eje de impacto
H4: 1. Criterios para calificar la probabilidad | AF4: =CONCATENATE(AG4,AH4) -> Rara VezInsignificante | AG4: Rara Vez | AH4: Insignificante | AI4: Bajo | AJ4: 1 | AK4: 1 | AL4: =+AJ4*AK4 -> 1 | AP4: 1.1 Responsable: asignación del responsable | AQ4: ¿Existe un responsable asignado a la ejecución del control? | AR4: Asignado | AS4: 15 | AU4: fuerte (calificación entre 96 y 100 puntos) | AV4: fuerte (siempre se ejecuta) | AW4: fuerte + fuerte = fuerte | AX4: No | AZ4: =CONCATENATE(BA4,BB4,BC4) -> fuertedirectamentedirectamente | BA4: fuerte | BB4: directamente | BC4: directamente | BD4: 2 | BE4: 2
A5: Tipo de Riesgos | C5: Procesos | E5: Áreas | G5: Descriptor | H5: Descripción | I5: Frecuencia | J5: Nivel | L5: Desde | M5: Hasta | N5: Puntaje a disminuir | O5: Letras | AF5: =CONCATENATE(AG5,AH5) -> ImprobableInsignificante | AG5: Improbable | AH5: Insignificante | AI5: Bajo | AJ5: 2 | AK5: 2 | AL5: =+AJ5*AK5 -> 4 | AR5: No Asignado | AS5: 0 | AV5: moderado (algunas veces) | AW5: fuerte + moderado = moderado | AX5: Sí | AZ5: =CONCATENATE(BA5,BB5,BC5) -> fuertedirectamenteindirectamente | BA5: fuerte | BB5: directamente | BC5: indirectamente | BD5: 2 | BE5: 1
A6: Estrategico | C6: ADMINISTRACIÓN DE BIENES DE FUNICIONAMIENTO | E6: GIT Depositarios Provisionales | G6: Rara vez | H6: El evento puede ocurrir solo en circunstancias excepcionales. | I6: No se ha presentado en los últimos 5 años. | J6: 1 | L6: 0 | M6: 50 | N6: 0 | O6: Cero | T6: Casi seguro | U6: =(IF($T$6="Casi seguro",5,"")*IF($U$11="Insignificante",1,"")) -> 5 | V6: =(IF($T$6="Casi seguro",5,"")*IF($V$11="Menor",2,"")) -> 10 | W6: =(IF($T$6="Casi seguro",5,"")*IF($W$11="Moderado",3,"")) -> 15 | X6: =(IF($T$6="Casi seguro",5,"")*IF($X$11="Mayor",4,"")) -> 20 | Y6: =(IF($T$6="Casi seguro",5,"")*IF($Y$11="Catastrófico",5,"")) -> 25 | AF6: =CONCATENATE(AG6,AH6) -> PosibleInsignificante | AG6: Posible | AH6: Insignificante | AI6: Bajo | AJ6: 3 | AK6: 3 | AL6: =+AJ6*AK6 -> 9 | AP6: 1.2 Responsable: segregación y autoridad del responsable. | AQ6: ¿El responsable tiene la autoridad y adecuada segregación de funciones en la ejecución del control? | AR6: Adecuado | AS6: 15 | AV6: débil (no se ejecuta) | AW6: fuerte + débil = débil | AX6: Sí | AZ6: =CONCATENATE(BA6,BB6,BC6) -> fuertedirectamenteno disminuye | BA6: fuerte | BB6: directamente | BC6: no disminuye | BD6: 2 | BE6: 0
A7: Operativo | C7: ADMINISTRACIÓN DE DESARROLLO DE SOLUCIONES TÉCNOLOGICAS | E7: Administrativa | G7: Improbable | H7: El evento puede ocurrir en algún momento. | I7: Se presentó una vez en los últimos 5 años | J7: 2 | L7: 51 | M7: 75 | N7: 1 | O7: Uno | T7: Probable | U7: =(IF($T$7="Probable",4,"")*IF($U$11="Insignificante",1,"")) -> 4 | V7: =(IF($T$7="Probable",4,"")*IF($V$11="Menor",2,"")) -> 8 | W7: =(IF($T$7="Probable",4,"")*IF($W$11="Moderado",3,"")) -> 12 | X7: =(IF($T$7="Probable",4,"")*IF($X$11="Mayor",4,"")) -> 16 | Y7: =(IF($T$7="Probable",4,"")*IF($Y$11="Catastrófico",5,"")) -> 20 | AF7: =CONCATENATE(AG7,AH7) -> ProbableInsignificante | AG7: Probable | AH7: Insignificante | AI7: Moderado | AJ7: 4 | AK7: 4 | AL7: =+AJ7*AK7 -> 16 | AR7: Inadecuado | AS7: 0 | AU7: moderado (calificación entre 86 y 95) | AV7: fuerte (siempre se ejecuta) | AW7: moderado + fuerte = moderado | AX7: Sí | AZ7: =CONCATENATE(BA7,BB7,BC7) -> fuerteno disminuyedirectamente | BA7: fuerte | BB7: no disminuye | BC7: directamente | BD7: 0 | BE7: 2
A8: Seguridad de la Información | C8: ADQUISICIONES | E8: Gerencia Comercial | G8: Posible | H8: El evento podría ocurrir en algún momento. | I8: Se presentó una vez en los últimos 2 años | J8: 3 | L8: 76 | M8: 100 | N8: 2 | O8: Dos | T8: Posible | U8: =(IF($T$8="Posible",3,"")*IF($U$11="Insignificante",1,"")) -> 3 | V8: =(IF($T$8="Posible",3,"")*IF($V$11="Menor",2,"")) -> 6 | W8: =(IF($T$8="Posible",3,"")*IF($W$11="Moderado",3,"")) -> 9 | X8: =(IF($T$8="Posible",3,"")*IF($X$11="Mayor",4,"")) -> 12 | Y8: =(IF($T$8="Posible",3,"")*IF($Y$11="Catastrófico",5,"")) -> 15 | AF8: =CONCATENATE(AG8,AH8) -> Casi seguroInsignificante | AG8: Casi seguro | AH8: Insignificante | AI8: Alto | AJ8: 5 | AK8: 5 | AL8: =+AJ8*AK8 -> 25 | AP8: 2. Periodicidad | AQ8: ¿La oportunidad en que se ejecuta el control ayuda a prevenir la mitigación del riesgo o a detectar la materialización del riesgo de manera oportuna? | AR8: Oportuna | AS8: 15 | AV8: moderado (algunas veces) | AW8: moderado + moderado = moderado | AX8: Sí | AZ8: =CONCATENATE(BA8,BB8,BC8) -> moderadodirectamentedirectamente | BA8: moderado | BB8: directamente | BC8: directamente | BD8: 1 | BE8: 1
A9: Continuidad del negocio | C9: COMUNICACIÓN Y ATENCIÓN DE REQUERIMIENTOS | E9: Gerencia de Asuntos Legales | G9: Probable | H9: El evento probablemente ocurrirá en la mayoría de las circunstancias. | I9: Se presentó una vez en el último año. | J9: 4 | T9: Improbable | U9: =(IF($T$9="Improbable",2,"")*IF($U$11="Insignificante",1,"")) -> 2 | V9: =(IF($T$9="Improbable",2,"")*IF($V$11="Menor",2,"")) -> 4 | W9: =(IF($T$9="Improbable",2,"")*IF($W$11="Moderado",3,"")) -> 6 | X9: =(IF($T$9="Improbable",2,"")*IF($X$11="Mayor",4,"")) -> 8 | Y9: =(IF($T$9="Improbable",2,"")*IF($Y$11="Catastrófico",5,"")) -> 10 | AF9: =CONCATENATE(AG9,AH9) -> Rara VezMenor | AG9: Rara Vez | AH9: Menor | AI9: Bajo | AJ9: 6 | AK9: 2 | AL9: =+AJ9*AK9 -> 12 | AR9: Inoportuna | AS9: 0 | AV9: débil (no se ejecuta) | AW9: moderado + débil = débil | AX9: Sí | AZ9: =CONCATENATE(BA9,BB9,BC9) -> moderadodirectamenteIndirectamente | BA9: moderado | BB9: directamente | BC9: Indirectamente | BD9: 1 | BE9: 0
A10: Corrupción | C10: DIRECCIONAMIENTO ESTRATEGICO | E10: Gerencia de Bienes Inmuebles | G10: Casi seguro | H10: Se espera que el evento ocurra en la mayoría de las circunstancias. | I10: Se ha presentado más de una vez al año. | J10: 5 | T10: Rara Vez | U10: =(IF($T$10="Rara Vez",1,"")*IF($U$11="Insignificante",1,"")) -> 1 | V10: =(IF($T$10="Rara Vez",1,"")*IF($V$11="Menor",2,"")) -> 2 | W10: =(IF($T$10="Rara Vez",1,"")*IF($W$11="Moderado",3,"")) -> 3 | X10: =(IF($T$10="Rara Vez",1,"")*IF($X$11="Mayor",4,"")) -> 4 | Y10: =(IF($T$10="Rara Vez",1,"")*IF($Y$11="Catastrófico",5,"")) -> 5 | AF10: =CONCATENATE(AG10,AH10) -> ImprobableMenor | AG10: Improbable | AH10: Menor | AI10: Bajo | AJ10: 7 | AK10: 4 | AL10: =+AJ10*AK10 -> 28 | AP10: 3. Propósito | AQ10: ¿Las actividades que se desarrollan en el control realmente buscan por si sola prevenir o detectar las causas que pueden dar origen al riesgo, ejemplo Verificar, Validar Cotejar, Comparar, Revisar, etc.? | AR10: Prevenir | AS10: 15 | AU10: débil | AV10: fuerte (siempre se ejecuta) | AW10: débil + fuerte = débil | AX10: Sí | AZ10: =CONCATENATE(BA10,BB10,BC10) -> moderadodirectamenteNo disminuye | BA10: moderado | BB10: directamente | BC10: No disminuye | BD10: 1 | BE10: 0
A11: Seguridad y Salud Ocupacional | C11: DISPOSICIÓN FINAL DE ACTIVOS | E11: Gerencia de Bienes Muebles | U11: Insignificante | V11: Menor | W11: Moderado | X11: Mayor | Y11: Catastrófico | AF11: =CONCATENATE(AG11,AH11) -> PosibleMenor | AG11: Posible | AH11: Menor | AI11: Moderado | AJ11: 8 | AK11: 6 | AL11: =+AJ11*AK11 -> 48 | AR11: Detectar | AS11: 10 | AU11: (entre 0 y 85) | AV11: moderado (algunas veces) | AW11: débil + moderado = débil | AX11: Sí | AZ11: =CONCATENATE(BA11,BB11,BC11) -> moderadono disminuyedirectamente | BA11: moderado | BB11: no disminuye | BC11: directamente | BD11: 0 | BE11: 1
C12: DISPOSICIÓN TEMPORAL DE ACTIVOS | E12: Gerencia de Contratos | H12: 1.1 Matriz de priorización de factivilidad - Se aplica para nuevos riesgos | AF12: =CONCATENATE(AG12,AH12) -> ProbableMenor | AG12: Probable | AH12: Menor | AI12: Alto | AJ12: 9 | AK12: 8 | AL12: =+AJ12*AK12 -> 72 | AR12: No es un control | AS12: 0 | AV12: débil (no se ejecuta) | AW12: débil + débil = débil | AX12: Sí
C13: EVALUACIÓN Y CONTROL | E13: Gerencia Financiera | G13: Nro de riesgo | H13: Riesgo | I13: P1 | J13: P2 | K13: P3 | L13: P4 | M13: P5 | N13: P6 | O13: Total | P13: Promedio | AF13: =CONCATENATE(AG13,AH13) -> Casi seguroMenor | AG13: Casi seguro | AH13: Menor | AI13: Alto | AJ13: 10 | AK13: 10 | AL13: =+AJ13*AK13 -> 100 | AP13: 4. Cómo se realiza la actividad de control | AQ13: ¿La fuente de información que se utiliza en el desarrollo | AR13: Confiable | AS13: 15 | BB13: Directamente | BC13: Directamente
C14: GESTIÓN DE LA INFRAESTRUCTURA TECNOLOGICA | E14: Gerencia Regional Centro Oriente | G14: 1 | H14: Inoportunidad en la adquisición de los bienes y servicios requeridos por la entidad | I14: 5 | J14: 4 | K14: 3 | L14: 5 | M14: 3 | N14: 4 | O14: =SUM(I14:N15) -> 24 | P14: =AVERAGE(I14:N15) -> 4 | AF14: =CONCATENATE(AG14,AH14) -> Rara VezModerado | AG14: Rara Vez | AH14: Moderado | AI14: Moderado | AJ14: 11 | AK14: 3 | AL14: =+AJ14*AK14 -> 33 | AQ14: del control es información confiable que permita mitigar el riesgo?. | AR14: No Confiable | AS14: 0 | BB14: No disminuye | BC14: Indirectamente
C15: GESTIÓN DEL TALENTO HUMANO | E15: Gerencia Regional Norte | P15: Probable | AF15: =CONCATENATE(AG15,AH15) -> ImprobableModerado | AG15: Improbable | AH15: Moderado | AI15: Moderado | AJ15: 12 | AK15: 6 | AL15: =+AJ15*AK15 -> 72 | AP15: 5. Qué pasa con las observaciones o desviaciones | AQ15: ¿Las observaciones, desviaciones o diferencias identificadas como resultados de la ejecución del control son investigadas y resueltas de manera oportuna? | AR15: Se investigan y resuelven oportunamente | AS15: 15 | AU15: concatenado | AV15: Numero | AW15: Rango de Calificación del Diseño | AX15: El control se ejecuta de manera consistente por los responsables. (EJECUCIÓN) | AY15: Control Definitivo | BC15: No disminuye
C16: GESTIÓN DOCUMENTAL | E16: Gerencia Regional Occidente | G16: 2 | H16: Otros riesgos identificados | AF16: =CONCATENATE(AG16,AH16) -> PosibleModerado | AG16: Posible | AH16: Moderado | AI16: Alto | AJ16: 13 | AK16: 9 | AL16: =+AJ16*AK16 -> 117 | AR16: No se investigan y resulven oportunamente | AS16: 0 | AU16: =_xlfn.CONCAT(AW16,AX16) -> FuerteFuerte | AV16: 1 | AW16: Fuerte | AX16: Fuerte | AY16: Fuerte
C17: GESTIÓN FINANCIERA | E17: Gerencia Regional Sur Occidente | G17: 3 | H17: Otros riesgos identificados | AF17: =CONCATENATE(AG17,AH17) -> ProbableModerado | AG17: Probable | AH17: Moderado | AI17: Alto | AJ17: 14 | AK17: 12 | AL17: =+AJ17*AK17 -> 168 | AP17: 6. Evidencia de la ejecución del control | AQ17: ¿Se deja evidencia o rastro de la ejecución del control, que permita a cualquier tercero con la evidencia, llegar a la misma conclusión?. | AR17: Completa | AS17: 10 | AU17: =CONCATENATE(AW17,AX17) -> Fuertemoderado | AV17: 2 | AW17: Fuerte | AX17: moderado | AY17: Moderado
C18: GESTIÓN JURÍDICA | E18: Gerencia Sociedades Activas | AF18: =CONCATENATE(AG18,AH18) -> Casi seguroModerado | AG18: Casi seguro | AH18: Moderado | AI18: Extremo | AJ18: 15 | AK18: 15 | AL18: =+AJ18*AK18 -> 225 | AR18: Incompleta | AS18: 5 | AU18: =CONCATENATE(AW18,AX18) -> FuerteDebil | AV18: 3 | AW18: Fuerte | AX18: Debil | AY18: Débil
C19: RECEPCIÓN Y REGISTRO | E19: Gerencia Sociedades En Liquidación | AF19: =CONCATENATE(AG19,AH19) -> Rara VezMayor | AG19: Rara Vez | AH19: Mayor | AI19: Alto | AJ19: 16 | AK19: 4 | AL19: =+AJ19*AK19 -> 64 | AR19: No existe | AS19: 0 | AU19: =CONCATENATE(AW19,AX19) -> moderadofuerte | AV19: 4 | AW19: moderado | AX19: fuerte | AY19: Moderado
C20: RECEPCIÓN Y REGISTRO y DIAGNOSTICO Y ALISTAMIENTO DE ACTIVOS | E20: Gerencia Talento Humano | AF20: =CONCATENATE(AG20,AH20) -> ImprobableMayor | AG20: Improbable | AH20: Mayor | AI20: Alto | AJ20: 17 | AK20: 8 | AL20: =+AJ20*AK20 -> 136 | AU20: =CONCATENATE(AW20,AX20) -> moderadomoderado | AV20: 5 | AW20: moderado | AX20: moderado | AY20: Moderado
C21: SOPORTE TECNICO | E21: Gerencia Técnica | V21: Numero | W21: Probabilidad | X21: Impacto | AF21: =CONCATENATE(AG21,AH21) -> PosibleMayor | AG21: Posible | AH21: Mayor | AI21: Extremo | AJ21: 18 | AK21: 12 | AL21: =+AJ21*AK21 -> 216 | AU21: =CONCATENATE(AW21,AX21) -> moderadoDebil | AV21: 6 | AW21: moderado | AX21: Debil | AY21: Débil
C22: TODOS LOS PROCESOS | E22: Gerencias Regionales | V22: 1 | W22: Rara Vez | X22: Insignificante | AF22: =CONCATENATE(AG22,AH22) -> ProbableMayor | AG22: Probable | AH22: Mayor | AI22: Extremo | AJ22: 19 | AK22: 19 | AL22: =+AJ22*AK22 -> 361 | AR22: Rango de Calificación del Diseño | AS22: Resultado - peso en la evaluación del diseño del control | AU22: =CONCATENATE(AW22,AX22) -> DebilFuerte | AV22: 7 | AW22: Debil | AX22: Fuerte | AY22: Débil
C23: DIAGNOSTICO Y ALISTAMIENTO DE ACTIVOS | E23: GIT Archivo y Correspondencia | V23: 2 | W23: Improbable | X23: Menor | AF23: =CONCATENATE(AG23,AH23) -> Casi seguroMayor | AG23: Casi seguro | AH23: Mayor | AI23: Extremo | AJ23: 20 | AK23: 20 | AL23: =+AJ23*AK23 -> 400 | AR23: Fuerte | AS23: Calificación entre 96 y 100 | AU23: =CONCATENATE(AW23,AX23) -> DebilModerado | AV23: 8 | AW23: Debil | AX23: Moderado | AY23: Débil
E24: GIT Aseguramiento de la Información | V24: 3 | W24: Posible | X24: Moderado | AA24: Probabilidad | AB24: Impacto | AC24: Numero | AF24: =CONCATENATE(AG24,AH24) -> Rara VezCatastrófico | AG24: Rara Vez | AH24: Catastrófico | AI24: Extremo | AJ24: 21 | AK24: 5 | AL24: =+AJ24*AK24 -> 105 | AP24: Aceptar el riesgo | AR24: Moderado | AS24: Calificación entre 86 y 95 | AU24: =CONCATENATE(AW24,AX24) -> DebilDebil | AV24: 9 | AW24: Debil | AX24: Debil | AY24: Débil
E25: Oficina Asesora de Planeación | V25: 4 | W25: Probable | X25: Mayor | AA25: Rara Vez | AB25: Insignificante | AC25: 1 | AF25: =CONCATENATE(AG25,AH25) -> ImprobableCatastrófico | AG25: Improbable | AH25: Catastrófico | AI25: Extremo | AJ25: 22 | AK25: 10 | AL25: =+AJ25*AK25 -> 220 | AP25: Evitar el riesgo | AR25: Débil | AS25: Calificación entre 0 y 85
E26: Oficina de Comunicaciones y Atención al Ciudadano | V26: 5 | W26: Casi seguro | X26: Catastrófico | AA26: Improbable | AB26: Menor | AC26: 2 | AF26: =CONCATENATE(AG26,AH26) -> PosibleCatastrófico | AG26: Posible | AH26: Catastrófico | AI26: Extremo | AJ26: 23 | AK26: 15 | AL26: =+AJ26*AK26 -> 345 | AP26: Reducir el riesgo
E27: Oficina de Control Interno | AA27: Posible | AB27: Moderado | AC27: 3 | AF27: =CONCATENATE(AG27,AH27) -> ProbableCatastrófico | AG27: Probable | AH27: Catastrófico | AI27: Extremo | AJ27: 24 | AK27: 20 | AL27: =+AJ27*AK27 -> 480 | AP27: Compartir el riesgo
E28: Oficina de Gestión de la Información | AA28: Probable | AB28: Mayor | AC28: 4 | AF28: =CONCATENATE(AG28,AH28) -> Casi seguroCatastrófico | AG28: Casi seguro | AH28: Catastrófico | AI28: Extremo | AJ28: 25 | AK28: 25 | AL28: =+AJ28*AK28 -> 625 | AV28: ModeradoFuerte
E29: Presidencia | AA29: Casi seguro | AB29: Catastrófico | AC29: 5 | AP29: Fuerte | AV29: FuerteDébil | AW29: Moderado
E30: Vicepresidencia Administrativa y Financiera | AP30: Moderado | AW30: Fuerte
E31: Vicepresidencia Bienes Inmuebles y Muebles | AP31: Debil | AW31: Debil
E32: Vicepresidencia Jurídica
H33: 2. Criterios para calificar el impacto – riesgos de gestión
G34: Nivel | H34: Impacto (consecuencias) Cuantitativo | I34: Impacto (consecuencias) Cualitativo | J34: Nivel
G35: CATASTRÓFICO | H35: - Impacto que afecte la ejecución presupuestal en un valor≥50%. - Pérdida de cobertura en la prestación de los servicios de la entidad ≥50%. - Pago de indemnizaciones a terceros por acciones legales que pueden afectar el presupuesto total de la entidad en un valor ≥50%. - Pago de sanciones económicas por incumplimiento en la normatividad aplicable ante un ente regulador, las cuales afectan en un valor ≥50% del presupuesto general de la entidad. - Pago de sanciones económicas por incumplimiento en la normatividad aplicable ante un ente regulador, las cuales afectan en un valor ≥50% del presupuesto general de la entidad. | I35: - Interrupción de las operaciones de la Entidad por más de cinco (5) días. - Intervención por parte de un ente de control u otro ente regulador. - Pérdida de Información crítica para la entidad que no se puede recuperar. - Incumplimiento en las metas y objetivos institucionales afectando de forma grave la ejecución presupuestal. - Imagen institucional afectada en el orden nacional o regional por actos o hechos de corrupción comprobados. | J35: 5
G36: MAYOR | H36: - Pérdida de cobertura en la prestación de los servicios de la entidad ≥20%. - Pago de indemnizaciones a terceros por acciones legales que pueden afectar el presupuesto total de la entidad en un valor ≥20%. - Pago de sanciones económicas por incumplimiento en la normatividad aplicable ante un ente regulador, las cuales afectan en un valor ≥20% del presupuesto general de la entidad. - Impacto que afecte la ejecución presupuestal en un valor≥20%. | I36: - Pérdida de información crítica que puede ser recuperada de forma parcial o incompleta. - Sanción por parte del ente de control u otro ente regulador. - Incumplimiento en las metas y objetivos institucionales afectando el cumplimiento en las metas de gobierno. - Imagen institucional afectada en el orden nacional o regional por incumplimientos en la prestación del servicio a los usuarios o ciudadanos. - Interrupción de las operaciones de la Entidad por más de dos (2) días. | J36: 4
G37: MODERADO | H37: - Impacto que afecte la ejecución presupuestal en un valor≥5%. - Pérdida de cobertura en la prestación de los servicios de la entidad ≥10%. - Pago de indemnizaciones a terceros por acciones legales que pueden afectar el presupuesto total de la entidad en un valor ≥5%. - Pago de sanciones económicas por incumplimiento en la normatividad aplicable ante un ente regulador, las cuales afectan en un valor ≥5% del presupuesto general de la entidad. | I37: - Interrupción de las operaciones de la Entidad por un (1) día. - Reclamaciones o quejas de los usuarios que podrían implicar una denuncia ante los entes reguladores o una demanda de largo alcance para la entidad. - Inoportunidad en la información ocasionando retrasos en la atención a los usuarios. - Reproceso de actividades y aumento de carga operativa. - Imagen institucional afectada en el orden nacional o regional por retrasos en la prestación del servicio a los usuarios o ciudadanos. - Investigaciones penales, fiscales o disciplinarias. | J37: 3
G38: MENOR | H38: - Impacto que afecte la ejecución presupuestal en un valor≥1% - Pérdida de cobertura en la prestación de los servicios de la entidad ≥5%. - Pago de indemnizaciones a terceros por acciones legales que pueden afectar el presupuesto total de la entidad en un valor ≥1% - Pago de sanciones económicas por incumplimiento en la normatividad aplicable ante un ente regulador, las cuales afectan en un valor ≥1%del presupuesto general de la entidad. | I38: - Interrupción de las operaciones de la Entidad por algunas horas. - Reclamaciones o quejas de los usuarios que implican investigaciones internas disciplinarias. - Imagen institucional afectada localmente por retrasos en la prestación del servicio a los usuarios o ciudadanos. | J38: 2
G39: INSIGNIFICANTE | H39: - Impacto que afecte la ejecución presupuestal en un valor≥0,5%. - Pérdida de cobertura en la prestación de los servicios de la entidad ≥1%. - Pago de indemnizaciones a terceros por acciones legales que pueden afectar el presupuesto total de la entidad en un valor ≥0,5%. - Pago de sanciones económicas por incumplimiento en la normatividad aplicable ante un ente regulador, las cuales afectan en un valor ≥0,5%del presupuesto general de la entidad. | I39: - No hay interrupción de las operaciones de la entidad. - No se generan sanciones económicas o administrativas. - No se afecta la imagen institucional de forma significativa. | J39: 1
H41: 2.1 Criterios para calificar el impacto - Riesgos de Seguridad Digital.
...

Sheet Impacto_Riesgos_Corrupción
B2: Cálculos Internos Nivel de Impacto Inherente - Riesgos de Corrupción
B7: Datos sobre el riesgo | F7: Criterios para calificar | Z7: Cálculos internos Impacto Inherente
A8: RESPUESTAS POR ÁREAS | B8: PROCESO | C8: No. | D8: Riesgo | E8: Tipo de riesgo | F8: 1. ¿Afecta al grupo de funcionarios del proceso? | G8: 2. ¿Afecta el cumplimiento de metas y objetivos de la dependencia? | H8: 3. ¿Afecta el cumplimiento de misión de la Entidad? | I8: 4. ¿Afecta el cumplimiento de la misión del sector al que pertenece la Entidad? | J8: 5. ¿Genera pérdida de confianza de la Entidad, afectando su reputación? | K8: 6. ¿Genera pérdida de recursos económicos? | L8: 7. ¿Afecta la generación de los productos o la prestación de servicios? | M8: 8. ¿Da lugar al detrimento de calidad de vida de la comunidad por la pérdida del bien o servicios o los recursos públicos? | N8: 9. ¿Genera pérdida de información de la Entidad? | O8: 10. ¿Genera intervención de los órganos de control, de la Fiscalía, u otro ente? | P8: 11. ¿Da lugar a procesos sancionatorios? | Q8: 12. ¿Da lugar a procesos disciplinarios? | R8: 13. ¿Da lugar a procesos fiscales? | S8: 14. ¿Da lugar a procesos penales? | T8: 15. ¿Genera pérdida de credibilidad del sector? | U8: 16. ¿Ocasiona lesiones físicas o pérdida de vidas humanas? | V8: 17. ¿Afecta la imagen regional? | W8: 18. ¿Afecta la imagen nacional? | X8: 19. ¿Genera daño ambiental? | Y8: Total | Z8: Impacto Inherente | AA8: % Impacto Inherente
A9: Oficina Asesora de Planeación | B9: =VLOOKUP(Impacto_Riesgos_Corrupción!C9,Tabla_Riesgos[#All],2,FALSE) -> TODOS LOS PROCESOS | C9: 1 | D9: =VLOOKUP(Impacto_Riesgos_Corrupción!C9,Tabla_Riesgos[#All],3,FALSE) -> Posibilidad de que un funcionario vaya mas allá de las funciones designadas con el fin de obtener un beneficio privado. | E9: =VLOOKUP(Impacto_Riesgos_Corrupción!C9,Tabla_Riesgos[#All],6,FALSE) -> Corrupción | F9: SI | G9: SI | H9: SI | I9: SI | J9: SI | K9: SI | L9: SI | M9: SI | N9: NO | O9: SI | P9: SI | Q9: SI | R9: SI | S9: SI | T9: SI | U9: NO | V9: SI | W9: SI | X9: NO | Y9: =COUNTIF(F9:X9,"SI") -> 16 | Z9: =IF(Y9<=5,"Moderado",IF(Y9<=11,"Mayor",IF(Y9<=19,"Catastrófico",0))) -> Catastrófico | AA9: =IF(Z9="Catastrófico",100%,IF(Z9="Mayor",80%,IF(Z9="Moderado",60%,IF(Z9="Menor",40%,IF(Z9="Leve",20%,0))))) -> 1
A10: Oficina Asesora de Planeación | B10: =VLOOKUP(Impacto_Riesgos_Corrupción!C10,Tabla_Riesgos[#All],2,FALSE) -> TODOS LOS PROCESOS | C10: 3 | D10: =VLOOKUP(Impacto_Riesgos_Corrupción!C10,Tabla_Riesgos[#All],3,FALSE) -> Puede ocurrir intercambio extraoficial de favores, en el cual un individuo se beneficie a si mismo o a un tercero. Amiguismo y clientelismo. | E10: =VLOOKUP(Impacto_Riesgos_Corrupción!C10,Tabla_Riesgos[#All],6,FALSE) -> Corrupción | F10: SI | G10: SI | H10: SI | I10: SI | J10: SI | K10: SI | L10: SI | M10: SI | N10: NO | O10: SI | P10: SI | Q10: SI | R10: SI | S10: SI | T10: SI | U10: NO | V10: SI | W10: SI | X10: SI | Y10: =COUNTIF(F10:X10,"SI") -> 17 | Z10: =IF(Y10<=5,"Moderado",IF(Y10<=11,"Mayor",IF(Y10<=19,"Catastrófico",0))) -> Catastrófico | AA10: =IF(Z10="Catastrófico",100%,IF(Z10="Mayor",80%,IF(Z10="Moderado",60%,IF(Z10="Menor",40%,IF(Z10="Leve",20%,0))))) -> 1
A11: Oficina Asesora de Planeación | B11: =VLOOKUP(Impacto_Riesgos_Corrupción!C11,Tabla_Riesgos[#All],2,FALSE) -> TODOS LOS PROCESOS | C11: 4 | D11: =VLOOKUP(Impacto_Riesgos_Corrupción!C11,Tabla_Riesgos[#All],3,FALSE) -> Puede presentarse situaciones de orden moral y económico que le impidan a un funcionario actuar en forma objetiva e independiente, porque le sea particularmente conveniente. | E11: =VLOOKUP(Impacto_Riesgos_Corrupción!C11,Tabla_Riesgos[#All],6,FALSE) -> Corrupción | F11: SI | G11: SI | H11: SI | I11: SI | J11: SI | K11: SI | L11: SI | M11: SI | N11: NO | O11: SI | P11: SI | Q11: SI | R11: SI | S11: SI | T11: SI | U11: NO | V11: SI | W11: SI | X11: NO | Y11: =COUNTIF(F11:X11,"SI") -> 16 | Z11: =IF(Y11<=5,"Moderado",IF(Y11<=11,"Mayor",IF(Y11<=19,"Catastrófico",0))) -> Catastrófico | AA11: =IF(Z11="Catastrófico",100%,IF(Z11="Mayor",80%,IF(Z11="Moderado",60%,IF(Z11="Menor",40%,IF(Z11="Leve",20%,0))))) -> 1
A12: Oficina Asesora de Planeación | B12: =VLOOKUP(Impacto_Riesgos_Corrupción!C12,Tabla_Riesgos[#All],2,FALSE) -> TODOS LOS PROCESOS | C12: 6 | D12: =VLOOKUP(Impacto_Riesgos_Corrupción!C12,Tabla_Riesgos[#All],3,FALSE) -> Posibilidad de recibir o solicitar cualquier dádiva o beneficio a nombre propio o de terceros con el fin de celebrar un contrato. | E12: =VLOOKUP(Impacto_Riesgos_Corrupción!C12,Tabla_Riesgos[#All],6,FALSE) -> Corrupción | F12: SI | G12: SI | H12: SI | I12: SI | J12: SI | K12: SI | L12: SI | M12: SI | N12: NO | O12: SI | P12: SI | Q12: SI | R12: SI | S12: SI | T12: SI | U12: NO | V12: SI | W12: SI | X12: NO | Y12: =COUNTIF(F12:X12,"SI") -> 16 | Z12: =IF(Y12<=5,"Moderado",IF(Y12<=11,"Mayor",IF(Y12<=19,"Catastrófico",0))) -> Catastrófico | AA12: =IF(Z12="Catastrófico",100%,IF(Z12="Mayor",80%,IF(Z12="Moderado",60%,IF(Z12="Menor",40%,IF(Z12="Leve",20%,0))))) -> 1
A13: Oficina Asesora de Planeación | B13: =VLOOKUP(Impacto_Riesgos_Corrupción!C13,Tabla_Riesgos[#All],2,FALSE) -> TODOS LOS PROCESOS | C13: 7 | D13: =VLOOKUP(Impacto_Riesgos_Corrupción!C13,Tabla_Riesgos[#All],3,FALSE) -> Posibilidad de que un funcionario reciba u ofrezca un soborno, con el fin de dar o recibir un trato especial con una compañía o persona natural. | E13: =VLOOKUP(Impacto_Riesgos_Corrupción!C13,Tabla_Riesgos[#All],6,FALSE) -> Corrupción | F13: SI | G13: SI | H13: SI | I13: SI | J13: SI | K13: SI | L13: SI | M13: SI | N13: NO | O13: SI | P13: SI | Q13: SI | R13: SI | S13: SI | T13: SI | U13: NO | V13: SI | W13: SI | X13: NO | Y13: =COUNTIF(F13:X13,"SI") -> 16 | Z13: =IF(Y13<=5,"Moderado",IF(Y13<=11,"Mayor",IF(Y13<=19,"Catastrófico",0))) -> Catastrófico | AA13: =IF(Z13="Catastrófico",100%,IF(Z13="Mayor",80%,IF(Z13="Moderado",60%,IF(Z13="Menor",40%,IF(Z13="Leve",20%,0))))) -> 1
A14: Oficina Asesora de Planeación | B14: =VLOOKUP(Impacto_Riesgos_Corrupción!C14,Tabla_Riesgos[#All],2,FALSE) -> TODOS LOS PROCESOS | C14: 8 | D14: =VLOOKUP(Impacto_Riesgos_Corrupción!C14,Tabla_Riesgos[#All],3,FALSE) -> Puede incitar la participación de varias personas o compañías para cometer un delito buscando el beneficio propio. Concierto para delinquir. | E14: =VLOOKUP(Impacto_Riesgos_Corrupción!C14,Tabla_Riesgos[#All],6,FALSE) -> Corrupción | F14: SI | G14: SI | H14: SI | I14: SI | J14: SI | K14: SI | L14: SI | M14: SI | N14: NO | O14: SI | P14: SI | Q14: SI | R14: SI | S14: SI | T14: SI | U14: NO | V14: SI | W14: SI | X14: NO | Y14: =COUNTIF(F14:X14,"SI") -> 16 | Z14: =IF(Y14<=5,"Moderado",IF(Y14<=11,"Mayor",IF(Y14<=19,"Catastrófico",0))) -> Catastrófico | AA14: =IF(Z14="Catastrófico",100%,IF(Z14="Mayor",80%,IF(Z14="Moderado",60%,IF(Z14="Menor",40%,IF(Z14="Leve",20%,0))))) -> 1
A15: Oficina Asesora de Planeación | B15: =VLOOKUP(Impacto_Riesgos_Corrupción!C15,Tabla_Riesgos[#All],2,FALSE) -> TODOS LOS PROCESOS | C15: 9 | D15: =VLOOKUP(Impacto_Riesgos_Corrupción!C15,Tabla_Riesgos[#All],3,FALSE) -> Puede ocurrir que un funcionario abuse de su cargo o funciones para inducir a otra persona a dar o prometer dinero o cualquier otro beneficio indebido. | E15: =VLOOKUP(Impacto_Riesgos_Corrupción!C15,Tabla_Riesgos[#All],6,FALSE) -> Corrupción | F15: SI | G15: SI | H15: SI | I15: SI | J15: SI | K15: SI | L15: SI | M15: SI | N15: NO | O15: SI | P15: SI | Q15: SI | R15: SI | S15: SI | T15: SI | U15: NO | V15: SI | W15: SI | X15: NO | Y15: =COUNTIF(F15:X15,"SI") -> 16 | Z15: =IF(Y15<=5,"Moderado",IF(Y15<=11,"Mayor",IF(Y15<=19,"Catastrófico",0))) -> Catastrófico | AA15: =IF(Z15="Catastrófico",100%,IF(Z15="Mayor",80%,IF(Z15="Moderado",60%,IF(Z15="Menor",40%,IF(Z15="Leve",20%,0))))) -> 1
A16: Oficina Asesora de Planeación | B16: =VLOOKUP(Impacto_Riesgos_Corrupción!C16,Tabla_Riesgos[#All],2,FALSE) -> TODOS LOS PROCESOS | C16: 10 | D16: =VLOOKUP(Impacto_Riesgos_Corrupción!C16,Tabla_Riesgos[#All],3,FALSE) -> Puede ocurrir que teniendo conocimiento de una conducta delictiva, no se informe a las autoridades por temor a repercusiones sociales o financieras. Omisión de denuncia | E16: =VLOOKUP(Impacto_Riesgos_Corrupción!C16,Tabla_Riesgos[#All],6,FALSE) -> Corrupción | F16: SI | G16: SI | H16: SI | I16: SI | J16: SI | K16: SI | L16: SI | M16: SI | N16: NO | O16: SI | P16: SI | Q16: SI | R16: SI | S16: SI | T16: SI | U16: NO | V16: SI | W16: SI | X16: NO | Y16: =COUNTIF(F16:X16,"SI") -> 16 | Z16: =IF(Y16<=5,"Moderado",IF(Y16<=11,"Mayor",IF(Y16<=19,"Catastrófico",0))) -> Catastrófico | AA16: =IF(Z16="Catastrófico",100%,IF(Z16="Mayor",80%,IF(Z16="Moderado",60%,IF(Z16="Menor",40%,IF(Z16="Leve",20%,0))))) -> 1
A17: Oficina Asesora de Planeación | B17: =VLOOKUP(Impacto_Riesgos_Corrupción!C17,Tabla_Riesgos[#All],2,FALSE) -> TODOS LOS PROCESOS | C17: 11 | D17: =VLOOKUP(Impacto_Riesgos_Corrupción!C17,Tabla_Riesgos[#All],3,FALSE) -> Posibilidad de que uno o varios funcionarios utilicen de forma indebida la información privilegiada de los sistemas de información para obtener beneficio privado. | E17: =VLOOKUP(Impacto_Riesgos_Corrupción!C17,Tabla_Riesgos[#All],6,FALSE) -> Corrupción | F17: SI | G17: SI | H17: SI | I17: SI | J17: SI | K17: SI | L17: SI | M17: SI | N17: SI | O17: SI | P17: SI | Q17: SI | R17: SI | S17: SI | T17: SI | U17: NO | V17: SI | W17: SI | X17: NO | Y17: =COUNTIF(F17:X17,"SI") -> 17 | Z17: =IF(Y17<=5,"Moderado",IF(Y17<=11,"Mayor",IF(Y17<=19,"Catastrófico",0))) -> Catastrófico | AA17: =IF(Z17="Catastrófico",100%,IF(Z17="Mayor",80%,IF(Z17="Moderado",60%,IF(Z17="Menor",40%,IF(Z17="Leve",20%,0))))) -> 1
A18: Oficina Asesora de Planeación | B18: =VLOOKUP(Impacto_Riesgos_Corrupción!C18,Tabla_Riesgos[#All],2,FALSE) -> TODOS LOS PROCESOS | C18: 13 | D18: =VLOOKUP(Impacto_Riesgos_Corrupción!C18,Tabla_Riesgos[#All],3,FALSE) -> Puede ocurrir apropiación ilegal, en beneficio propio o de un tercero, de los bienes del estado. | E18: =VLOOKUP(Impacto_Riesgos_Corrupción!C18,Tabla_Riesgos[#All],6,FALSE) -> Corrupción | F18: NO | G18: NO | H18: NO | I18: NO | J18: NO | K18: NO | L18: NO | M18: NO | N18: NO | O18: NO | P18: NO | Q18: NO | R18: NO | S18: NO | T18: NO | U18: NO | V18: NO | W18: NO | X18: NO | Y18: =COUNTIF(F18:X18,"SI") -> 0 | Z18: =IF(Y18<=5,"Moderado",IF(Y18<=11,"Mayor",IF(Y18<=19,"Catastrófico",0))) -> Moderado | AA18: =IF(Z18="Catastrófico",100%,IF(Z18="Mayor",80%,IF(Z18="Moderado",60%,IF(Z18="Menor",40%,IF(Z18="Leve",20%,0))))) -> 0.6
A19: Oficina Asesora de Planeación | B19: =VLOOKUP(Impacto_Riesgos_Corrupción!C19,Tabla_Riesgos[#All],2,FALSE) -> EVALUACIÒN Y CONTROL | C19: 128 | D19: =VLOOKUP(Impacto_Riesgos_Corrupción!C19,Tabla_Riesgos[#All],3,FALSE) -> Puede ocurrir que se presente manipulación o direccionamiento de información procesada o generada en el marco de la actividad de la auditoría interna, con el fin de obtener provecho propio o de un tercero | E19: =VLOOKUP(Impacto_Riesgos_Corrupción!C19,Tabla_Riesgos[#All],6,FALSE) -> Corrupción | F19: NO | G19: NO | H19: NO | I19: NO | J19: NO | K19: NO | L19: NO | M19: NO | N19: NO | O19: NO | P19: NO | Q19: NO | R19: NO | S19: NO | T19: NO | U19: NO | V19: NO | W19: NO | X19: NO | Y19: =COUNTIF(F19:X19,"SI") -> 0 | Z19: =IF(Y19<=5,"Moderado",IF(Y19<=11,"Mayor",IF(Y19<=19,"Catastrófico",0))) -> Moderado | AA19: =IF(Z19="Catastrófico",100%,IF(Z19="Mayor",80%,IF(Z19="Moderado",60%,IF(Z19="Menor",40%,IF(Z19="Leve",20%,0))))) -> 0.6
A20: Archivo y Correspondencia | B20: TODOS LOS PROCESOS | C20: 1 | D20: Posibilidad de que un funcionario vaya mas allá de las funciones designadas con el fin de obtener un beneficio privado. | E20: Corrupción | F20: SI | G20: SI | H20: SI | I20: SI | J20: SI | K20: SI | L20: SI | M20: SI | N20: SI | O20: SI | P20: SI | Q20: SI | R20: SI | S20: SI | T20: SI | U20: NO | V20: SI | W20: SI | X20: NO | Y20: =COUNTIF(F20:X20,"SI") -> 17 | Z20: =IF(Y20<=5,"Moderado",IF(Y20<=11,"Mayor",IF(Y20<=19,"Catastrófico",0))) -> Catastrófico | AA20: =IF(Z20="Catastrófico",100%,IF(Z20="Mayor",80%,IF(Z20="Moderado",60%,IF(Z20="Menor",40%,IF(Z20="Leve",20%,0))))) -> 1
