Workbook
Name Clasi_Impacto: [1]Tablas!$A$5:$A$7
Name Contratos: 'Tabla Impacto'!#REF!
Name Corrupción_Responsable: Tabla_Controles!$H$10:$H$11
Name Impacto: [1]Tablas!$A$1:$A$2
Name Impacto_Ambientales: 'Tabla Impacto'!#REF!
Name Impacto_Continuidad_Negocio: 'Tabla Impacto'!#REF!
Name Impacto_Contratación: 'Tabla Impacto'!#REF!
Name Impacto_Corrupción: Table23[]
Name Impacto_Gestión: 'Tabla Impacto'!#REF!
Name Impacto_Proyectos: 'Tabla Impacto'!#REF!
Name Impacto_Seguridad_Información: 'Tabla Impacto'!#REF!
Name Impacto_Seguridad_Salud_Trabajo: 'Tabla Impacto'!#REF!
Name Nuevo: [2]!Pro[Procesos]
Name Probabilidad: [3]!Proba[Descriptor]
Name Probabilidad_Ambientales: Tabla_Probabilidad!#REF!
Name Probabilidad_Continuidad_Negocio: Tabla_Probabilidad!#REF!
Name Probabilidad_Contratación: Tabla_Probabilidad!#REF!
Name Probabilidad_Corrupción: Tabla_Probabilidad!$C$20:$N$20
Name Probabilidad_Gestión: Tabla_Probabilidad!#REF!
Name Probabilidad_Proyectos: Tabla_Probabilidad!#REF!
Name Probabilidad_Seguridad_Información: Tabla_Probabilidad!#REF!
Name Probabilidad_Seguridad_Salud_Trabajo: Tabla_Probabilidad!#REF!
Name Procesos: [3]!Pro[Procesos]
Name Proyectos: 'Tabla Impacto'!#REF!
Name Riesgos: [3]!Tipo_Riesgo[Tipo de Riesgos]
Name Riesgos_Ambientales: 'Tabla Impacto'!#REF!
Name Riesgos_Continuidad_Negocio: 'Tabla Impacto'!#REF!
Name Riesgos_Corrupción__LAFT: 'Tabla Impacto'!#REF!
Name Riesgos_Gestión: 'Tabla Impacto'!#REF!
Name Riesgos_SDI: 'Tabla Impacto'!#REF!
Name Riesgos_SST: 'Tabla Impacto'!#REF!
Name Tip.Ctrl: [1]Tablas!$A$27:$A$29
Name Tipo: [3]!Tipo_Riesgo[Tipo de Riesgos]
Name Tipologia_Riesgos: [4]Tipologia_Riesgos!$B$40:$B$46
Name Tipologia_Riesgos: Tipologia_Riesgos!#REF!

Sheet Mapa_Riesgos
K1: FORMATO MATRIZ DE RIESGOS DE CORRUPCIÓN PROCESO GOBIERNO Y GESTIÓN DE LA ESTRATEGIA MACROPROCESO DIRECCIONAMIENTO ESTRATÉGICO | Z1: Código: F-DE2-274 Versión No.: 04 Vigencia desde: 11 – 04- 2023
B4: MATRIZ DE RIESGOS DE CORRUPCIÓN 2023 SOCIEDAD DE ACTIVOS ESPECIALES S.A.S.
B7: IDENTIFICACIÓN DEL RIESGO | N7: ANÁLISIS DEL RIESGO | V7: EVALUACIÓN DEL RIESGO | AU7: PLAN DE TRATAMIENTO DE MITIGACIÓN | BB7: PLAN DE CONTINGENCIA | BC7: SEGUIMIENTO
B8: Información General del Riesgo | I8: Redacción de Riesgo | K8: Identificación de Causas y Consecuencias | N8: Probabilidad Inherente | Q8: Impacto Inherente | V8: Nivel de Riesgo Inherente | W8: Descripción de Controles | AB8: Valoración Controles | AP8: Nivel del riesgo residual | AW8: Plan de Acción Tratamiento de Mitigación | BC8: implementación de Controles | BG8: Ejecución Plan de Tratamiento de Mitigación | BK8: Materialización de Riesgos
B9: Código Riesgo | C9: Tipología de Riesgo | D9: Subcategoría del Riesgo | E9: Macro Proceso | F9: Proceso | G9: Objetivo Proceso | H9: Producto/ Servicio | I9: Descripción del Riesgo | J9: Hecho de Corrupción | K9: Cod. Causa | L9: Causas Asociadas | M9: Consecuencias | N9: Criterio para determinar probabilidad | O9: Probabilidad Inherente | P9: Valor Probabilidad Inherente | Q9: Cuestionario Corrupción | S9: Criterio para determinar impacto | T9: Impacto Inherente | U9: Valor Impacto Inherente | V9: Zona de Riesgo Inherente | W9: No. Control | X9: Control | Y9: Descripción del Control | Z9: Procedimiento donde se ejecuta el control | AA9: Área que ejecuta el Control | AB9: Evaluación Diseño de Controles | AK9: Evaluación Ejecución del Control | AL9: Solidez Controles | AP9: ¿Los controles ayudan a disminuir la probabilidad? | AQ9: Valor Probabilidad Residual | AR9: Probabilidad Residual | AS9: Impacto Residual | AT9: Zona de Riesgo Final | AU9: Tratamiento | AV9: No. Tratamiento | AW9: Plan de Acción | AX9: Soporte | AY9: Responsable | AZ9: Fecha Implementación | BA9: Fecha Seguimiento | BC9: No. Control | BD9: Estado | BE9: Seguimiento | BF9: Evidencia | BG9: No. Tratamiento | BH9: Estado | BI9: Seguimiento | BJ9: Evidencia | BK9: Estado | BL9: Seguimiento | BM9: Evidencia
D10: Categoría Riesgo | Q10: Aplicación Cuestionario | R10: Respuestas Afirmativas | AB10: Asignación Responsable | AC10: Autoridad y Segregación de Funciones | AD10: Periodicidad Control | AE10: Propósito Control | AF10: Fuente de Información | AG10: Investigación y Resolución de Observaciones y Desviaciones | AH10: Evidencia Ejecución Control | AI10: Calificación | AJ10: Diseño del Control | AL10: Solidez Individual del Control | AM10: Puntaje Solidez Individual del Control | AN10: Puntaje Solidez conjunta de Controles | AO10: Solidez conjunta de Controles
A11: =C11&COUNTIF($C$9:C11,C11) -> Corrupción1 | B11: 1 | C11: Corrupción | D11: Fraude interno | E11: Gestión_Talento_Humano | F11: Administración del talento humano | G11: Proveer el Talento Humano necesario para la ejecución de los procesos, administrarlo durante su vinculación y gestionar su desempeño y desarrollo | H11: Servicio profesional de colaboradores SAE | I11: ="Posibilidad de recibir o solicitar cualquier dádiva o beneficio a nombre propio o de terceros, con el fin de "&J11 -> Posibilidad de recibir o solicitar cualquier dádiva o beneficio a nombre propio o de terceros, con el fin de dar un tratamiento especial o preferencial utilizando indebidamente influencias personales o poder derivadas del ejercicio del cargo, de las funciones asignadas o conocimiento de asuntos propios de la entidad. | J11: dar un tratamiento especial o preferencial utilizando indebidamente influencias personales o poder derivadas del ejercicio del cargo, de las funciones asignadas o conocimiento de asuntos propios de la entidad. | K11: CA_1 | L11: Las funciones definidas para los colaboradores pueden encuentrarse mal delimitadas en el perfil del cargo de acuerdo con su nivel de autoridad o responsabilidad | M11: 1) Pérdida de imagen reputacional y credibilidad institucional 2) Implicaciones a nivel penal, disciplinario, fiscal o sancionatorio 3) Demandas de la ciudadanía | N11: El evento podrá ocurrir en algún momento | O11: =IF(N11="","",IF(OR($N11=Tabla_Probabilidad!$D$20,$N11=Tabla_Probabilidad!$J$20),"Muy Baja",IF(OR($N11=Tabla_Probabilidad!$E$20,$N11=Tabla_Probabilidad!$K$20),"Baja",IF(OR($N11=Tabla_Probabilidad!$F$20,$N11=Tabla_Probabilidad!$L$20),"Media",IF(OR($N11=Tabla_Probabilidad!$G$20,$N11=Tabla_Probabilidad!$M$20),"Alta",IF(OR($N11=Tabla_Probabilidad!$H$20,$N11=Tabla_Probabilidad!$N$20),"Muy Alta")))))) -> Media | P11: =IF(O11="Muy Baja",1,IF(O11="Baja",2,IF(O11="Media",3,IF(O11="Alta",4,IF(O11="Muy Alta",5,""))))) -> 3 | Q11: =IFERROR(IF($C11="Corrupción",HYPERLINK("#"&"Impacto_Riesgos!C"&MATCH($B11,Impacto_Riesgos!$B$10:$B$138,0)+9,"Calcula el impacto aquí"),"")," ") -> Calcula el impacto aquí | R11: =IFERROR(VLOOKUP(A11,Impacto_Riesgos!$A$8:$W$138,23,),"NA") -> 14 | S11: De doce (12) a diecinueve (19) respuestas afirmativas. Genera consecuencias desastrosas para la entidad | T11: =IF($S11='Tabla Impacto'!$F$10,"Moderado",IF($S11='Tabla Impacto'!$G$10,"Mayor",IF($S11='Tabla Impacto'!$H$10,"Catastrófico",""))) -> Catastrófico | U11: =IF(T11="Leve",1,IF(T11="Menor",2,IF(T11="Moderado",3,IF(T11="Mayor",4,IF(T11="Catastrófico",5,""))))) -> 5 | V11: =IF(OR(AND($O11="Muy Baja",T11="Leve"),AND($O11="Muy Baja",T11="Menor"),AND($O11="Baja",T11="Leve"),AND($O11="Baja",T11="Menor"),AND($O11="Media",T11="Leve")),"Bajo",IF(OR(AND($O11="Muy baja",T11="Moderado"),AND($O11="Baja",T11="Moderado"),AND($O11="Media",T11="Menor"),AND($O11="Alta",T11="Leve")),"Moderado",IF(OR(AND($O11="Muy Baja",T11="Mayor"),AND($O11="Baja",T11="Mayor"),AND($O11="Media",T11="Moderado"),AND($O11="Alta",T11="Menor"),AND($O11="Alta",T11="Moderado"),AND($O11="Muy Alta",T11="Leve"),AND($O11="Muy Alta",T11="Menor")),"Alto",IF(OR(AND($O11="Muy Baja",T11="Catastrófico"),AND($O11="Baja",T11="Catastrófico"),AND($O11="Media",T11="Mayor"),AND($O11="Media",T11="Catastrófico"),AND($O11="Alta",T11="Mayor"),AND($O11="Alta",T11="Catastrófico"),AND($O11="Muy Alta",T11="Moderado"),AND($O11="Muy Alta",T11="Mayor"),AND($O11="Muy Alta",T11="Catastrófico")),"Extremo","")))) -> Extremo | W11: C1 | X11: Creación de Perfiles de Cargo con el cumplimiento de requisitos exigibles | Y11: El profesional delegado de la Gerencia de Talento Humano valida que al crearse un perfil de cargo, éste se encuentre alineado con las resoluciones de distribución de funciones de las dependencias, macroprocesos, procesos y procedimientos a los que aporta, y que se visibilice los niveles de responsabilidad y autoridad con la que cuenta el cargo, documentandolo en el Manual de Funciones y/o Descriptivos de Cargos de la SAE | Z11: NA | AA11: G. Talento Humano | AB11: Asignado | AC11: Adecuado | AD11: Oportuna | AE11: Prevenir | AF11: Confiable | AG11: Oportuna | AH11: Completa | AI11: =IF(COUNTBLANK(AB11:AH11)=7,"",IF($AB11="Asignado",15,0)+IF($AC11="Adecuado",15,0)+IF($AD11="Oportuna",15,0)+IF($AE11="Prevenir",15,0)+IF($AE11="Detectar",10,0)+IF($AF11="Confiable",15,0)+IF($AG11="Oportuna",15,0)+IF($AH11="Completa",10,0)+IF($AH11="Incompleta",5,0)) -> 100 | AJ11: =IF(COUNTBLANK(AB11:AH11)=7,"",IF($AI11<86,"Débil",IF($AI11<96,"Moderado","Fuerte"))) -> Fuerte | AK11: Fuerte | AL11: =IFERROR(VLOOKUP(AJ11&AK11,Tabla_Controles!$B$56:$G$65,5,FALSE),"") -> Fuerte | AM11: =IF($AL11="","",IF($AL11="Fuerte",100,IF($AL11="Moderado",50,0))) -> 100 | AN11: =IFERROR(AVERAGE(AM11:AM17),"") -> 66.666667 | AO11: =IF($AN11=100,"Fuerte",IF($AN11<100,"Moderado",IF($AN11<50,"Débil",IF($AN11=0,"","")))) -> Moderado | AP11: Directamente | AQ11: =IFERROR(P11-VLOOKUP(AO11&AP11,Tabla_Controles!$B$77:$E$83,4,0),"") -> 2 | AR11: =IF($AQ11="","",IF($AQ11=1,"Muy Baja",IF($AQ11=2,"Baja",IF($AQ11=3,"Media",IF($AQ11=4,"Alta",IF($AQ11=5,"Muy Alta","Muy Baja")))))) -> Baja | AS11: =T11 -> Catastrófico | AT11: =IF(OR(AND($AR11="Muy Baja",$AS11="Leve"),AND($AR11="Muy Baja",$AS11="Menor"),AND($AR11="Baja",$AS11="Leve"),AND($AR11="Baja",$AS11="Menor"),AND($AR11="Media",$AS11="Leve")),"Bajo",IF(OR(AND($AR11="Muy baja",$AS11="Moderado"),AND($AR11="Baja",$AS11="Moderado"),AND($AR11="Media",$AS11="Menor"),AND($AR11="Alta",$AS11="Leve")),"Moderado",IF(OR(AND($AR11="Muy Baja",$AS11="Mayor"),AND($AR11="Baja",$AS11="Mayor"),AND($AR11="Media",$AS11="Moderado"),AND($AR11="Alta",$AS11="Menor"),AND($AR11="Alta",$AS11="Moderado"),AND($AR11="Muy Alta",$AS11="Leve"),AND($AR11="Muy Alta",$AS11="Menor")),"Alto",IF(OR(AND($AR11="Muy Baja",$AS11="Catastrófico"),AND($AR11="Baja",$AS11="Catastrófico"),AND($AR11="Media",$AS11="Mayor"),AND($AR11="Media",$AS11="Catastrófico"),AND($AR11="Alta",$AS11="Mayor"),AND($AR11="Alta",$AS11="Catastrófico"),AND($AR11="Muy Alta",$AS11="Moderado"),AND($AR11="Muy Alta",$AS11="Mayor"),AND($AR11="Muy Alta",$AS11="Catastrófico")),"Extremo","")))) -> Extremo | AU11: Reducir (Mitigar) | AV11: T1 | AW11: Documentar el manual de funciones institucional con la actualización de los descriptivos de los perfiles de cargo | AX11: Manual de Funciones | AY11: G. Talento Humano | AZ11: 45199 | BA11: 15/04/2023 15/07/2023 15/10/2023 31/12/2023 | BB11: 1) Informar riesgo de corrupción detectado a la Oficina Asesora de Planeación, con el diseño del plan de tratamiento 2) Informar evento presentado a la Gerencia de Talento Humano 3) La Gerencia de Talento Humano realiza el proceso de investigación disciplinario 4) La Oficina Asesora de Planeación informa a Comité Directivo y de Control Interno posibles materializaciones de riesgos de Corrupción 5) Informar eventos presentados a entes de control con base en resultados de investigación disciplinaria 6) Implementar el plan de tratamiento de mitigación de riesgos diseñado para el evento presentado | BC11: C1 | BG11: T1
B12: 1 | K12: CA_2 | L12: No contar con procedimientos actualizados con la desagregación de los niveles de responsabilidad y autoridad para ejecutar las actividades | W12: C2 | X12: Actualización de niveles de responsabilidad y autoridad de procesos | Y12: El profesional delegado de la Oficina Asesora de Planeación deberá verificar que los procedimientos que sean actualizados en la arquitectura de SAE, cuenten con los niveles de responsabilidad y autoridad requeridos, limitando el alcance de las actividades que ejercen los colaboradores de SAE en la ejecución de los procesos. En caso de requerir alguna actualización documental, el lider del cada proceso deberá solicitar el acompañamiento metodológico de la Oficina Asesora de Planeación para iniciar el proceso de creación, modificación o eliminación de documentos. | Z12: NA | AA12: O. Asesora de Planeación | AB12: Asignado | AC12: Adecuado | AD12: Inoportuna | AE12: Prevenir | AF12: Confiable | AG12: Oportuna | AH12: Completa | AI12: =IF(COUNTBLANK(AB12:AH12)=7,"",IF($AB12="Asignado",15,0)+IF($AC12="Adecuado",15,0)+IF($AD12="Oportuna",15,0)+IF($AE12="Prevenir",15,0)+IF($AE12="Detectar",10,0)+IF($AF12="Confiable",15,0)+IF($AG12="Oportuna",15,0)+IF($AH12="Completa",10,0)+IF($AH12="Incompleta",5,0)) -> 85 | AJ12: =IF(COUNTBLANK(AB12:AH12)=7,"",IF($AI12<86,"Débil",IF($AI12<96,"Moderado","Fuerte"))) -> Débil | AK12: Moderado | AL12: =IFERROR(VLOOKUP(AJ12&AK12,Tabla_Controles!$B$56:$G$65,5,FALSE),"") -> Débil | AM12: =IF($AL12="","",IF($AL12="Fuerte",100,IF($AL12="Moderado",50,0))) -> 0 | AV12: T2 | AW12: Realizar las actualizaciones documentales de los procesos de la arquitectura de SAE, cuando sea requerido, para limitar el alcance de las actividades que ejercen los colaboradores de SAE en la ejecución de los procesos | AX12: Solicitudes de actualización documental Documentos actualizados | AY12: O. Asesora de Planeación | AZ12: Todos los meses | BA12: 15/04/2023 15/07/2023 15/10/2023 31/12/2023 | BC12: C2 | BG12: T2
B13: 1 | K13: CA_3 | L13: Delegación descentralizada de toma de decisiones de algunos temas estratégicos | W13: C3 | X13: Revisión por la Dirección | Y13: El Comité Directivo de la Organización, con secretaría técnica de la Oficina Asesora de Planeación, analiza, verifica, evalúa y aprueba las decisiones estratégicas necesarias para aportar a cada temática, siempre propendiendo por el cumplimiento de los objetvos de la organización y la normativa vigente. En caso de encontrar alguna inconsistencia o desviación sobre las decisiones a tomar, realiza las recomendaciones pertinentes para la toma de decisiones definitiva. | Z13: P-DE2-099 Procedimiento Revisión por la Dirección | AA13: O. Asesora de Planeación | AB13: Asignado | AC13: Adecuado | AD13: Oportuna | AE13: Prevenir | AF13: Confiable | AG13: Oportuna | AH13: Completa | AI13: =IF(COUNTBLANK(AB13:AH13)=7,"",IF($AB13="Asignado",15,0)+IF($AC13="Adecuado",15,0)+IF($AD13="Oportuna",15,0)+IF($AE13="Prevenir",15,0)+IF($AE13="Detectar",10,0)+IF($AF13="Confiable",15,0)+IF($AG13="Oportuna",15,0)+IF($AH13="Completa",10,0)+IF($AH13="Incompleta",5,0)) -> 100 | AJ13: =IF(COUNTBLANK(AB13:AH13)=7,"",IF($AI13<86,"Débil",IF($AI13<96,"Moderado","Fuerte"))) -> Fuerte | AK13: Fuerte | AL13: =IFERROR(VLOOKUP(AJ13&AK13,Tabla_Controles!$B$56:$G$65,5,FALSE),"") -> Fuerte | AM13: =IF($AL13="","",IF($AL13="Fuerte",100,IF($AL13="Moderado",50,0))) -> 100 | AV13: T3 | AW13: NA | AX13: NA | AY13: NA | AZ13: NA | BA13: NA | BC13: C3 | BG13: T3
B14: 1 | K14: CA_4 | L14: No se tengan delimitados los permisos de usuarios en las plataformas tecnológicas | W14: C4 | X14: Control de Acceso a usuarios en Plataformas Tecnológicas | Y14: El Profesional Especializado III (Oficial de Seguridad) asigna, modifica o inactiva los permisos de seguridad en aplicativos a los perfiles de usuarios solicitados y aprobados por los lideres de procesos, verificando que se cuente con la validación de la Oficina Asesora de Planeación en el aplicativo de mesa de ayuda y revisando que el formato de solicitud cumpla con los criterios requeridos, dejando registro de este control en la matriz de seguridad de usuarios y perfiles por aplicativo. En caso de existir alguna inconsistencia en la información, devuelve la solicitud hasta cumplir los requerimiento para brindar los permisos requeridos. | Z14: P-TE4-094 Procedimiento Administración y Control de Acceso a Usuarios | AA14: O. Gestión de la Información | AB14: Asignado | AC14: Adecuado | AD14: Oportuna | AE14: Prevenir | AF14: Confiable | AG14: Oportuna | AH14: Completa | AI14: =IF(COUNTBLANK(AB14:AH14)=7,"",IF($AB14="Asignado",15,0)+IF($AC14="Adecuado",15,0)+IF($AD14="Oportuna",15,0)+IF($AE14="Prevenir",15,0)+IF($AE14="Detectar",10,0)+IF($AF14="Confiable",15,0)+IF($AG14="Oportuna",15,0)+IF($AH14="Completa",10,0)+IF($AH14="Incompleta",5,0)) -> 100 | AJ14: =IF(COUNTBLANK(AB14:AH14)=7,"",IF($AI14<86,"Débil",IF($AI14<96,"Moderado","Fuerte"))) -> Fuerte | AK14: Fuerte | AL14: =IFERROR(VLOOKUP(AJ14&AK14,Tabla_Controles!$B$56:$G$65,5,FALSE),"") -> Fuerte | AM14: =IF($AL14="","",IF($AL14="Fuerte",100,IF($AL14="Moderado",50,0))) -> 100 | AV14: T4 | AW14: NA | AX14: NA | AY14: NA | AZ14: NA | BA14: NA | BC14: C4 | BG14: T4
B15: 1 | K15: CA_5 | L15: Debilidades en la verificación de las competencias comportamentales de los colaboradores de la empresa | W15: C5 | X15: Verificación de las competencias comportamentales en evaluación de rendimiento | Y15: El lider de proceso o de cada área verifica anualmente las competencias comportamentales de los colaboradores a su cargo con base en sus conductas y las competencias comunes o por nivel jerárquico establecidos por la empresa, recopilando las evidencias necesarias en caso requerido, dejando registro del resultado en la evaluación de rendimiento del evaluado. En caso de presentarse alguna mejora o desviación identificada, se deberá documenta un plan de mejoramiento individual. | Z15: P-GT2-171 Procedimiento evaluación del rendimiento | AA15: Todas las áreas | AB15: Asignado | AC15: Adecuado | AD15: Oportuna | AE15: Detectar | AF15: Confiable | AG15: Oportuna | AH15: Completa | AI15: =IF(COUNTBLANK(AB15:AH15)=7,"",IF($AB15="Asignado",15,0)+IF($AC15="Adecuado",15,0)+IF($AD15="Oportuna",15,0)+IF($AE15="Prevenir",15,0)+IF($AE15="Detectar",10,0)+IF($AF15="Confiable",15,0)+IF($AG15="Oportuna",15,0)+IF($AH15="Completa",10,0)+IF($AH15="Incompleta",5,0)) -> 95 | AJ15: =IF(COUNTBLANK(AB15:AH15)=7,"",IF($AI15<86,"Débil",IF($AI15<96,"Moderado","Fuerte"))) -> Moderado | AK15: Fuerte | AL15: =IFERROR(VLOOKUP(AJ15&AK15,Tabla_Controles!$B$56:$G$65,5,FALSE),"") -> Moderado | AM15: =IF($AL15="","",IF($AL15="Fuerte",100,IF($AL15="Moderado",50,0))) -> 50 | AV15: T5 | AW15: Brindar una inducción específica del cargo a los funcionarios y contratistas nuevos, socializandole sus obligaciones contractuales o funciones, las limitaciones de su rol y aspectos éticos a tener en cuenta. | AX15: Listado de asistencia o evidencia de capacitación Comunicación Funciones | AY15: Todas las áreas | AZ15: Todos los meses | BA15: 15/04/2023 15/07/2023 15/10/2023 31/12/2023 | BC15: C5 | BG15: T5
B16: 1 | K16: CA_6 | L16: Debilidades en la implementación de los controles operacionales establecidos en cada proceso de acuerdo con niveles de responsabilidad | W16: C6 | X16: Evaluación Independiente de Gestión Institucional | Y16: El profesional de la Oficina de Control Interno realiza evaluaciones independientes a la gestión institucional de acuerdo con la programación establecida en el Plan Anual de Auditorías Institucional- PAAI a fin de identificar riesgos, desviaciones o irregularidades. En caso de evidenciarse alguna desviación lo comunica oportunamente de acuerdo con el conducto establecido. Como evidencia de la evaluación realizada se deja constancia en los informes de auditoría de gestión. | Z16: P-EC2-156 Procedimiento para ejecutar auditorías internas | AA16: O. Control Interno | AB16: Asignado | AC16: Adecuado | AD16: Oportuna | AE16: Detectar | AF16: Confiable | AG16: Oportuna | AH16: Completa | AI16: =IF(COUNTBLANK(AB16:AH16)=7,"",IF($AB16="Asignado",15,0)+IF($AC16="Adecuado",15,0)+IF($AD16="Oportuna",15,0)+IF($AE16="Prevenir",15,0)+IF($AE16="Detectar",10,0)+IF($AF16="Confiable",15,0)+IF($AG16="Oportuna",15,0)+IF($AH16="Completa",10,0)+IF($AH16="Incompleta",5,0)) -> 95 | AJ16: =IF(COUNTBLANK(AB16:AH16)=7,"",IF($AI16<86,"Débil",IF($AI16<96,"Moderado","Fuerte"))) -> Moderado | AK16: Fuerte | AL16: =IFERROR(VLOOKUP(AJ16&AK16,Tabla_Controles!$B$56:$G$65,5,FALSE),"") -> Moderado | AM16: =IF($AL16="","",IF($AL16="Fuerte",100,IF($AL16="Moderado",50,0))) -> 50 | AV16: T6 | AW16: Realizar seguimiento cuatrimestral al Mapa de Riesgos de Corrupción de acuerdo con la programación establecia en el PAAI 2022. | AX16: Seguimiento de Riesgos publicado | AY16: O. Control Interno | AZ16: 10/05/2023 10/09/2023 31/12/2023 | BA16: 15/07/2023 15/10/2023 31/12/2023 | BC16: C6 | BG16: T6
B17: 1 | K17: CA_7 | W17: C7 | AI17: =IF(COUNTBLANK(AB17:AH17)=7,"",IF($AB17="Asignado",15,0)+IF($AC17="Adecuado",15,0)+IF($AD17="Oportuna",15,0)+IF($AE17="Prevenir",15,0)+IF($AE17="Detectar",10,0)+IF($AF17="Confiable",15,0)+IF($AG17="Oportuna",15,0)+IF($AH17="Completa",10,0)+IF($AH17="Incompleta",5,0)) | AJ17: =IF(COUNTBLANK(AB17:AH17)=7,"",IF($AI17<86,"Débil",IF($AI17<96,"Moderado","Fuerte"))) | AL17: =IFERROR(VLOOKUP(AJ17&AK17,Tabla_Controles!$B$56:$G$65,5,FALSE),"") | AM17: =IF($AL17="","",IF($AL17="Fuerte",100,IF($AL17="Moderado",50,0))) | AV17: T7 | BC17: C7 | BG17: T7
A18: =C18&COUNTIF($C$10:C18,C18) -> Corrupción2 | B18: 6 | C18: Corrupción | D18: Fraude interno | E18: Adquisición_Bienes_Servicios | F18: Contratación | G18: Realizar las actividades de celebración, legalización y ejecución del contrato de acuerdo con las modalidades previstas en el Manual de Contratación | H18: Celebración de contratos | I18: ="Posibilidad de recibir o solicitar cualquier dádiva o beneficio a nombre propio o de terceros, con el fin de "&J18 -> Posibilidad de recibir o solicitar cualquier dádiva o beneficio a nombre propio o de terceros, con el fin de celebrar contratos de bienes y servicios innecesarios, que no cumplan con los requisitos previstos, o con violación al régimen contractual dispuesto en normas legales y/o constitucionales | J18: celebrar contratos de bienes y servicios innecesarios, que no cumplan con los requisitos previstos, o con violación al régimen contractual dispuesto en normas legales y/o constitucionales | K18: CA_1 | L18: Evaluación subjetiva de necesidades contractuales de la entidad | M18: 1) Pérdida de imagen reputacional y credibilidad institucional 2) Implicaciones a nivel penal, disciplinario, fiscal o sancionatorio 3) Demandas de la ciudadanía 4) Productos y/o servicios sin las características requeridas al interior de la entidad 5) Reprocesos contractuales 6) Dificultades para los ejerciciosde supervisión contractual 7) Detrimento Patrimonial | N18: El evento podrá ocurrir en algún momento | O18: =IF(N18="","",IF(OR($N18=Tabla_Probabilidad!$D$20,$N18=Tabla_Probabilidad!$J$20),"Muy Baja",IF(OR($N18=Tabla_Probabilidad!$E$20,$N18=Tabla_Probabilidad!$K$20),"Baja",IF(OR($N18=Tabla_Probabilidad!$F$20,$N18=Tabla_Probabilidad!$L$20),"Media",IF(OR($N18=Tabla_Probabilidad!$G$20,$N18=Tabla_Probabilidad!$M$20),"Alta",IF(OR($N18=Tabla_Probabilidad!$H$20,$N18=Tabla_Probabilidad!$N$20),"Muy Alta")))))) -> Media | P18: =IF(O18="Muy Baja",1,IF(O18="Baja",2,IF(O18="Media",3,IF(O18="Alta",4,IF(O18="Muy Alta",5,""))))) -> 3 | Q18: =IFERROR(IF($C18="Corrupción",HYPERLINK("#"&"Impacto_Riesgos!C"&MATCH($B18,Impacto_Riesgos!$B$10:$B$138,0)+9,"Calcula el impacto aquí"),"")," ") -> Calcula el impacto aquí | R18: =IFERROR(VLOOKUP(A18,Impacto_Riesgos!$A$8:$W$138,23,),"NA") -> 15 | S18: De doce (12) a diecinueve (19) respuestas afirmativas. Genera consecuencias desastrosas para la entidad | T18: =IF($S18='Tabla Impacto'!$F$10,"Moderado",IF($S18='Tabla Impacto'!$G$10,"Mayor",IF($S18='Tabla Impacto'!$H$10,"Catastrófico",""))) -> Catastrófico | U18: =IF(T18="Leve",1,IF(T18="Menor",2,IF(T18="Moderado",3,IF(T18="Mayor",4,IF(T18="Catastrófico",5,""))))) -> 5 | V18: =IF(OR(AND($O18="Muy Baja",T18="Leve"),AND($O18="Muy Baja",T18="Menor"),AND($O18="Baja",T18="Leve"),AND($O18="Baja",T18="Menor"),AND($O18="Media",T18="Leve")),"Bajo",IF(OR(AND($O18="Muy baja",T18="Moderado"),AND($O18="Baja",T18="Moderado"),AND($O18="Media",T18="Menor"),AND($O18="Alta",T18="Leve")),"Moderado",IF(OR(AND($O18="Muy Baja",T18="Mayor"),AND($O18="Baja",T18="Mayor"),AND($O18="Media",T18="Moderado"),AND($O18="Alta",T18="Menor"),AND($O18="Alta",T18="Moderado"),AND($O18="Muy Alta",T18="Leve"),AND($O18="Muy Alta",T18="Menor")),"Alto",IF(OR(AND($O18="Muy Baja",T18="Catastrófico"),AND($O18="Baja",T18="Catastrófico"),AND($O18="Media",T18="Mayor"),AND($O18="Media",T18="Catastrófico"),AND($O18="Alta",T18="Mayor"),AND($O18="Alta",T18="Catastrófico"),AND($O18="Muy Alta",T18="Moderado"),AND($O18="Muy Alta",T18="Mayor"),AND($O18="Muy Alta",T18="Catastrófico")),"Extremo","")))) -> Extremo | W18: C1 | X18: Verificación de necesidades contractuales en Comité de Contratación | Y18: El Comité de Contratación, con secretaría técnica de la Gerencia de Contratos, verifica que las necesidades contractuales que presentan las áreas sean prioritarias, estén acordes con la líneas de contratación y que no excedan los montos de gastos por áreas, a fin de ser incorporarlo o no en el Plan Anual de Adquisiciones de acuerdo con las justificaciones expuestas por las dependencias. En caso de requerir ajustes o eliminar lineas de contratación, estas se realizarán en el transcurso del comité, hasta lograr la aprobación del Plan Anual de Adquisiciones | Z18: P-BS1-023 Procedimiento Elaboración y Actualización del Plan Anual de Adquisiciones | AA18: G. Contratos | AB18: Asignado | AC18: Adecuado | AD18: Oportuna | AE18: Prevenir | AF18: Confiable | AG18: Oportuna | AH18: Completa | AI18: =IF(COUNTBLANK(AB18:AH18)=7,"",IF($AB18="Asignado",15,0)+IF($AC18="Adecuado",15,0)+IF($AD18="Oportuna",15,0)+IF($AE18="Prevenir",15,0)+IF($AE18="Detectar",10,0)+IF($AF18="Confiable",15,0)+IF($AG18="Oportuna",15,0)+IF($AH18="Completa",10,0)+IF($AH18="Incompleta",5,0)) -> 100 | AJ18: =IF(COUNTBLANK(AB18:AH18)=7,"",IF($AI18<86,"Débil",IF($AI18<96,"Moderado","Fuerte"))) -> Fuerte | AK18: Fuerte | AL18: =IFERROR(VLOOKUP(AJ18&AK18,Tabla_Controles!$B$56:$G$65,5,FALSE),"") -> Fuerte | AM18: =IF($AL18="","",IF($AL18="Fuerte",100,IF($AL18="Moderado",50,0))) -> 100 | AN18: =IFERROR(AVERAGE(AM18:AM24),"") -> 66.666667 | AO18: =IF($AN18=100,"Fuerte",IF($AN18<100,"Moderado",IF($AN18<50,"Débil",IF($AN18=0,"","")))) -> Moderado | AP18: Directamente | AQ18: =IFERROR(P18-VLOOKUP(AO18&AP18,Tabla_Controles!$B$77:$E$83,4,0),"") -> 2 | AR18: =IF($AQ18="","",IF($AQ18=1,"Muy Baja",IF($AQ18=2,"Baja",IF($AQ18=3,"Media",IF($AQ18=4,"Alta",IF($AQ18=5,"Muy Alta","Muy Baja")))))) -> Baja | AS18: =T18 -> Catastrófico | AT18: =IF(OR(AND($AR18="Muy Baja",$AS18="Leve"),AND($AR18="Muy Baja",$AS18="Menor"),AND($AR18="Baja",$AS18="Leve"),AND($AR18="Baja",$AS18="Menor"),AND($AR18="Media",$AS18="Leve")),"Bajo",IF(OR(AND($AR18="Muy baja",$AS18="Moderado"),AND($AR18="Baja",$AS18="Moderado"),AND($AR18="Media",$AS18="Menor"),AND($AR18="Alta",$AS18="Leve")),"Moderado",IF(OR(AND($AR18="Muy Baja",$AS18="Mayor"),AND($AR18="Baja",$AS18="Mayor"),AND($AR18="Media",$AS18="Moderado"),AND($AR18="Alta",$AS18="Menor"),AND($AR18="Alta",$AS18="Moderado"),AND($AR18="Muy Alta",$AS18="Leve"),AND($AR18="Muy Alta",$AS18="Menor")),"Alto",IF(OR(AND($AR18="Muy Baja",$AS18="Catastrófico"),AND($AR18="Baja",$AS18="Catastrófico"),AND($AR18="Media",$AS18="Mayor"),AND($AR18="Media",$AS18="Catastrófico"),AND($AR18="Alta",$AS18="Mayor"),AND($AR18="Alta",$AS18="Catastrófico"),AND($AR18="Muy Alta",$AS18="Moderado"),AND($AR18="Muy Alta",$AS18="Mayor"),AND($AR18="Muy Alta",$AS18="Catastrófico")),"Extremo","")))) -> Extremo | AU18: Reducir (Mitigar) | AV18: T1 | AW18: Realizar capacitación del manual de contratación y las responsabilidades de los involucrados en las etapas pre-contractuales, contractuales y post-contractuales | AX18: Listado de asistencia | AY18: G. Contratos | AZ18: 45122 | BA18: 45214 | BB18: 1) Informar riesgo de corrupción detectado a la Oficina Asesora de Planeación, con el diseño del plan de tratamiento 2) Informar evento presentado a la Gerencia de Talento Humano 3) La Gerencia de Talento Humano realiza el proceso de investigación disciplinario 4) La Oficina Asesora de Planeación informa a Comité Directivo y de Control Interno posibles materializaciones de riesgos de Corrupción 5) Informar eventos presentados a entes de control con base en resultados de investigación disciplinaria 6) Implementar el plan de tratamiento de mitigación de riesgos diseñado para el evento presentado | BC18: C1 | BG18: T6
B19: 6 | K19: CA_2 | L19: No revisar la totalidad de documentación que habilite técnicamente, financieramente y jurídicamente a los potenciales contratistas a participar en el proceso de selección de proveedores | W19: C2 | X19: Verificación de Requisitos Técnicos, Jurídicos y Financieros Habilitantes | Y19: Los profesionales delegados como equipo evaluador verifican el cumplimiento de requisitos habilitantes técnicos, jurídicos y financieros establecidos en la convocatoria vigente, dejando registro en una lista de chequeo o informe de verificación de requisitos de toda la información presentada. En caso de requerirse aclaraciones a los evaluados, se solicitaran a través de la Gerencia de Contratos para subsanación en caso de ser posible | Z19: Procedimientos Contractuales (P-BS2-025, P-BS2-028, P-BS2-029, P-BS2-103;P-BS2-181) | AA19: Todas las áreas | AB19: Asignado | AC19: Adecuado | AD19: Oportuna | AE19: Detectar | AF19: Confiable | AG19: Oportuna | AH19: Completa | AI19: =IF(COUNTBLANK(AB19:AH19)=7,"",IF($AB19="Asignado",15,0)+IF($AC19="Adecuado",15,0)+IF($AD19="Oportuna",15,0)+IF($AE19="Prevenir",15,0)+IF($AE19="Detectar",10,0)+IF($AF19="Confiable",15,0)+IF($AG19="Oportuna",15,0)+IF($AH19="Completa",10,0)+IF($AH19="Incompleta",5,0)) -> 95 | AJ19: =IF(COUNTBLANK(AB19:AH19)=7,"",IF($AI19<86,"Débil",IF($AI19<96,"Moderado","Fuerte"))) -> Moderado | AK19: Fuerte | AL19: =IFERROR(VLOOKUP(AJ19&AK19,Tabla_Controles!$B$56:$G$65,5,FALSE),"") -> Moderado | AM19: =IF($AL19="","",IF($AL19="Fuerte",100,IF($AL19="Moderado",50,0))) -> 50 | AV19: T2 | AW19: Publicar cada vez que sea requerido los términos de referencia y/o pliegos de condiciones de los servicios o productos a contratar para observaciones de los ciudadanos y/o interesados en cada proceso a fin de establecer condiciones equitativas para la participación del proceso | AX19: Términos de refencia y/o pliegos de condiciones publicados | AY19: G. Contratos | AZ19: Todos los meses | BA19: 15/04/2023 15/07/2023 15/10/2023 31/12/2023 | BC19: C2 | BG19: T7
B20: 6 | K20: CA_3 | L20: Evaluaciones incompletas o sesgadas de los potenciales contratistas | W20: C3 | X20: Verificación de evaluaciones por Comité de Contratación | Y20: El Comité de Contratación, con secretaría técnica de la Gerencia de Contratos, verifica que el informe de verificación de requisitos habilitantes y ponderación de propuestas según modalidad de contratación, esté completo y cumpla con los requerimientos exigibles para proceder a su aprobación. En caso de identificar inconsistencias, desviaciones o necesidad de ajustes se devuelve el informe de evaluación a los evaluadores para realizar los ajustes requeridos. | Z20: Procedimientos Contractuales (P-BS2-025, P-BS2-028, P-BS2-029, P-BS2-103;P-BS2-181) | AA20: G. Contratos | AB20: Asignado | AC20: Adecuado | AD20: Oportuna | AE20: Detectar | AF20: Confiable | AG20: Oportuna | AH20: Completa | AI20: =IF(COUNTBLANK(AB20:AH20)=7,"",IF($AB20="Asignado",15,0)+IF($AC20="Adecuado",15,0)+IF($AD20="Oportuna",15,0)+IF($AE20="Prevenir",15,0)+IF($AE20="Detectar",10,0)+IF($AF20="Confiable",15,0)+IF($AG20="Oportuna",15,0)+IF($AH20="Completa",10,0)+IF($AH20="Incompleta",5,0)) -> 95 | AJ20: =IF(COUNTBLANK(AB20:AH20)=7,"",IF($AI20<86,"Débil",IF($AI20<96,"Moderado","Fuerte"))) -> Moderado | AK20: Fuerte | AL20: =IFERROR(VLOOKUP(AJ20&AK20,Tabla_Controles!$B$56:$G$65,5,FALSE),"") -> Moderado | AM20: =IF($AL20="","",IF($AL20="Fuerte",100,IF($AL20="Moderado",50,0))) -> 50 | AV20: T3 | AW20: NA | AX20: NA | AY20: NA | AZ20: NA | BA20: NA | BC20: C3 | BG20: T1
B21: 6 | K21: CA_4 | W21: C4 | AI21: =IF(COUNTBLANK(AB21:AH21)=7,"",IF($AB21="Asignado",15,0)+IF($AC21="Adecuado",15,0)+IF($AD21="Oportuna",15,0)+IF($AE21="Prevenir",15,0)+IF($AE21="Detectar",10,0)+IF($AF21="Confiable",15,0)+IF($AG21="Oportuna",15,0)+IF($AH21="Completa",10,0)+IF($AH21="Incompleta",5,0)) | AJ21: =IF(COUNTBLANK(AB21:AH21)=7,"",IF($AI21<86,"Débil",IF($AI21<96,"Moderado","Fuerte"))) | AL21: =IFERROR(VLOOKUP(AJ21&AK21,Tabla_Controles!$B$56:$G$65,5,FALSE),"") | AM21: =IF($AL21="","",IF($AL21="Fuerte",100,IF($AL21="Moderado",50,0))) | AV21: T4 | BC21: C4 | BG21: T2
B22: 6 | K22: CA_5 | W22: C5 | AI22: =IF(COUNTBLANK(AB22:AH22)=7,"",IF($AB22="Asignado",15,0)+IF($AC22="Adecuado",15,0)+IF($AD22="Oportuna",15,0)+IF($AE22="Prevenir",15,0)+IF($AE22="Detectar",10,0)+IF($AF22="Confiable",15,0)+IF($AG22="Oportuna",15,0)+IF($AH22="Completa",10,0)+IF($AH22="Incompleta",5,0)) | AJ22: =IF(COUNTBLANK(AB22:AH22)=7,"",IF($AI22<86,"Débil",IF($AI22<96,"Moderado","Fuerte"))) | AL22: =IFERROR(VLOOKUP(AJ22&AK22,Tabla_Controles!$B$56:$G$65,5,FALSE),"") | AM22: =IF($AL22="","",IF($AL22="Fuerte",100,IF($AL22="Moderado",50,0))) | AV22: T5 | BC22: C5 | BG22: T3
B23: 6 | K23: CA_6 | W23: C6 | AI23: =IF(COUNTBLANK(AB23:AH23)=7,"",IF($AB23="Asignado",15,0)+IF($AC23="Adecuado",15,0)+IF($AD23="Oportuna",15,0)+IF($AE23="Prevenir",15,0)+IF($AE23="Detectar",10,0)+IF($AF23="Confiable",15,0)+IF($AG23="Oportuna",15,0)+IF($AH23="Completa",10,0)+IF($AH23="Incompleta",5,0)) | AJ23: =IF(COUNTBLANK(AB23:AH23)=7,"",IF($AI23<86,"Débil",IF($AI23<96,"Moderado","Fuerte"))) | AL23: =IFERROR(VLOOKUP(AJ23&AK23,Tabla_Controles!$B$56:$G$65,5,FALSE),"") | AM23: =IF($AL23="","",IF($AL23="Fuerte",100,IF($AL23="Moderado",50,0))) | AV23: T6 | BC23: C6 | BG23: T4
B24: 6 | K24: CA_7 | W24: C7 | AI24: =IF(COUNTBLANK(AB24:AH24)=7,"",IF($AB24="Asignado",15,0)+IF($AC24="Adecuado",15,0)+IF($AD24="Oportuna",15,0)+IF($AE24="Prevenir",15,0)+IF($AE24="Detectar",10,0)+IF($AF24="Confiable",15,0)+IF($AG24="Oportuna",15,0)+IF($AH24="Completa",10,0)+IF($AH24="Incompleta",5,0)) | AJ24: =IF(COUNTBLANK(AB24:AH24)=7,"",IF($AI24<86,"Débil",IF($AI24<96,"Moderado","Fuerte"))) | AL24: =IFERROR(VLOOKUP(AJ24&AK24,Tabla_Controles!$B$56:$G$65,5,FALSE),"") | AM24: =IF($AL24="","",IF($AL24="Fuerte",100,IF($AL24="Moderado",50,0))) | AV24: T7 | BC24: C7 | BG24: T5
A25: =C25&COUNTIF($C$10:C25,C25) -> Corrupción3 | B25: 10 | C25: Corrupción | D25: Fraude interno | E25: Gestión_Jurídica | F25: Defensa judicial | G25: Garantizar la seguridad jurídica de todas las actuaciones de SAE, atendiendo oportunamente los requerimientos realizados por las autoridades judiciales | H25: Denuncias | I25: ="Posibilidad de recibir o solicitar cualquier dádiva o beneficio a nombre propio o de terceros, con el fin de "&J25 -> Posibilidad de recibir o solicitar cualquier dádiva o beneficio a nombre propio o de terceros, con el fin de abstenerse de informar o de poner en conocimiento presuntas conductas delictivas o antiéticas a investigar por las autoridades respectivas | J25: abstenerse de informar o de poner en conocimiento presuntas conductas delictivas o antiéticas a investigar por las autoridades respectivas | K25: CA_1 | L25: Desconocimiento de la normatividad que exige la denuncia de las conductas delictivas | M25: 1) Pérdida de imagen reputacional y credibilidad institucional 2) Implicaciones a nivel penal, disciplinario, fiscal o sancionatorio 3) Demandas de la ciudadanía 4) Continuidad de conductas delictivas no informadas | N25: El evento podrá ocurrir en algún momento | O25: =IF(N25="","",IF(OR($N25=Tabla_Probabilidad!$D$20,$N25=Tabla_Probabilidad!$J$20),"Muy Baja",IF(OR($N25=Tabla_Probabilidad!$E$20,$N25=Tabla_Probabilidad!$K$20),"Baja",IF(OR($N25=Tabla_Probabilidad!$F$20,$N25=Tabla_Probabilidad!$L$20),"Media",IF(OR($N25=Tabla_Probabilidad!$G$20,$N25=Tabla_Probabilidad!$M$20),"Alta",IF(OR($N25=Tabla_Probabilidad!$H$20,$N25=Tabla_Probabilidad!$N$20),"Muy Alta")))))) -> Media | P25: =IF(O25="Muy Baja",1,IF(O25="Baja",2,IF(O25="Media",3,IF(O25="Alta",4,IF(O25="Muy Alta",5,""))))) -> 3 | Q25: =IFERROR(IF($C25="Corrupción",HYPERLINK("#"&"Impacto_Riesgos!C"&MATCH($B25,Impacto_Riesgos!$B$10:$B$138,0)+9,"Calcula el impacto aquí"),"")," ") -> Calcula el impacto aquí | R25: =IFERROR(VLOOKUP(A25,Impacto_Riesgos!$A$8:$W$138,23,),"NA") -> 15 | S25: De doce (12) a diecinueve (19) respuestas afirmativas. Genera consecuencias desastrosas para la entidad | T25: =IF($S25='Tabla Impacto'!$F$10,"Moderado",IF($S25='Tabla Impacto'!$G$10,"Mayor",IF($S25='Tabla Impacto'!$H$10,"Catastrófico",""))) -> Catastrófico | U25: =IF(T25="Leve",1,IF(T25="Menor",2,IF(T25="Moderado",3,IF(T25="Mayor",4,IF(T25="Catastrófico",5,""))))) -> 5 | V25: =IF(OR(AND($O25="Muy Baja",T25="Leve"),AND($O25="Muy Baja",T25="Menor"),AND($O25="Baja",T25="Leve"),AND($O25="Baja",T25="Menor"),AND($O25="Media",T25="Leve")),"Bajo",IF(OR(AND($O25="Muy baja",T25="Moderado"),AND($O25="Baja",T25="Moderado"),AND($O25="Media",T25="Menor"),AND($O25="Alta",T25="Leve")),"Moderado",IF(OR(AND($O25="Muy Baja",T25="Mayor"),AND($O25="Baja",T25="Mayor"),AND($O25="Media",T25="Moderado"),AND($O25="Alta",T25="Menor"),AND($O25="Alta",T25="Moderado"),AND($O25="Muy Alta",T25="Leve"),AND($O25="Muy Alta",T25="Menor")),"Alto",IF(OR(AND($O25="Muy Baja",T25="Catastrófico"),AND($O25="Baja",T25="Catastrófico"),AND($O25="Media",T25="Mayor"),AND($O25="Media",T25="Catastrófico"),AND($O25="Alta",T25="Mayor"),AND($O25="Alta",T25="Catastrófico"),AND($O25="Muy Alta",T25="Moderado"),AND($O25="Muy Alta",T25="Mayor"),AND($O25="Muy Alta",T25="Catastrófico")),"Extremo","")))) -> Extremo | W25: C1 | X25: Identificación de necesidades de capacitación | Y25: El Gerente de Asuntos Legales verifica e identifica anualmente las necesidades de capacitación con relación a temáticas del orden legal, incluyendo la gestión de denuncias, a fin de brindar los lineamientos y herramientas necesarias para disminuir el daño antijuridico de la entidad. | Z25: P-GT2-036 Diseño y Ejecución del Plan Empresarial de Capacitación PEC | AA25: G. Asuntos Legales | AB25: Asignado | AC25: Adecuado | AD25: Oportuna | AE25: Prevenir | AF25: Confiable | AG25: Oportuna | AH25: Completa | AI25: =IF(COUNTBLANK(AB25:AH25)=7,"",IF($AB25="Asignado",15,0)+IF($AC25="Adecuado",15,0)+IF($AD25="Oportuna",15,0)+IF($AE25="Prevenir",15,0)+IF($AE25="Detectar",10,0)+IF($AF25="Confiable",15,0)+IF($AG25="Oportuna",15,0)+IF($AH25="Completa",10,0)+IF($AH25="Incompleta",5,0)) -> 100 | AJ25: =IF(COUNTBLANK(AB25:AH25)=7,"",IF($AI25<86,"Débil",IF($AI25<96,"Moderado","Fuerte"))) -> Fuerte | AK25: Fuerte | AL25: =IFERROR(VLOOKUP(AJ25&AK25,Tabla_Controles!$B$56:$G$65,5,FALSE),"") -> Fuerte | AM25: =IF($AL25="","",IF($AL25="Fuerte",100,IF($AL25="Moderado",50,0))) -> 100 | AN25: =IFERROR(AVERAGE(AM25:AM31),"") -> 66.666667 | AO25: =IF($AN25=100,"Fuerte",IF($AN25<100,"Moderado",IF($AN25<50,"Débil",IF($AN25=0,"","")))) -> Moderado | AP25: Directamente | AQ25: =IFERROR(P25-VLOOKUP(AO25&AP25,Tabla_Controles!$B$77:$E$83,4,0),"") -> 2 | AR25: =IF($AQ25="","",IF($AQ25=1,"Muy Baja",IF($AQ25=2,"Baja",IF($AQ25=3,"Media",IF($AQ25=4,"Alta",IF($AQ25=5,"Muy Alta","Muy Baja")))))) -> Baja | AS25: =T25 -> Catastrófico | AT25: =IF(OR(AND($AR25="Muy Baja",$AS25="Leve"),AND($AR25="Muy Baja",$AS25="Menor"),AND($AR25="Baja",$AS25="Leve"),AND($AR25="Baja",$AS25="Menor"),AND($AR25="Media",$AS25="Leve")),"Bajo",IF(OR(AND($AR25="Muy baja",$AS25="Moderado"),AND($AR25="Baja",$AS25="Moderado"),AND($AR25="Media",$AS25="Menor"),AND($AR25="Alta",$AS25="Leve")),"Moderado",IF(OR(AND($AR25="Muy Baja",$AS25="Mayor"),AND($AR25="Baja",$AS25="Mayor"),AND($AR25="Media",$AS25="Moderado"),AND($AR25="Alta",$AS25="Menor"),AND($AR25="Alta",$AS25="Moderado"),AND($AR25="Muy Alta",$AS25="Leve"),AND($AR25="Muy Alta",$AS25="Menor")),"Alto",IF(OR(AND($AR25="Muy Baja",$AS25="Catastrófico"),AND($AR25="Baja",$AS25="Catastrófico"),AND($AR25="Media",$AS25="Mayor"),AND($AR25="Media",$AS25="Catastrófico"),AND($AR25="Alta",$AS25="Mayor"),AND($AR25="Alta",$AS25="Catastrófico"),AND($AR25="Muy Alta",$AS25="Moderado"),AND($AR25="Muy Alta",$AS25="Mayor"),AND($AR25="Muy Alta",$AS25="Catastrófico")),"Extremo","")))) -> Extremo | AU25: Reducir (Mitigar) | AV25: T1 | AW25: Brindar capacitación en gestión de denuncias | AX25: Listado de asistencia | AY25: G. Asuntos Legales | AZ25: 45260 | BA25: 45291 | BB25: 1) Informar riesgo de corrupción detectado a la Oficina Asesora de Planeación, con el diseño del plan de tratamiento 2) Informar evento presentado a la Gerencia de Talento Humano 3) La Gerencia de Talento Humano realiza el proceso de investigación disciplinario 4) La Oficina Asesora de Planeación informa a Comité Directivo y de Control Interno posibles materializaciones de riesgos de Corrupción 5) Informar eventos presentados a entes de control con base en resultados de investigación disciplinaria 6) Implementar el plan de tratamiento de mitigación de riesgos diseñado para el evento presentado | BC25: C1 | BG25: T6
B26: 10 | K26: CA_2 | L26: Ausencia o debilidades en los canales formales para recepción de denuncias | W26: C2 | X26: Validación de PQRS radicados por la ciudadanía | Y26: El profesional delegado de la Oficina de Comunicaciones y Atención al Ciudadano valida las PQRS allegadas a la Entidad, verificandoel tipo de solicitud y los soportes allegados, con el fin de direccionar todas las denuncias a la Gerencia de Asuntos Legales para su respectivo estudio. En caso que el ciudadano no aporte los documentos requeridos, se deberá solicitar antes de radicar la comunicación, la información faltante vía correo electrónico para poder brindar una respuesta oportuna. | Z26: P-CA2-033 Procedimiento de seguimiento y control a requerimientos | AA26: O. Comunicaciones y Atención al Ciudadano | AB26: Asignado | AC26: Adecuado | AD26: Oportuna | AE26: Detectar | AF26: Confiable | AG26: Oportuna | AH26: Completa | AI26: =IF(COUNTBLANK(AB26:AH26)=7,"",IF($AB26="Asignado",15,0)+IF($AC26="Adecuado",15,0)+IF($AD26="Oportuna",15,0)+IF($AE26="Prevenir",15,0)+IF($AE26="Detectar",10,0)+IF($AF26="Confiable",15,0)+IF($AG26="Oportuna",15,0)+IF($AH26="Completa",10,0)+IF($AH26="Incompleta",5,0)) -> 95 | AJ26: =IF(COUNTBLANK(AB26:AH26)=7,"",IF($AI26<86,"Débil",IF($AI26<96,"Moderado","Fuerte"))) -> Moderado | AK26: Fuerte | AL26: =IFERROR(VLOOKUP(AJ26&AK26,Tabla_Controles!$B$56:$G$65,5,FALSE),"") -> Moderado | AM26: =IF($AL26="","",IF($AL26="Fuerte",100,IF($AL26="Moderado",50,0))) -> 50 | AV26: T2 | AW26: Implementar canal de recepción de denuncias de forma exclusiva | AX26: Canal de denuncias implementado | AY26: G. Asuntos Legales | AZ26: 45260 | BA26: 45291 | BC26: C2 | BG26: T7
B27: 10 | K27: CA_3 | L27: Temor a repercusiones en la estabilidad laboral | W27: C3 | X27: Verificación de denuncias realizadas a colaboradores de la empresa | Y27: El Gerente de Talento Humano verifica denuncias notificadas de hechos potenciales de corrupción interpuestas a colaboradores de la SAE, a fin de validar los hechos de las presuntas faltas cometidas, y las evidencias presentadas por el colaborador que se encuentra en la diligencia de descargos, garantizando siempre el debido proceso. Con base en el resultado de la investigación, se aplican los procesos disciplinarios y sanciones a las que haya lugar cuando aplique. | Z27: P-GT1-115 Procedimiento Disciplinario Laboral | AA27: G. Talento Humano | AB27: Asignado | AC27: Adecuado | AD27: Oportuna | AE27: Detectar | AF27: Confiable | AG27: Oportuna | AH27: Completa | AI27: =IF(COUNTBLANK(AB27:AH27)=7,"",IF($AB27="Asignado",15,0)+IF($AC27="Adecuado",15,0)+IF($AD27="Oportuna",15,0)+IF($AE27="Prevenir",15,0)+IF($AE27="Detectar",10,0)+IF($AF27="Confiable",15,0)+IF($AG27="Oportuna",15,0)+IF($AH27="Completa",10,0)+IF($AH27="Incompleta",5,0)) -> 95 | AJ27: =IF(COUNTBLANK(AB27:AH27)=7,"",IF($AI27<86,"Débil",IF($AI27<96,"Moderado","Fuerte"))) -> Moderado | AK27: Fuerte | AL27: =IFERROR(VLOOKUP(AJ27&AK27,Tabla_Controles!$B$56:$G$65,5,FALSE),"") -> Moderado | AM27: =IF($AL27="","",IF($AL27="Fuerte",100,IF($AL27="Moderado",50,0))) -> 50 | AV27: T3 | AW27: Realizar capacitación sobre los efectos penales en los que incurre los colaboradores de SAE | AX27: Listado de asistencia | AY27: G. Asuntos Legales | AZ27: 45260 | BA27: 45291 | BC27: C3 | BG27: T1
B28: 10 | K28: CA_4 | W28: C4 | AI28: =IF(COUNTBLANK(AB28:AH28)=7,"",IF($AB28="Asignado",15,0)+IF($AC28="Adecuado",15,0)+IF($AD28="Oportuna",15,0)+IF($AE28="Prevenir",15,0)+IF($AE28="Detectar",10,0)+IF($AF28="Confiable",15,0)+IF($AG28="Oportuna",15,0)+IF($AH28="Completa",10,0)+IF($AH28="Incompleta",5,0)) | AJ28: =IF(COUNTBLANK(AB28:AH28)=7,"",IF($AI28<86,"Débil",IF($AI28<96,"Moderado","Fuerte"))) | AL28: =IFERROR(VLOOKUP(AJ28&AK28,Tabla_Controles!$B$56:$G$65,5,FALSE),"") | AM28: =IF($AL28="","",IF($AL28="Fuerte",100,IF($AL28="Moderado",50,0))) | AV28: T4 | BC28: C4 | BG28: T2
B29: 10 | K29: CA_5 | W29: C5 | AI29: =IF(COUNTBLANK(AB29:AH29)=7,"",IF($AB29="Asignado",15,0)+IF($AC29="Adecuado",15,0)+IF($AD29="Oportuna",15,0)+IF($AE29="Prevenir",15,0)+IF($AE29="Detectar",10,0)+IF($AF29="Confiable",15,0)+IF($AG29="Oportuna",15,0)+IF($AH29="Completa",10,0)+IF($AH29="Incompleta",5,0)) | AJ29: =IF(COUNTBLANK(AB29:AH29)=7,"",IF($AI29<86,"Débil",IF($AI29<96,"Moderado","Fuerte"))) | AL29: =IFERROR(VLOOKUP(AJ29&AK29,Tabla_Controles!$B$56:$G$65,5,FALSE),"") | AM29: =IF($AL29="","",IF($AL29="Fuerte",100,IF($AL29="Moderado",50,0))) | AV29: T5 | BC29: C5 | BG29: T3
B30: 10 | K30: CA_6 | W30: C6 | AI30: =IF(COUNTBLANK(AB30:AH30)=7,"",IF($AB30="Asignado",15,0)+IF($AC30="Adecuado",15,0)+IF($AD30="Oportuna",15,0)+IF($AE30="Prevenir",15,0)+IF($AE30="Detectar",10,0)+IF($AF30="Confiable",15,0)+IF($AG30="Oportuna",15,0)+IF($AH30="Completa",10,0)+IF($AH30="Incompleta",5,0)) | AJ30: =IF(COUNTBLANK(AB30:AH30)=7,"",IF($AI30<86,"Débil",IF($AI30<96,"Moderado","Fuerte"))) | AL30: =IFERROR(VLOOKUP(AJ30&AK30,Tabla_Controles!$B$56:$G$65,5,FALSE),"") | AM30: =IF($AL30="","",IF($AL30="Fuerte",100,IF($AL30="Moderado",50,0))) | AV30: T6 | BC30: C6 | BG30: T4
B31: 10 | K31: CA_7 | W31: C7 | AI31: =IF(COUNTBLANK(AB31:AH31)=7,"",IF($AB31="Asignado",15,0)+IF($AC31="Adecuado",15,0)+IF($AD31="Oportuna",15,0)+IF($AE31="Prevenir",15,0)+IF($AE31="Detectar",10,0)+IF($AF31="Confiable",15,0)+IF($AG31="Oportuna",15,0)+IF($AH31="Completa",10,0)+IF($AH31="Incompleta",5,0)) | AJ31: =IF(COUNTBLANK(AB31:AH31)=7,"",IF($AI31<86,"Débil",IF($AI31<96,"Moderado","Fuerte"))) | AL31: =IFERROR(VLOOKUP(AJ31&AK31,Tabla_Controles!$B$56:$G$65,5,FALSE),"") | AM31: =IF($AL31="","",IF($AL31="Fuerte",100,IF($AL31="Moderado",50,0))) | AV31: T7 | BC31: C7 | BG31: T5
A32: =C32&COUNTIF($C$10:C32,C32) -> Corrupción4 | B32: 11 | C32: Corrupción | D32: Fraude interno | E32: Tecnología | F32: Seguridad de la Información | G32: Buscar que los principios de disponibilidad, integridad y confidencialidad de la información se cumplan por parte de los usuarios, proveedores, terceros y contratistas, así como realizar la gestión de riesgos periódicamente para mantener los activos de información protegidos | H32: Gestión de la información | I32: ="Posibilidad de recibir o solicitar cualquier dádiva o beneficio a nombre propio o de terceros, con el fin de "&J32 -> Posibilidad de recibir o solicitar cualquier dádiva o beneficio a nombre propio o de terceros, con el fin de dar uso indebido o ilícito de información confidencial, privilegiada o reservada relativa a los procesos que adelanta la SAE así como de sus sistemas de información | J32: dar uso indebido o ilícito de información confidencial, privilegiada o reservada relativa a los procesos que adelanta la SAE así como de sus sistemas de información | K32: CA_1 | L32: Posibles retrasos en la implementación completa de las políticas de accesibilidad y seguridad de la información en la entidad | M32: 1) Pérdida de imagen reputacional y credibilidad institucional 2) Implicaciones a nivel penal, disciplinario, fiscal o sancionatorio 3) Demandas de la ciudadanía | N32: Es viable que el evento ocurra en la mayoría de las circunstancias | O32: =IF(N32="","",IF(OR($N32=Tabla_Probabilidad!$D$20,$N32=Tabla_Probabilidad!$J$20),"Muy Baja",IF(OR($N32=Tabla_Probabilidad!$E$20,$N32=Tabla_Probabilidad!$K$20),"Baja",IF(OR($N32=Tabla_Probabilidad!$F$20,$N32=Tabla_Probabilidad!$L$20),"Media",IF(OR($N32=Tabla_Probabilidad!$G$20,$N32=Tabla_Probabilidad!$M$20),"Alta",IF(OR($N32=Tabla_Probabilidad!$H$20,$N32=Tabla_Probabilidad!$N$20),"Muy Alta")))))) -> Alta | P32: =IF(O32="Muy Baja",1,IF(O32="Baja",2,IF(O32="Media",3,IF(O32="Alta",4,IF(O32="Muy Alta",5,""))))) -> 4 | Q32: =IFERROR(IF($C32="Corrupción",HYPERLINK("#"&"Impacto_Riesgos!C"&MATCH($B32,Impacto_Riesgos!$B$10:$B$138,0)+9,"Calcula el impacto aquí"),"")," ") -> Calcula el impacto aquí | R32: =IFERROR(VLOOKUP(A32,Impacto_Riesgos!$A$8:$W$138,23,),"NA") -> 15 | S32: De doce (12) a diecinueve (19) respuestas afirmativas. Genera consecuencias desastrosas para la entidad | T32: =IF($S32='Tabla Impacto'!$F$10,"Moderado",IF($S32='Tabla Impacto'!$G$10,"Mayor",IF($S32='Tabla Impacto'!$H$10,"Catastrófico",""))) -> Catastrófico | U32: =IF(T32="Leve",1,IF(T32="Menor",2,IF(T32="Moderado",3,IF(T32="Mayor",4,IF(T32="Catastrófico",5,""))))) -> 5 | V32: =IF(OR(AND($O32="Muy Baja",T32="Leve"),AND($O32="Muy Baja",T32="Menor"),AND($O32="Baja",T32="Leve"),AND($O32="Baja",T32="Menor"),AND($O32="Media",T32="Leve")),"Bajo",IF(OR(AND($O32="Muy baja",T32="Moderado"),AND($O32="Baja",T32="Moderado"),AND($O32="Media",T32="Menor"),AND($O32="Alta",T32="Leve")),"Moderado",IF(OR(AND($O32="Muy Baja",T32="Mayor"),AND($O32="Baja",T32="Mayor"),AND($O32="Media",T32="Moderado"),AND($O32="Alta",T32="Menor"),AND($O32="Alta",T32="Moderado"),AND($O32="Muy Alta",T32="Leve"),AND($O32="Muy Alta",T32="Menor")),"Alto",IF(OR(AND($O32="Muy Baja",T32="Catastrófico"),AND($O32="Baja",T32="Catastrófico"),AND($O32="Media",T32="Mayor"),AND($O32="Media",T32="Catastrófico"),AND($O32="Alta",T32="Mayor"),AND($O32="Alta",T32="Catastrófico"),AND($O32="Muy Alta",T32="Moderado"),AND($O32="Muy Alta",T32="Mayor"),AND($O32="Muy Alta",T32="Catastrófico")),"Extremo","")))) -> Extremo | W32: C1 | X32: Control en la implementación del Sistema de Seguridad de la Información | Y32: El Profesional Especializado III (Oficial de Seguridad) verifica el estado de avance de la implementación del Sistema de Gestión de Seguridad de la Información para garantizar el cumplimiento de la norma a través de la aplicación de la matriz de seguimiento a la ISO 27001. En caso de evidenciar el fortalecimiento documental de las políticas de accesibilidad y seguridad lo informa oportunamente a la Oficina Asesora de Planeación. | Z32: NA | AA32: O. Gestión de la Información | AB32: Asignado | AC32: Adecuado | AD32: Oportuna | AE32: Prevenir | AF32: Confiable | AG32: Oportuna | AH32: Completa | AI32: =IF(COUNTBLANK(AB32:AH32)=7,"",IF($AB32="Asignado",15,0)+IF($AC32="Adecuado",15,0)+IF($AD32="Oportuna",15,0)+IF($AE32="Prevenir",15,0)+IF($AE32="Detectar",10,0)+IF($AF32="Confiable",15,0)+IF($AG32="Oportuna",15,0)+IF($AH32="Completa",10,0)+IF($AH32="Incompleta",5,0)) -> 100 | AJ32: =IF(COUNTBLANK(AB32:AH32)=7,"",IF($AI32<86,"Débil",IF($AI32<96,"Moderado","Fuerte"))) -> Fuerte | AK32: Fuerte | AL32: =IFERROR(VLOOKUP(AJ32&AK32,Tabla_Controles!$B$56:$G$65,5,FALSE),"") -> Fuerte | AM32: =IF($AL32="","",IF($AL32="Fuerte",100,IF($AL32="Moderado",50,0))) -> 100 | AN32: =IFERROR(AVERAGE(AM32:AM38),"") -> 70 | AO32: =IF($AN32=100,"Fuerte",IF($AN32<100,"Moderado",IF($AN32<50,"Débil",IF($AN32=0,"","")))) -> Moderado | AP32: Directamente | AQ32: =IFERROR(P32-VLOOKUP(AO32&AP32,Tabla_Controles!$B$77:$E$83,4,0),"") -> 3 | AR32: =IF($AQ32="","",IF($AQ32=1,"Muy Baja",IF($AQ32=2,"Baja",IF($AQ32=3,"Media",IF($AQ32=4,"Alta",IF($AQ32=5,"Muy Alta","Muy Baja")))))) -> Media | AS32: =T32 -> Catastrófico | AT32: =IF(OR(AND($AR32="Muy Baja",$AS32="Leve"),AND($AR32="Muy Baja",$AS32="Menor"),AND($AR32="Baja",$AS32="Leve"),AND($AR32="Baja",$AS32="Menor"),AND($AR32="Media",$AS32="Leve")),"Bajo",IF(OR(AND($AR32="Muy baja",$AS32="Moderado"),AND($AR32="Baja",$AS32="Moderado"),AND($AR32="Media",$AS32="Menor"),AND($AR32="Alta",$AS32="Leve")),"Moderado",IF(OR(AND($AR32="Muy Baja",$AS32="Mayor"),AND($AR32="Baja",$AS32="Mayor"),AND($AR32="Media",$AS32="Moderado"),AND($AR32="Alta",$AS32="Menor"),AND($AR32="Alta",$AS32="Moderado"),AND($AR32="Muy Alta",$AS32="Leve"),AND($AR32="Muy Alta",$AS32="Menor")),"Alto",IF(OR(AND($AR32="Muy Baja",$AS32="Catastrófico"),AND($AR32="Baja",$AS32="Catastrófico"),AND($AR32="Media",$AS32="Mayor"),AND($AR32="Media",$AS32="Catastrófico"),AND($AR32="Alta",$AS32="Mayor"),AND($AR32="Alta",$AS32="Catastrófico"),AND($AR32="Muy Alta",$AS32="Moderado"),AND($AR32="Muy Alta",$AS32="Mayor"),AND($AR32="Muy Alta",$AS32="Catastrófico")),"Extremo","")))) -> Extremo | AU32: Reducir (Mitigar) | AV32: T1 | AW32: Realizar capacitaciones sobre el uso adecuado de las TIC y seguridad de la información | AX32: Listados de asistencia | AY32: O. Gestión de la Información | AZ32: 45214 | BA32: 45291 | BB32: 1) Informar riesgo de corrupción detectado a la Oficina Asesora de Planeación, con el diseño del plan de tratamiento 2) Informar evento presentado a la Gerencia de Talento Humano 3) La Gerencia de Talento Humano realiza el proceso de investigación disciplinario 4) La Oficina Asesora de Planeación informa a Comité Directivo y de Control Interno posibles materializaciones de riesgos de Corrupción 5) Informar eventos presentados a entes de control con base en resultados de investigación disciplinaria 6) Implementar el plan de tratamiento de mitigación de riesgos diseñado para el evento presentado | BC32: C1 | BG32: T6
B33: 11 | K33: CA_2 | L33: No se tengan delimitados los permisos de usuarios en las plataformas tecnológicas | W33: C2 | X33: Control de Acceso a usuarios en Plataformas Tecnológicas | Y33: El Profesional Especializado III (Oficial de Seguridad) asigna, modifica o inactiva los permisos de seguridad en aplicativos a los perfiles de usuarios solicitados y aprobados por los lideres de procesos, verificando que se cuente con la validación de la Oficina Asesora de Planeación en el aplicativo de mesa de ayuda y revisando que el formato de solicitud cumpla con los criterios requeridos, dejando registro de este control en la matriz de seguridad de usuarios y perfiles por aplicativo. En caso de existir alguna inconsistencia en la información, devuelve la solicitud hasta cumplir los requerimiento para brindar los permisos requeridos. | Z33: P-TE4-094 Procedimiento Administración y Control de Acceso a Usuarios | AA33: O. Gestión de la Información | AB33: Asignado | AC33: Adecuado | AD33: Oportuna | AE33: Prevenir | AF33: Confiable | AG33: Oportuna | AH33: Completa | AI33: =IF(COUNTBLANK(AB33:AH33)=7,"",IF($AB33="Asignado",15,0)+IF($AC33="Adecuado",15,0)+IF($AD33="Oportuna",15,0)+IF($AE33="Prevenir",15,0)+IF($AE33="Detectar",10,0)+IF($AF33="Confiable",15,0)+IF($AG33="Oportuna",15,0)+IF($AH33="Completa",10,0)+IF($AH33="Incompleta",5,0)) -> 100 | AJ33: =IF(COUNTBLANK(AB33:AH33)=7,"",IF($AI33<86,"Débil",IF($AI33<96,"Moderado","Fuerte"))) -> Fuerte | AK33: Fuerte | AL33: =IFERROR(VLOOKUP(AJ33&AK33,Tabla_Controles!$B$56:$G$65,5,FALSE),"") -> Fuerte | AM33: =IF($AL33="","",IF($AL33="Fuerte",100,IF($AL33="Moderado",50,0))) -> 100 | AV33: T2 | AW33: NA | AX33: NA | AY33: NA | AZ33: NA | BA33: NA | BC33: C2 | BG33: T7
B34: 11 | K34: CA_3 | L34: Deficiencia en el rendimiento de los sistemas de información | W34: C3 | X34: Verificación de diagnósticos de herramientas de monitoreo de infraestructura tecnológica | Y34: El profesional delegado de la Oficina de Gestión de la información verifica los resultados de las herramientas de monitoreo de la infraestructura tecnológica de SAE y realiza seguimiento al rendimiento de los activos de la información de la Entidad (Redes, Sistemas, Servidores, Aplicaciones,entre otros) a partir de informes automáticos del uso de recursos de la infraestructura y diagnósticos de componentes defectuosos, en tiempo real desde la herramientas. En caso de evidenciarse alguna falla en la infraestructura tecnológica se toman los correctivos según sea el caso. | Z34: P-TE1-203 Procedimiento de Monitoreo de la infraestructura Tecnológica | AA34: O. Gestión de la Información | AB34: Asignado | AC34: Adecuado | AD34: Oportuna | AE34: Detectar | AF34: Confiable | AG34: Oportuna | AH34: Completa | AI34: =IF(COUNTBLANK(AB34:AH34)=7,"",IF($AB34="Asignado",15,0)+IF($AC34="Adecuado",15,0)+IF($AD34="Oportuna",15,0)+IF($AE34="Prevenir",15,0)+IF($AE34="Detectar",10,0)+IF($AF34="Confiable",15,0)+IF($AG34="Oportuna",15,0)+IF($AH34="Completa",10,0)+IF($AH34="Incompleta",5,0)) -> 95 | AJ34: =IF(COUNTBLANK(AB34:AH34)=7,"",IF($AI34<86,"Débil",IF($AI34<96,"Moderado","Fuerte"))) -> Moderado | AK34: Fuerte | AL34: =IFERROR(VLOOKUP(AJ34&AK34,Tabla_Controles!$B$56:$G$65,5,FALSE),"") -> Moderado | AM34: =IF($AL34="","",IF($AL34="Fuerte",100,IF($AL34="Moderado",50,0))) -> 50 | AV34: T3 | AW34: NA | AX34: NA | AY34: NA | AZ34: NA | BA34: NA | BC34: C3 | BG34: T1
B35: 11 | K35: CA_4 | L35: Existencia de vulnerabilidades de seguridad de la información en los sistemas de información | W35: C4 | X35: Monitoreo automatizado de Seguridad de la Información | Y35: El Sistema de Seguridad de la Información - PC Secure constata que el flujo de información en tránsito sea seguro, detecta que no existan códigos maliciosos y brinda protección contra pérdidas o robo de la información, a través de reportes automáticos, eliminación de códigos maliciosos y puesta en cuarentena de archivos que atenten contra la seguridad de la Entidad. | Z35: P-TE1-203 Procedimiento de Monitoreo de la infraestructura Tecnológica | AA35: O. Gestión de la Información | AB35: Asignado | AC35: Adecuado | AD35: Oportuna | AE35: Detectar | AF35: Confiable | AG35: Oportuna | AH35: Completa | AI35: =IF(COUNTBLANK(AB35:AH35)=7,"",IF($AB35="Asignado",15,0)+IF($AC35="Adecuado",15,0)+IF($AD35="Oportuna",15,0)+IF($AE35="Prevenir",15,0)+IF($AE35="Detectar",10,0)+IF($AF35="Confiable",15,0)+IF($AG35="Oportuna",15,0)+IF($AH35="Completa",10,0)+IF($AH35="Incompleta",5,0)) -> 95 | AJ35: =IF(COUNTBLANK(AB35:AH35)=7,"",IF($AI35<86,"Débil",IF($AI35<96,"Moderado","Fuerte"))) -> Moderado | AK35: Fuerte | AL35: =IFERROR(VLOOKUP(AJ35&AK35,Tabla_Controles!$B$56:$G$65,5,FALSE),"") -> Moderado | AM35: =IF($AL35="","",IF($AL35="Fuerte",100,IF($AL35="Moderado",50,0))) -> 50 | AV35: T4 | AW35: NA | AX35: NA | AY35: NA | AZ35: NA | BA35: NA | BC35: C4 | BG35: T2
B36: 11 | K36: CA_5 | L36: Daños o fallas en los sistemas de información | W36: C5 | X36: Atención y soporte de incidencias tecnológicas | Y36: El profesional de la mesa de ayuda de la Oficina de Gestión de la Información verifica las solicitudes o incidencias que afectan los Sistemas de Información validando las situaciones presentadas y expuestas por parte de los funcionarios, a fin de brindar soluciones correctivas o de mantenimiento evolutivo a partir de la base de conocimientos de la mesa de ayuda. | Z36: P-TE3-150 Procedimiento Mantenimiento y Soporte de Aplicaciones | AA36: O. Gestión de la Información | AB36: Asignado | AC36: Adecuado | AD36: Oportuna | AE36: Detectar | AF36: Confiable | AG36: Oportuna | AH36: Completa | AI36: =IF(COUNTBLANK(AB36:AH36)=7,"",IF($AB36="Asignado",15,0)+IF($AC36="Adecuado",15,0)+IF($AD36="Oportuna",15,0)+IF($AE36="Prevenir",15,0)+IF($AE36="Detectar",10,0)+IF($AF36="Confiable",15,0)+IF($AG36="Oportuna",15,0)+IF($AH36="Completa",10,0)+IF($AH36="Incompleta",5,0)) -> 95 | AJ36: =IF(COUNTBLANK(AB36:AH36)=7,"",IF($AI36<86,"Débil",IF($AI36<96,"Moderado","Fuerte"))) -> Moderado | AK36: Fuerte | AL36: =IFERROR(VLOOKUP(AJ36&AK36,Tabla_Controles!$B$56:$G$65,5,FALSE),"") -> Moderado | AM36: =IF($AL36="","",IF($AL36="Fuerte",100,IF($AL36="Moderado",50,0))) -> 50 | AV36: T5 | AW36: NA | AX36: NA | AY36: NA | AZ36: NA | BA36: NA | BC36: C5 | BG36: T3
