Workbook

Sheet Mapa final
AN2: Código: FO-GP-002 Versión: 1 Vigencia desde: 24/072024
B4: PROCESO GESTIÓN DE CUMPLIMIENTO MATRIZ DE RIESGOS DE CORRUPCIÓN SOCIEDAD DE ACTIVOS ESPECIALES - SAE
B5: Identificación del riesgo | H5: Análisis del riesgo inherente | P5: Evaluación del riesgo - Valoración de los controles | Y5: Evaluación del riesgo - Nivel del riesgo residual | AF5: Tratamiento (Plan de Acción) | AL5: Monitoreo
B6: Código Riesgo | C6: Proceso | D6: Descripción del Riesgo | E6: Clase | F6: Causa | G6: Efecto | H6: Criterios probabilidad | I6: Probabilidad Inherente | J6: % | K6: Criterios de impacto | L6: Observación de criterio | M6: Impacto Inherente | N6: % | O6: Zona de Riesgo Inherente | P6: No. Control | Q6: Descripción del Control | R6: Afectación | S6: Atributos | Y6: Probabilidad Residual | Z6: Probabilidad Residual Final | AA6: % | AB6: Impacto Residual Final | AC6: % | AD6: Zona de Riesgo Final | AE6: Tratamiento | AF6: Tratamiento (Plan de Acción) | AG6: Responsable | AH6: Fecha Implementación | AI6: Fecha Seguimiento | AJ6: Seguimiento | AK6: Estado | AL6: Fecha de identificación | AM6: Estado | AN6: Análisis | AO6: Valoración
S7: Tipo | T7: Implementación | U7: Calificación | V7: Documentación | W7: Frecuencia | X7: Evidencia | AL7: Fecha de identificación | AM7: Fecha de identificación | AN7: Fecha de identificación | AO7: Fecha de identificación
B8: RC-DE-1 | C8: Direccionamiento Estratégico | D8: Posibilidad de recibir o solicitar cualquier dadiva o beneficio propio o a nombre de un tercero con el fin de modificar los documentos editables obsoletos del Sistema Integrado de Gestión, sin que pase el adecuado flujo establecido para estos documentos por la Dirección de Planeación y Prospectiva. | E8: Riesgo de Corrupción | F8: Carencia de un sistema de información robusto y completo para la gestión de las funciones a cargo de la Dirección de Planeación y Prospectiva | G8: Intervención por parte de un ente de control u otro ente regulador Afectación de la Imagen Institucional | H8: No se ha presentado en los últimos 5 años | I8: =IF(H8<=0,"",IF(H8="No se ha presentado en los últimos 5 años","Rara vez",IF(H8="Al menos 1 vez en los últimos 5 años","Improbable",IF(H8="Al menos 1 vez en los últimos 2 años","Posible",IF(H8="Al menos 1 vez en el último año","Probable",IF(H8="Más de 1 vez al año","Casi Seguro")))))) -> Rara vez | J8: =IF(I8="","",IF(I8="Rara vez",0.2,IF(I8="Improbable",0.4,IF(I8="Posible",0.6,IF(I8="Probable",0.8,IF(I8="Casi Seguro",1,)))))) -> 0.2 | K8: Responder afirmativamente de SEIS a ONCE | L8: =IF(NOT(ISERROR(MATCH(K8,'[1]Tabla Impacto'!$B$220:$B$222,0))),'[1]Tabla Impacto'!$F$222&"Por favor no seleccionar los criterios de impacto(Criterios para calificar el impacto)",K8) -> Responder afirmativamente de SEIS a ONCE | M8: =IF(OR(L8='[1]Tabla Impacto'!$C$5),"Moderado",IF(OR(L8='[1]Tabla Impacto'!$C$6),"Mayor",IF(OR(L8='[1]Tabla Impacto'!$C$7),"Catastrófico",""))) -> Mayor | N8: =IF(M8="","",IF(M8="Leve",0.2,IF(M8="Menor",0.4,IF(M8="Moderado",0.6,IF(M8="Mayor",0.8,IF(M8="Catastrófico",1,)))))) -> 0.8 | O8: =IF(OR(AND(I8="Rara vez",M8="Leve"),AND(I8="Rara vez",M8="Menor"),AND(I8="Improbable",M8="Leve")),"Bajo",IF(OR(AND(I8="Rara vez",M8="Moderado"),AND(I8="Improbable",M8="Menor"),AND(I8="Improbable",M8="Moderado"),AND(I8="Posible",M8="Leve"),AND(I8="Posible",M8="Menor"),AND(I8="Posible",M8="Moderado"),AND(I8="Probable",M8="Leve"),AND(I8="Probable",M8="Menor")),"Moderado",IF(OR(AND(I8="Rara vez",M8="Mayor"),AND(I8="Improbable",M8="Mayor"),AND(I8="Posible",M8="Mayor"),AND(I8="Probable",M8="Moderado"),AND(I8="Probable",M8="Mayor"),AND(I8="Casi Seguro",M8="Leve"),AND(I8="Casi Seguro",M8="Menor"),AND(I8="Casi Seguro",M8="Moderado"),AND(I8="Casi Seguro",M8="Mayor")),"Alto",IF(OR(AND(I8="Rara vez",M8="Catastrófico"),AND(I8="Improbable",M8="Catastrófico"),AND(I8="Posible",M8="Catastrófico"),AND(I8="Probable",M8="Catastrófico"),AND(I8="Casi Seguro",M8="Catastrófico")),"Extremo","")))) -> Alto | P8: 1 | Q8: El profesional designado de la dirección de planeación y prospectiva cada vez que recibe la aprobación de un documento actualizado, debe convertir la versión anterior en PDF e identificarla como obsoleta para trasladarla al repositorio de documentos obsoletos controlados, con el fin de guardar trazabilidad de las versiones y cambios que se realicen a los documentos. Como evidencia queda el listado maestro de documentos obsoletos. | R8: =IF(OR(S8="Preventivo",S8="Detectivo"),"Probabilidad",IF(S8="Correctivo","Impacto","")) -> Probabilidad | S8: Preventivo | T8: Automático | U8: =IF(AND(S8="Preventivo",T8="Automático"),"50%",IF(AND(S8="Preventivo",T8="Manual"),"40%",IF(AND(S8="Detectivo",T8="Automático"),"40%",IF(AND(S8="Detectivo",T8="Manual"),"30%",IF(AND(S8="Correctivo",T8="Automático"),"35%",IF(AND(S8="Correctivo",T8="Manual"),"25%","")))))) -> 50% | V8: Documentado | W8: Continua | X8: Con Registro | Y8: =IFERROR(IF(R8="Probabilidad",(J8-(+J8*U8)),IF(R8="Impacto",J8,"")),"") -> 0.1 | Z8: =IFERROR(IF(Y8="","",IF(Y8<=0.2,"Rara vez",IF(Y8<=0.4,"Improbable",IF(Y8<=0.6,"Posible",IF(Y8<=0.8,"Probable","Casi Seguro"))))),"") -> Rara vez | AA8: =+Y8 -> 0.1 | AB8: =IFERROR(IF(AC8="","",IF(AC8<=0.6,"Moderado",IF(AC8<=0.8,"Mayor","Catastrófico"))),"") -> Mayor | AC8: =IFERROR(IF(R8="Impacto",(N8-(+N8*U8)),IF(R8="Probabilidad",N8,"")),"") -> 0.8 | AD8: =IFERROR(IF(OR(AND(Z8="Rara vez",AB8="Leve"),AND(Z8="Rara vez",AB8="Menor"),AND(Z8="Improbable",AB8="Leve")),"Bajo",IF(OR(AND(Z8="Rara vez",AB8="Moderado"),AND(Z8="Improbable",AB8="Menor"),AND(Z8="Improbable",AB8="Moderado"),AND(Z8="Posible",AB8="Leve"),AND(Z8="Posible",AB8="Menor"),AND(Z8="Posible",AB8="Moderado"),AND(Z8="Probable",AB8="Leve"),AND(Z8="Probable",AB8="Menor")),"Moderado",IF(OR(AND(Z8="Rara vez",AB8="Mayor"),AND(Z8="Improbable",AB8="Mayor"),AND(Z8="Posible",AB8="Mayor"),AND(Z8="Probable",AB8="Moderado"),AND(Z8="Probable",AB8="Mayor"),AND(Z8="Casi Seguro",AB8="Leve"),AND(Z8="Casi Seguro",AB8="Menor"),AND(Z8="Casi Seguro",AB8="Moderado"),AND(Z8="Casi Seguro",AB8="Mayor")),"Alto",IF(OR(AND(Z8="Rara vez",AB8="Catastrófico"),AND(Z8="Improbable",AB8="Catastrófico"),AND(Z8="Posible",AB8="Catastrófico"),AND(Z8="Probable",AB8="Catastrófico"),AND(Z8="Casi Seguro",AB8="Catastrófico")),"Extremo","")))),"") -> Alto | AL8: 45469 | AM8: Monitoreado | AN8: =+O8 -> Alto | AO8: =+AD10 -> Moderado
L9: =IF(NOT(ISERROR(MATCH(K9,_xlfn.ANCHORARRAY(G20),0))),J22&"Por favor no seleccionar los criterios de impacto",K9) -> 0 | P9: 2 | Q9: El profesional designado de la dirección de planeación y prospectiva mensualmente verifica que se realicen las actividades correspondientes con los documentos obsoletos. Como evidencia queda el listado maestro con la validación respectiva. | R9: =IF(OR(S9="Preventivo",S9="Detectivo"),"Probabilidad",IF(S9="Correctivo","Impacto","")) -> Probabilidad | S9: Detectivo | T9: Manual | U9: =IF(AND(S9="Preventivo",T9="Automático"),"50%",IF(AND(S9="Preventivo",T9="Manual"),"40%",IF(AND(S9="Detectivo",T9="Automático"),"40%",IF(AND(S9="Detectivo",T9="Manual"),"30%",IF(AND(S9="Correctivo",T9="Automático"),"35%",IF(AND(S9="Correctivo",T9="Manual"),"25%","")))))) -> 30% | V9: Documentado | W9: Continua | X9: Con Registro | Y9: =IFERROR(IF(AND(R8="Probabilidad",R9="Probabilidad"),(AA8-(+AA8*U9)),IF(R9="Probabilidad",(J8-(+J8*U9)),IF(R9="Impacto",AA8,""))),"") -> 0.07 | Z9: =IFERROR(IF(Y9="","",IF(Y9<=0.2,"Rara vez",IF(Y9<=0.4,"Improbable",IF(Y9<=0.6,"Posible",IF(Y9<=0.8,"Probable","Casi Seguro"))))),"") -> Rara vez | AA9: =+Y9 -> 0.07 | AB9: =IFERROR(IF(AC9="","",IF(AC9<=0.6,"Moderado",IF(AC9<=0.8,"Mayor","Catastrófico"))),"") -> Mayor | AC9: =IFERROR(IF(AND(R8="Impacto",R9="Impacto"),(AC8-(+AC8*U9)),IF(R9="Impacto",(N8-(+N8*U9)),IF(R9="Probabilidad",AC8,""))),"") -> 0.8 | AD9: =IFERROR(IF(OR(AND(Z9="Rara vez",AB9="Leve"),AND(Z9="Rara vez",AB9="Menor"),AND(Z9="Improbable",AB9="Leve")),"Bajo",IF(OR(AND(Z9="Rara vez",AB9="Moderado"),AND(Z9="Improbable",AB9="Menor"),AND(Z9="Improbable",AB9="Moderado"),AND(Z9="Posible",AB9="Leve"),AND(Z9="Posible",AB9="Menor"),AND(Z9="Posible",AB9="Moderado"),AND(Z9="Probable",AB9="Leve"),AND(Z9="Probable",AB9="Menor")),"Moderado",IF(OR(AND(Z9="Rara vez",AB9="Mayor"),AND(Z9="Improbable",AB9="Mayor"),AND(Z9="Posible",AB9="Mayor"),AND(Z9="Probable",AB9="Moderado"),AND(Z9="Probable",AB9="Mayor"),AND(Z9="Casi Seguro",AB9="Leve"),AND(Z9="Casi Seguro",AB9="Menor"),AND(Z9="Casi Seguro",AB9="Moderado"),AND(Z9="Casi Seguro",AB9="Mayor")),"Alto",IF(OR(AND(Z9="Rara vez",AB9="Catastrófico"),AND(Z9="Improbable",AB9="Catastrófico"),AND(Z9="Posible",AB9="Catastrófico"),AND(Z9="Probable",AB9="Catastrófico"),AND(Z9="Casi Seguro",AB9="Catastrófico")),"Extremo","")))),"") -> Alto | AE9: Reducir (mitigar) | AF9: Revisar los permisos de accesos a la carpeta publica donde se ubican los documentos obsoletos con el fin de validar los permisos de lectura y escritura. | AG9: Katherine Ariza Profesional I | AH9: 45565 | AJ9: 45596 | AK9: En curso
L10: =IF(NOT(ISERROR(MATCH(K10,_xlfn.ANCHORARRAY(G21),0))),J23&"Por favor no seleccionar los criterios de impacto",K10) -> 0 | P10: 3 | Q10: El Líder del sistema integrado de gestión de la Dirección de Planeación y Prospectiva en caso de evidenciar modificaciones en los documentos que no cumpla con el flujo establecido por la dirección, procederá a reportar a las áreas respectivas y realiza devolución para dar cumplimiento a los lineamientos establecidos. Como evidencia queda los correos generados por el Líder. | R10: =IF(OR(S10="Preventivo",S10="Detectivo"),"Probabilidad",IF(S10="Correctivo","Impacto","")) -> Impacto | S10: Correctivo | T10: Manual | U10: =IF(AND(S10="Preventivo",T10="Automático"),"50%",IF(AND(S10="Preventivo",T10="Manual"),"40%",IF(AND(S10="Detectivo",T10="Automático"),"40%",IF(AND(S10="Detectivo",T10="Manual"),"30%",IF(AND(S10="Correctivo",T10="Automático"),"35%",IF(AND(S10="Correctivo",T10="Manual"),"25%","")))))) -> 25% | V10: Sin Documentar | W10: Continua | X10: Con Registro | Y10: =IFERROR(IF(AND(R9="Probabilidad",R10="Probabilidad"),(AA9-(+AA9*U10)),IF(AND(R9="Impacto",R10="Probabilidad"),(AA8-(+AA8*U10)),IF(R10="Impacto",AA9,""))),"") -> 0.07 | Z10: =IFERROR(IF(Y10="","",IF(Y10<=0.2,"Rara vez",IF(Y10<=0.4,"Improbable",IF(Y10<=0.6,"Posible",IF(Y10<=0.8,"Probable","Casi Seguro"))))),"") -> Rara vez | AA10: =+Y10 -> 0.07 | AB10: =IFERROR(IF(AC10="","",IF(AC10<=0.6,"Moderado",IF(AC10<=0.8,"Mayor","Catastrófico"))),"") -> Moderado | AC10: =IFERROR(IF(AND(R9="Impacto",R10="Impacto"),(AC9-(+AC9*U10)),IF(AND(R9="Probabilidad",R10="Impacto"),(AC8-(+AC8*U10)),IF(R10="Probabilidad",AC9,""))),"") -> 0.6 | AD10: =IFERROR(IF(OR(AND(Z10="Rara vez",AB10="Leve"),AND(Z10="Rara vez",AB10="Menor"),AND(Z10="Improbable",AB10="Leve")),"Bajo",IF(OR(AND(Z10="Rara vez",AB10="Moderado"),AND(Z10="Improbable",AB10="Menor"),AND(Z10="Improbable",AB10="Moderado"),AND(Z10="Posible",AB10="Leve"),AND(Z10="Posible",AB10="Menor"),AND(Z10="Posible",AB10="Moderado"),AND(Z10="Probable",AB10="Leve"),AND(Z10="Probable",AB10="Menor")),"Moderado",IF(OR(AND(Z10="Rara vez",AB10="Mayor"),AND(Z10="Improbable",AB10="Mayor"),AND(Z10="Posible",AB10="Mayor"),AND(Z10="Probable",AB10="Moderado"),AND(Z10="Probable",AB10="Mayor"),AND(Z10="Casi Seguro",AB10="Leve"),AND(Z10="Casi Seguro",AB10="Menor"),AND(Z10="Casi Seguro",AB10="Moderado"),AND(Z10="Casi Seguro",AB10="Mayor")),"Alto",IF(OR(AND(Z10="Rara vez",AB10="Catastrófico"),AND(Z10="Improbable",AB10="Catastrófico"),AND(Z10="Posible",AB10="Catastrófico"),AND(Z10="Probable",AB10="Catastrófico"),AND(Z10="Casi Seguro",AB10="Catastrófico")),"Extremo","")))),"") -> Moderado | AE10: Reducir (mitigar) | AF10: Realizar la actualización del documento "guía metodológica para la actualización y mejora documental del SIG". | AG10: Liliana Sofia Navas Profesional Especializado II | AH10: 45565 | AJ10: 45596 | AK10: En curso
L11: =IF(NOT(ISERROR(MATCH(K11,_xlfn.ANCHORARRAY(G22),0))),J24&"Por favor no seleccionar los criterios de impacto",K11) -> 0 | P11: 4 | R11: =IF(OR(S11="Preventivo",S11="Detectivo"),"Probabilidad",IF(S11="Correctivo","Impacto","")) | U11: =IF(AND(S11="Preventivo",T11="Automático"),"50%",IF(AND(S11="Preventivo",T11="Manual"),"40%",IF(AND(S11="Detectivo",T11="Automático"),"40%",IF(AND(S11="Detectivo",T11="Manual"),"30%",IF(AND(S11="Correctivo",T11="Automático"),"35%",IF(AND(S11="Correctivo",T11="Manual"),"25%","")))))) | Y11: =IFERROR(IF(AND(R10="Probabilidad",R11="Probabilidad"),(AA10-(+AA10*U11)),IF(AND(R10="Impacto",R11="Probabilidad"),(AA9-(+AA9*U11)),IF(R11="Impacto",AA10,""))),"") | Z11: =IFERROR(IF(Y11="","",IF(Y11<=0.2,"Muy Baja",IF(Y11<=0.4,"Baja",IF(Y11<=0.6,"Media",IF(Y11<=0.8,"Alta","Muy Alta"))))),"") | AA11: =+Y11 | AB11: =IFERROR(IF(AC11="","",IF(AC11<=0.2,"Leve",IF(AC11<=0.4,"Menor",IF(AC11<=0.6,"Moderado",IF(AC11<=0.8,"Mayor","Catastrófico"))))),"") | AC11: =IFERROR(IF(AND(R10="Impacto",R11="Impacto"),(AC10-(+AC10*U11)),IF(AND(R10="Probabilidad",R11="Impacto"),(AC9-(+AC9*U11)),IF(R11="Probabilidad",AC10,""))),"") | AD11: =IFERROR(IF(OR(AND(Z11="Muy Baja",AB11="Leve"),AND(Z11="Muy Baja",AB11="Menor"),AND(Z11="Baja",AB11="Leve")),"Bajo",IF(OR(AND(Z11="Muy baja",AB11="Moderado"),AND(Z11="Baja",AB11="Menor"),AND(Z11="Baja",AB11="Moderado"),AND(Z11="Media",AB11="Leve"),AND(Z11="Media",AB11="Menor"),AND(Z11="Media",AB11="Moderado"),AND(Z11="Alta",AB11="Leve"),AND(Z11="Alta",AB11="Menor")),"Moderado",IF(OR(AND(Z11="Muy Baja",AB11="Mayor"),AND(Z11="Baja",AB11="Mayor"),AND(Z11="Media",AB11="Mayor"),AND(Z11="Alta",AB11="Moderado"),AND(Z11="Alta",AB11="Mayor"),AND(Z11="Muy Alta",AB11="Leve"),AND(Z11="Muy Alta",AB11="Menor"),AND(Z11="Muy Alta",AB11="Moderado"),AND(Z11="Muy Alta",AB11="Mayor")),"Alto",IF(OR(AND(Z11="Muy Baja",AB11="Catastrófico"),AND(Z11="Baja",AB11="Catastrófico"),AND(Z11="Media",AB11="Catastrófico"),AND(Z11="Alta",AB11="Catastrófico"),AND(Z11="Muy Alta",AB11="Catastrófico")),"Extremo","")))),"")
L12: =IF(NOT(ISERROR(MATCH(K12,_xlfn.ANCHORARRAY(G23),0))),J25&"Por favor no seleccionar los criterios de impacto",K12) -> 0 | P12: 5 | R12: =IF(OR(S12="Preventivo",S12="Detectivo"),"Probabilidad",IF(S12="Correctivo","Impacto","")) | U12: =IF(AND(S12="Preventivo",T12="Automático"),"50%",IF(AND(S12="Preventivo",T12="Manual"),"40%",IF(AND(S12="Detectivo",T12="Automático"),"40%",IF(AND(S12="Detectivo",T12="Manual"),"30%",IF(AND(S12="Correctivo",T12="Automático"),"35%",IF(AND(S12="Correctivo",T12="Manual"),"25%","")))))) | Y12: =IFERROR(IF(AND(R11="Probabilidad",R12="Probabilidad"),(AA11-(+AA11*U12)),IF(AND(R11="Impacto",R12="Probabilidad"),(AA10-(+AA10*U12)),IF(R12="Impacto",AA11,""))),"") | Z12: =IFERROR(IF(Y12="","",IF(Y12<=0.2,"Rara vez",IF(Y12<=0.4,"Improbable",IF(Y12<=0.6,"Posible",IF(Y12<=0.8,"Probable","Casi Seguro"))))),"") | AA12: =+Y12 | AB12: =IFERROR(IF(AC12="","",IF(AC12<=0.6,"Moderado",IF(AC12<=0.8,"Mayor","Catastrófico"))),"") | AC12: =IFERROR(IF(AND(R11="Impacto",R12="Impacto"),(AC11-(+AC11*U12)),IF(AND(R11="Probabilidad",R12="Impacto"),(AC10-(+AC10*U12)),IF(R12="Probabilidad",AC11,""))),"") | AD12: =IFERROR(IF(OR(AND(Z12="Muy Baja",AB12="Leve"),AND(Z12="Muy Baja",AB12="Menor"),AND(Z12="Baja",AB12="Leve")),"Bajo",IF(OR(AND(Z12="Muy baja",AB12="Moderado"),AND(Z12="Baja",AB12="Menor"),AND(Z12="Baja",AB12="Moderado"),AND(Z12="Media",AB12="Leve"),AND(Z12="Media",AB12="Menor"),AND(Z12="Media",AB12="Moderado"),AND(Z12="Alta",AB12="Leve"),AND(Z12="Alta",AB12="Menor")),"Moderado",IF(OR(AND(Z12="Muy Baja",AB12="Mayor"),AND(Z12="Baja",AB12="Mayor"),AND(Z12="Media",AB12="Mayor"),AND(Z12="Alta",AB12="Moderado"),AND(Z12="Alta",AB12="Mayor"),AND(Z12="Muy Alta",AB12="Leve"),AND(Z12="Muy Alta",AB12="Menor"),AND(Z12="Muy Alta",AB12="Moderado"),AND(Z12="Muy Alta",AB12="Mayor")),"Alto",IF(OR(AND(Z12="Muy Baja",AB12="Catastrófico"),AND(Z12="Baja",AB12="Catastrófico"),AND(Z12="Media",AB12="Catastrófico"),AND(Z12="Alta",AB12="Catastrófico"),AND(Z12="Muy Alta",AB12="Catastrófico")),"Extremo","")))),"")
L13: =IF(NOT(ISERROR(MATCH(K13,_xlfn.ANCHORARRAY(G24),0))),J26&"Por favor no seleccionar los criterios de impacto",K13) -> 0 | P13: 6 | R13: =IF(OR(S13="Preventivo",S13="Detectivo"),"Probabilidad",IF(S13="Correctivo","Impacto","")) | U13: =IF(AND(S13="Preventivo",T13="Automático"),"50%",IF(AND(S13="Preventivo",T13="Manual"),"40%",IF(AND(S13="Detectivo",T13="Automático"),"40%",IF(AND(S13="Detectivo",T13="Manual"),"30%",IF(AND(S13="Correctivo",T13="Automático"),"35%",IF(AND(S13="Correctivo",T13="Manual"),"25%","")))))) | Y13: =IFERROR(IF(AND(R12="Probabilidad",R13="Probabilidad"),(AA12-(+AA12*U13)),IF(AND(R12="Impacto",R13="Probabilidad"),(AA11-(+AA11*U13)),IF(R13="Impacto",AA12,""))),"") | Z13: =IFERROR(IF(Y13="","",IF(Y13<=0.2,"Rara vez",IF(Y13<=0.4,"Improbable",IF(Y13<=0.6,"Posible",IF(Y13<=0.8,"Probable","Casi Seguro"))))),"") | AA13: =+Y13 | AB13: =IFERROR(IF(AC13="","",IF(AC13<=0.6,"Moderado",IF(AC13<=0.8,"Mayor","Catastrófico"))),"") | AC13: =IFERROR(IF(AND(R12="Impacto",R13="Impacto"),(AC12-(+AC12*U13)),IF(AND(R12="Probabilidad",R13="Impacto"),(AC11-(+AC11*U13)),IF(R13="Probabilidad",AC12,""))),"") | AD13: =IFERROR(IF(OR(AND(Z13="Muy Baja",AB13="Leve"),AND(Z13="Muy Baja",AB13="Menor"),AND(Z13="Baja",AB13="Leve")),"Bajo",IF(OR(AND(Z13="Muy baja",AB13="Moderado"),AND(Z13="Baja",AB13="Menor"),AND(Z13="Baja",AB13="Moderado"),AND(Z13="Media",AB13="Leve"),AND(Z13="Media",AB13="Menor"),AND(Z13="Media",AB13="Moderado"),AND(Z13="Alta",AB13="Leve"),AND(Z13="Alta",AB13="Menor")),"Moderado",IF(OR(AND(Z13="Muy Baja",AB13="Mayor"),AND(Z13="Baja",AB13="Mayor"),AND(Z13="Media",AB13="Mayor"),AND(Z13="Alta",AB13="Moderado"),AND(Z13="Alta",AB13="Mayor"),AND(Z13="Muy Alta",AB13="Leve"),AND(Z13="Muy Alta",AB13="Menor"),AND(Z13="Muy Alta",AB13="Moderado"),AND(Z13="Muy Alta",AB13="Mayor")),"Alto",IF(OR(AND(Z13="Muy Baja",AB13="Catastrófico"),AND(Z13="Baja",AB13="Catastrófico"),AND(Z13="Media",AB13="Catastrófico"),AND(Z13="Alta",AB13="Catastrófico"),AND(Z13="Muy Alta",AB13="Catastrófico")),"Extremo","")))),"")
B14: RC-RR-1 | C14: Recepción y Registro | D14: Posibilidad de recibir o solicitar cualquier dádiva o beneficio a nombre propio o de terceros, con el fin de alterar o manipular ilegalmente la información de los activos recibidos que puedan afectar su potencial de productividad | E14: Riesgo de Corrupción | F14: No verificar los datos del activo recibido con los registros fotográficos y/o soportes brindados por los entes judiciales en diligencia de recepción. No validar al momento del registro del activo en el sistema de información los datos generados en la diligencia de recepción y/o soportes brindados por los entes judiciales. Delegación de diligencias de recepción de activos en pocos o los mismos colaboradores | G14: 1) Pérdida de imagen reputacional y credibilidad institucional 2) Implicaciones a nivel penal, disciplinario, fiscal o sancionatorio 3) Disminución en posibles ganancias por productividad del activo 4) Administración inadecuada de los activos recibidos | H14: No se ha presentado en los últimos 5 años | I14: =IF(H14<=0,"",IF(H14="No se ha presentado en los últimos 5 años","Rara vez",IF(H14="Al menos 1 vez en los últimos 5 años","Improbable",IF(H14="Al menos 1 vez en los últimos 2 años","Posible",IF(H14="Al menos 1 vez en el último año","Probable",IF(H14="Más de 1 vez al año","Casi Seguro")))))) -> Rara vez | J14: =IF(I14="","",IF(I14="Rara vez",0.2,IF(I14="Improbable",0.4,IF(I14="Posible",0.6,IF(I14="Probable",0.8,IF(I14="Casi Seguro",1,)))))) -> 0.2 | K14: Responder afirmativamente de DOCE a DIECINUEVE | L14: =IF(NOT(ISERROR(MATCH(K14,'[2]Tabla Impacto'!$B$220:$B$222,0))),'[2]Tabla Impacto'!$F$222&"Por favor no seleccionar los criterios de impacto(Criterios para calificar el impacto)",K14) -> Responder afirmativamente de DOCE a DIECINUEVE | M14: =IF(OR(L14='[2]Tabla Impacto'!$C$5),"Moderado",IF(OR(L14='[2]Tabla Impacto'!$C$6),"Mayor",IF(OR(L14='[2]Tabla Impacto'!$C$7),"Catastrófico",""))) -> Catastrófico | N14: =IF(M14="","",IF(M14="Leve",0.2,IF(M14="Menor",0.4,IF(M14="Moderado",0.6,IF(M14="Mayor",0.8,IF(M14="Catastrófico",1,)))))) -> 1 | O14: =IF(OR(AND(I14="Rara vez",M14="Leve"),AND(I14="Rara vez",M14="Menor"),AND(I14="Improbable",M14="Leve")),"Bajo",IF(OR(AND(I14="Rara vez",M14="Moderado"),AND(I14="Improbable",M14="Menor"),AND(I14="Improbable",M14="Moderado"),AND(I14="Posible",M14="Leve"),AND(I14="Posible",M14="Menor"),AND(I14="Posible",M14="Moderado"),AND(I14="Probable",M14="Leve"),AND(I14="Probable",M14="Menor")),"Moderado",IF(OR(AND(I14="Rara vez",M14="Mayor"),AND(I14="Improbable",M14="Mayor"),AND(I14="Posible",M14="Mayor"),AND(I14="Probable",M14="Moderado"),AND(I14="Probable",M14="Mayor"),AND(I14="Casi Seguro",M14="Leve"),AND(I14="Casi Seguro",M14="Menor"),AND(I14="Casi Seguro",M14="Moderado"),AND(I14="Casi Seguro",M14="Mayor")),"Alto",IF(OR(AND(I14="Rara vez",M14="Catastrófico"),AND(I14="Improbable",M14="Catastrófico"),AND(I14="Posible",M14="Catastrófico"),AND(I14="Probable",M14="Catastrófico"),AND(I14="Casi Seguro",M14="Catastrófico")),"Extremo","")))) -> Extremo | P14: 1 | Q14: El funcionario delegado del Dirección de Control del inventario, cada vez que se reciba un activo, validará las condiciones del bien registrándolas en el "Acta de Recepción y/o entrega en sitio" lo cual debe ser concordante con el registro fotográfico de los activos, adicionalmente verificará que la información a registrar en el aplicativo SIGMA SAE coincida con los soportes físicos entregados por parte de la FGN y/o descritos en la recepción del bien, garantizando el cumplimiento de todos soportes obligatorios. En caso de presentarse inconsistencias se solicita al responsable de la recepción subsanar las mismas para completar el registro. Como evidencia del control queda la base de subsanaciones. | R14: =IF(OR(S14="Preventivo",S14="Detectivo"),"Probabilidad",IF(S14="Correctivo","Impacto","")) -> Probabilidad | S14: Preventivo | T14: Manual | U14: =IF(AND(S14="Preventivo",T14="Automático"),"50%",IF(AND(S14="Preventivo",T14="Manual"),"40%",IF(AND(S14="Detectivo",T14="Automático"),"40%",IF(AND(S14="Detectivo",T14="Manual"),"30%",IF(AND(S14="Correctivo",T14="Automático"),"35%",IF(AND(S14="Correctivo",T14="Manual"),"25%","")))))) -> 40% | V14: Documentado | W14: Continua | X14: Con Registro | Y14: =IFERROR(IF(R14="Probabilidad",(J14-(+J14*U14)),IF(R14="Impacto",J14,"")),"") -> 0.12 | Z14: =IFERROR(IF(Y14="","",IF(Y14<=0.2,"Rara vez",IF(Y14<=0.4,"Improbable",IF(Y14<=0.6,"Posible",IF(Y14<=0.8,"Probable","Casi Seguro"))))),"") -> Rara vez | AA14: =+Y14 -> 0.12 | AB14: =IFERROR(IF(AC14="","",IF(AC14<=0.6,"Moderado",IF(AC14<=0.8,"Mayor","Catastrófico"))),"") -> Catastrófico | AC14: =IFERROR(IF(R14="Impacto",(N14-(+N14*U14)),IF(R14="Probabilidad",N14,"")),"") -> 1 | AD14: =IFERROR(IF(OR(AND(Z14="Rara vez",AB14="Leve"),AND(Z14="Rara vez",AB14="Menor"),AND(Z14="Improbable",AB14="Leve")),"Bajo",IF(OR(AND(Z14="Rara vez",AB14="Moderado"),AND(Z14="Improbable",AB14="Menor"),AND(Z14="Improbable",AB14="Moderado"),AND(Z14="Posible",AB14="Leve"),AND(Z14="Posible",AB14="Menor"),AND(Z14="Posible",AB14="Moderado"),AND(Z14="Probable",AB14="Leve"),AND(Z14="Probable",AB14="Menor")),"Moderado",IF(OR(AND(Z14="Rara vez",AB14="Mayor"),AND(Z14="Improbable",AB14="Mayor"),AND(Z14="Posible",AB14="Mayor"),AND(Z14="Probable",AB14="Moderado"),AND(Z14="Probable",AB14="Mayor"),AND(Z14="Casi Seguro",AB14="Leve"),AND(Z14="Casi Seguro",AB14="Menor"),AND(Z14="Casi Seguro",AB14="Moderado"),AND(Z14="Casi Seguro",AB14="Mayor")),"Alto",IF(OR(AND(Z14="Rara vez",AB14="Catastrófico"),AND(Z14="Improbable",AB14="Catastrófico"),AND(Z14="Posible",AB14="Catastrófico"),AND(Z14="Probable",AB14="Catastrófico"),AND(Z14="Casi Seguro",AB14="Catastrófico")),"Extremo","")))),"") -> Extremo | AL14: 44917 | AM14: Monitoreado | AN14: =+O14 -> Extremo | AO14: =+AD16 -> Alto
L15: =IF(NOT(ISERROR(MATCH(K15,_xlfn.ANCHORARRAY(G26),0))),J28&"Por favor no seleccionar los criterios de impacto",K15) -> 0 | P15: 2 | Q15: El enlace operativo de la Dirección de control del inventario validará, cada vez que sea necesario, el recurso humano idóneo a asignar para las diligencias de recepción de activos según las cantidades registradas e informadas, siguiendo los criterios de la política frente a asignación de recurso humano, y dejando registro de la información de los delegados para la recepción del activo en el aplicativo y en correo informando a la Dirección de Nivel Central. Como evidencia queda la información registrada en el informe consolidado de diligencias de secuestro. | R15: =IF(OR(S15="Preventivo",S15="Detectivo"),"Probabilidad",IF(S15="Correctivo","Impacto","")) -> Probabilidad | S15: Preventivo | T15: Manual | U15: =IF(AND(S15="Preventivo",T15="Automático"),"50%",IF(AND(S15="Preventivo",T15="Manual"),"40%",IF(AND(S15="Detectivo",T15="Automático"),"40%",IF(AND(S15="Detectivo",T15="Manual"),"30%",IF(AND(S15="Correctivo",T15="Automático"),"35%",IF(AND(S15="Correctivo",T15="Manual"),"25%","")))))) -> 40% | V15: Documentado | W15: Continua | X15: Con Registro | Y15: =IFERROR(IF(AND(R14="Probabilidad",R15="Probabilidad"),(AA14-(+AA14*U15)),IF(R15="Probabilidad",(J14-(+J14*U15)),IF(R15="Impacto",AA14,""))),"") -> 0.072 | Z15: =IFERROR(IF(Y15="","",IF(Y15<=0.2,"Rara vez",IF(Y15<=0.4,"Improbable",IF(Y15<=0.6,"Posible",IF(Y15<=0.8,"Probable","Casi Seguro"))))),"") -> Rara vez | AA15: =+Y15 -> 0.072 | AB15: =IFERROR(IF(AC15="","",IF(AC15<=0.6,"Moderado",IF(AC15<=0.8,"Mayor","Catastrófico"))),"") -> Catastrófico | AC15: =IFERROR(IF(AND(R14="Impacto",R15="Impacto"),(AC14-(+AC14*U15)),IF(R15="Impacto",(N14-(+N14*U15)),IF(R15="Probabilidad",AC14,""))),"") -> 1 | AD15: =IFERROR(IF(OR(AND(Z15="Rara vez",AB15="Leve"),AND(Z15="Rara vez",AB15="Menor"),AND(Z15="Improbable",AB15="Leve")),"Bajo",IF(OR(AND(Z15="Rara vez",AB15="Moderado"),AND(Z15="Improbable",AB15="Menor"),AND(Z15="Improbable",AB15="Moderado"),AND(Z15="Posible",AB15="Leve"),AND(Z15="Posible",AB15="Menor"),AND(Z15="Posible",AB15="Moderado"),AND(Z15="Probable",AB15="Leve"),AND(Z15="Probable",AB15="Menor")),"Moderado",IF(OR(AND(Z15="Rara vez",AB15="Mayor"),AND(Z15="Improbable",AB15="Mayor"),AND(Z15="Posible",AB15="Mayor"),AND(Z15="Probable",AB15="Moderado"),AND(Z15="Probable",AB15="Mayor"),AND(Z15="Casi Seguro",AB15="Leve"),AND(Z15="Casi Seguro",AB15="Menor"),AND(Z15="Casi Seguro",AB15="Moderado"),AND(Z15="Casi Seguro",AB15="Mayor")),"Alto",IF(OR(AND(Z15="Rara vez",AB15="Catastrófico"),AND(Z15="Improbable",AB15="Catastrófico"),AND(Z15="Posible",AB15="Catastrófico"),AND(Z15="Probable",AB15="Catastrófico"),AND(Z15="Casi Seguro",AB15="Catastrófico")),"Extremo","")))),"") -> Extremo
L16: =IF(NOT(ISERROR(MATCH(K16,_xlfn.ANCHORARRAY(G27),0))),J29&"Por favor no seleccionar los criterios de impacto",K16) -> 0 | P16: 3 | Q16: La Dirección de control del inventario, en caso presentarse una alteración o manipulación inadecuada de la información de los activos recibidos, notificará a la Dirección de Talento Humano y a las demás áreas pertinentes, con el fin de iniciar los procesos disciplinarios a los que haya lugar. Como Evidencia quedará el correo de comunicación. | R16: =IF(OR(S16="Preventivo",S16="Detectivo"),"Probabilidad",IF(S16="Correctivo","Impacto","")) -> Impacto | S16: Correctivo | T16: Manual | U16: =IF(AND(S16="Preventivo",T16="Automático"),"50%",IF(AND(S16="Preventivo",T16="Manual"),"40%",IF(AND(S16="Detectivo",T16="Automático"),"40%",IF(AND(S16="Detectivo",T16="Manual"),"30%",IF(AND(S16="Correctivo",T16="Automático"),"35%",IF(AND(S16="Correctivo",T16="Manual"),"25%","")))))) -> 25% | V16: Documentado | W16: Continua | X16: Con Registro | Y16: =IFERROR(IF(AND(R15="Probabilidad",R16="Probabilidad"),(AA15-(+AA15*U16)),IF(AND(R15="Impacto",R16="Probabilidad"),(AA14-(+AA14*U16)),IF(R16="Impacto",AA15,""))),"") -> 0.072 | Z16: =IFERROR(IF(Y16="","",IF(Y16<=0.2,"Rara vez",IF(Y16<=0.4,"Improbable",IF(Y16<=0.6,"Posible",IF(Y16<=0.8,"Probable","Casi Seguro"))))),"") -> Rara vez | AA16: =+Y16 -> 0.072 | AB16: =IFERROR(IF(AC16="","",IF(AC16<=0.6,"Moderado",IF(AC16<=0.8,"Mayor","Catastrófico"))),"") -> Mayor | AC16: =IFERROR(IF(AND(R15="Impacto",R16="Impacto"),(AC15-(+AC15*U16)),IF(AND(R15="Probabilidad",R16="Impacto"),(AC14-(+AC14*U16)),IF(R16="Probabilidad",AC15,""))),"") -> 0.75 | AD16: =IFERROR(IF(OR(AND(Z16="Rara vez",AB16="Leve"),AND(Z16="Rara vez",AB16="Menor"),AND(Z16="Improbable",AB16="Leve")),"Bajo",IF(OR(AND(Z16="Rara vez",AB16="Moderado"),AND(Z16="Improbable",AB16="Menor"),AND(Z16="Improbable",AB16="Moderado"),AND(Z16="Posible",AB16="Leve"),AND(Z16="Posible",AB16="Menor"),AND(Z16="Posible",AB16="Moderado"),AND(Z16="Probable",AB16="Leve"),AND(Z16="Probable",AB16="Menor")),"Moderado",IF(OR(AND(Z16="Rara vez",AB16="Mayor"),AND(Z16="Improbable",AB16="Mayor"),AND(Z16="Posible",AB16="Mayor"),AND(Z16="Probable",AB16="Moderado"),AND(Z16="Probable",AB16="Mayor"),AND(Z16="Casi Seguro",AB16="Leve"),AND(Z16="Casi Seguro",AB16="Menor"),AND(Z16="Casi Seguro",AB16="Moderado"),AND(Z16="Casi Seguro",AB16="Mayor")),"Alto",IF(OR(AND(Z16="Rara vez",AB16="Catastrófico"),AND(Z16="Improbable",AB16="Catastrófico"),AND(Z16="Posible",AB16="Catastrófico"),AND(Z16="Probable",AB16="Catastrófico"),AND(Z16="Casi Seguro",AB16="Catastrófico")),"Extremo","")))),"") -> Alto | AE16: Reducir (mitigar) | AF16: Realizar actualización de los procedimientos de la dirección con el fin de incluir los controles contemplados para el riesgo. | AG16: Dirección de control del Inventario. | AH16: 45657 | AI16: 45688 | AK16: En curso
L17: =IF(NOT(ISERROR(MATCH(K17,_xlfn.ANCHORARRAY(G28),0))),J30&"Por favor no seleccionar los criterios de impacto",K17) -> 0 | P17: 4 | R17: =IF(OR(S17="Preventivo",S17="Detectivo"),"Probabilidad",IF(S17="Correctivo","Impacto","")) | U17: =IF(AND(S17="Preventivo",T17="Automático"),"50%",IF(AND(S17="Preventivo",T17="Manual"),"40%",IF(AND(S17="Detectivo",T17="Automático"),"40%",IF(AND(S17="Detectivo",T17="Manual"),"30%",IF(AND(S17="Correctivo",T17="Automático"),"35%",IF(AND(S17="Correctivo",T17="Manual"),"25%","")))))) | Y17: =IFERROR(IF(AND(R16="Probabilidad",R17="Probabilidad"),(AA16-(+AA16*U17)),IF(AND(R16="Impacto",R17="Probabilidad"),(AA15-(+AA15*U17)),IF(R17="Impacto",AA16,""))),"") | Z17: =IFERROR(IF(Y17="","",IF(Y17<=0.2,"Rara vez",IF(Y17<=0.4,"Improbable",IF(Y17<=0.6,"Posible",IF(Y17<=0.8,"Probable","Casi Seguro"))))),"") | AA17: =+Y17 | AB17: =IFERROR(IF(AC17="","",IF(AC17<=0.6,"Moderado",IF(AC17<=0.8,"Mayor","Catastrófico"))),"") | AC17: =IFERROR(IF(AND(R16="Impacto",R17="Impacto"),(AC16-(+AC16*U17)),IF(AND(R16="Probabilidad",R17="Impacto"),(AC15-(+AC15*U17)),IF(R17="Probabilidad",AC16,""))),"") | AD17: =IFERROR(IF(OR(AND(Z17="Rara vez",AB17="Leve"),AND(Z17="Rara vez",AB17="Menor"),AND(Z17="Improbable",AB17="Leve")),"Bajo",IF(OR(AND(Z17="Rara vez",AB17="Moderado"),AND(Z17="Improbable",AB17="Menor"),AND(Z17="Improbable",AB17="Moderado"),AND(Z17="Posible",AB17="Leve"),AND(Z17="Posible",AB17="Menor"),AND(Z17="Posible",AB17="Moderado"),AND(Z17="Probable",AB17="Leve"),AND(Z17="Probable",AB17="Menor")),"Moderado",IF(OR(AND(Z17="Rara vez",AB17="Mayor"),AND(Z17="Improbable",AB17="Mayor"),AND(Z17="Posible",AB17="Mayor"),AND(Z17="Probable",AB17="Moderado"),AND(Z17="Probable",AB17="Mayor"),AND(Z17="Casi Seguro",AB17="Leve"),AND(Z17="Casi Seguro",AB17="Menor"),AND(Z17="Casi Seguro",AB17="Moderado"),AND(Z17="Casi Seguro",AB17="Mayor")),"Alto",IF(OR(AND(Z17="Rara vez",AB17="Catastrófico"),AND(Z17="Improbable",AB17="Catastrófico"),AND(Z17="Posible",AB17="Catastrófico"),AND(Z17="Probable",AB17="Catastrófico"),AND(Z17="Casi Seguro",AB17="Catastrófico")),"Extremo","")))),"")
L18: =IF(NOT(ISERROR(MATCH(K18,_xlfn.ANCHORARRAY(G29),0))),J31&"Por favor no seleccionar los criterios de impacto",K18) -> 0 | P18: 5 | R18: =IF(OR(S18="Preventivo",S18="Detectivo"),"Probabilidad",IF(S18="Correctivo","Impacto","")) | U18: =IF(AND(S18="Preventivo",T18="Automático"),"50%",IF(AND(S18="Preventivo",T18="Manual"),"40%",IF(AND(S18="Detectivo",T18="Automático"),"40%",IF(AND(S18="Detectivo",T18="Manual"),"30%",IF(AND(S18="Correctivo",T18="Automático"),"35%",IF(AND(S18="Correctivo",T18="Manual"),"25%","")))))) | Y18: =IFERROR(IF(AND(R17="Probabilidad",R18="Probabilidad"),(AA17-(+AA17*U18)),IF(AND(R17="Impacto",R18="Probabilidad"),(AA16-(+AA16*U18)),IF(R18="Impacto",AA17,""))),"") | Z18: =IFERROR(IF(Y18="","",IF(Y18<=0.2,"Rara vez",IF(Y18<=0.4,"Improbable",IF(Y18<=0.6,"Posible",IF(Y18<=0.8,"Probable","Casi Seguro"))))),"") | AA18: =+Y18 | AB18: =IFERROR(IF(AC18="","",IF(AC18<=0.6,"Moderado",IF(AC18<=0.8,"Mayor","Catastrófico"))),"") | AC18: =IFERROR(IF(AND(R17="Impacto",R18="Impacto"),(AC17-(+AC17*U18)),IF(AND(R17="Probabilidad",R18="Impacto"),(AC16-(+AC16*U18)),IF(R18="Probabilidad",AC17,""))),"") | AD18: =IFERROR(IF(OR(AND(Z18="Rara vez",AB18="Leve"),AND(Z18="Rara vez",AB18="Menor"),AND(Z18="Improbable",AB18="Leve")),"Bajo",IF(OR(AND(Z18="Rara vez",AB18="Moderado"),AND(Z18="Improbable",AB18="Menor"),AND(Z18="Improbable",AB18="Moderado"),AND(Z18="Posible",AB18="Leve"),AND(Z18="Posible",AB18="Menor"),AND(Z18="Posible",AB18="Moderado"),AND(Z18="Probable",AB18="Leve"),AND(Z18="Probable",AB18="Menor")),"Moderado",IF(OR(AND(Z18="Rara vez",AB18="Mayor"),AND(Z18="Improbable",AB18="Mayor"),AND(Z18="Posible",AB18="Mayor"),AND(Z18="Probable",AB18="Moderado"),AND(Z18="Probable",AB18="Mayor"),AND(Z18="Casi Seguro",AB18="Leve"),AND(Z18="Casi Seguro",AB18="Menor"),AND(Z18="Casi Seguro",AB18="Moderado"),AND(Z18="Casi Seguro",AB18="Mayor")),"Alto",IF(OR(AND(Z18="Rara vez",AB18="Catastrófico"),AND(Z18="Improbable",AB18="Catastrófico"),AND(Z18="Posible",AB18="Catastrófico"),AND(Z18="Probable",AB18="Catastrófico"),AND(Z18="Casi Seguro",AB18="Catastrófico")),"Extremo","")))),"")
L19: =IF(NOT(ISERROR(MATCH(K19,_xlfn.ANCHORARRAY(G30),0))),J32&"Por favor no seleccionar los criterios de impacto",K19) -> 0 | P19: 6 | R19: =IF(OR(S19="Preventivo",S19="Detectivo"),"Probabilidad",IF(S19="Correctivo","Impacto","")) | U19: =IF(AND(S19="Preventivo",T19="Automático"),"50%",IF(AND(S19="Preventivo",T19="Manual"),"40%",IF(AND(S19="Detectivo",T19="Automático"),"40%",IF(AND(S19="Detectivo",T19="Manual"),"30%",IF(AND(S19="Correctivo",T19="Automático"),"35%",IF(AND(S19="Correctivo",T19="Manual"),"25%","")))))) | Y19: =IFERROR(IF(AND(R18="Probabilidad",R19="Probabilidad"),(AA18-(+AA18*U19)),IF(AND(R18="Impacto",R19="Probabilidad"),(AA17-(+AA17*U19)),IF(R19="Impacto",AA18,""))),"") | Z19: =IFERROR(IF(Y19="","",IF(Y19<=0.2,"Rara vez",IF(Y19<=0.4,"Improbable",IF(Y19<=0.6,"Posible",IF(Y19<=0.8,"Probable","Casi Seguro"))))),"") | AA19: =+Y19 | AB19: =IFERROR(IF(AC19="","",IF(AC19<=0.6,"Moderado",IF(AC19<=0.8,"Mayor","Catastrófico"))),"") | AC19: =IFERROR(IF(AND(R18="Impacto",R19="Impacto"),(AC18-(+AC18*U19)),IF(AND(R18="Probabilidad",R19="Impacto"),(AC17-(+AC17*U19)),IF(R19="Probabilidad",AC18,""))),"") | AD19: =IFERROR(IF(OR(AND(Z19="Rara vez",AB19="Leve"),AND(Z19="Rara vez",AB19="Menor"),AND(Z19="Improbable",AB19="Leve")),"Bajo",IF(OR(AND(Z19="Rara vez",AB19="Moderado"),AND(Z19="Improbable",AB19="Menor"),AND(Z19="Improbable",AB19="Moderado"),AND(Z19="Posible",AB19="Leve"),AND(Z19="Posible",AB19="Menor"),AND(Z19="Posible",AB19="Moderado"),AND(Z19="Probable",AB19="Leve"),AND(Z19="Probable",AB19="Menor")),"Moderado",IF(OR(AND(Z19="Rara vez",AB19="Mayor"),AND(Z19="Improbable",AB19="Mayor"),AND(Z19="Posible",AB19="Mayor"),AND(Z19="Probable",AB19="Moderado"),AND(Z19="Probable",AB19="Mayor"),AND(Z19="Casi Seguro",AB19="Leve"),AND(Z19="Casi Seguro",AB19="Menor"),AND(Z19="Casi Seguro",AB19="Moderado"),AND(Z19="Casi Seguro",AB19="Mayor")),"Alto",IF(OR(AND(Z19="Rara vez",AB19="Catastrófico"),AND(Z19="Improbable",AB19="Catastrófico"),AND(Z19="Posible",AB19="Catastrófico"),AND(Z19="Probable",AB19="Catastrófico"),AND(Z19="Casi Seguro",AB19="Catastrófico")),"Extremo","")))),"")
B20: RC-GA-1 | C20: Gestión Administrativa | D20: Posibilidad de recibir dádivas o beneficios a nombre propio o de terceros por la sustracción de bienes devolutivos de la Entidad. | E20: Riesgo de Corrupción | F20: Conducta no ética de funcionario o contratista por la sustracción de bienes muebles para beneficio propio o de un tercero | G20: Afectación de la Imagen Institucional Afectación de la ejecución presupuestal Investigaciones penales, fiscales o disciplinarias Requerimientos o sanciones por parte de un Ente de control | H20: No se ha presentado en los últimos 5 años | I20: =IF(H20<=0,"",IF(H20="No se ha presentado en los últimos 5 años","Rara vez",IF(H20="Al menos 1 vez en los últimos 5 años","Improbable",IF(H20="Al menos 1 vez en los últimos 2 años","Posible",IF(H20="Al menos 1 vez en el último año","Probable",IF(H20="Más de 1 vez al año","Casi Seguro")))))) -> Rara vez | J20: =IF(I20="","",IF(I20="Rara vez",0.2,IF(I20="Improbable",0.4,IF(I20="Posible",0.6,IF(I20="Probable",0.8,IF(I20="Casi Seguro",1,)))))) -> 0.2 | K20: Responder afirmativamente de SEIS a ONCE | L20: =IF(NOT(ISERROR(MATCH(K20,'[3]Tabla Impacto'!$B$220:$B$222,0))),'[3]Tabla Impacto'!$F$222&"Por favor no seleccionar los criterios de impacto(Criterios para calificar el impacto)",K20) -> Responder afirmativamente de SEIS a ONCE | M20: =IF(OR(L20='[3]Tabla Impacto'!$C$5),"Moderado",IF(OR(L20='[3]Tabla Impacto'!$C$6),"Mayor",IF(OR(L20='[3]Tabla Impacto'!$C$7),"Catastrófico",""))) -> Mayor | N20: =IF(M20="","",IF(M20="Leve",0.2,IF(M20="Menor",0.4,IF(M20="Moderado",0.6,IF(M20="Mayor",0.8,IF(M20="Catastrófico",1,)))))) -> 0.8 | O20: =IF(OR(AND(I20="Rara vez",M20="Leve"),AND(I20="Rara vez",M20="Menor"),AND(I20="Improbable",M20="Leve")),"Bajo",IF(OR(AND(I20="Rara vez",M20="Moderado"),AND(I20="Improbable",M20="Menor"),AND(I20="Improbable",M20="Moderado"),AND(I20="Posible",M20="Leve"),AND(I20="Posible",M20="Menor"),AND(I20="Posible",M20="Moderado"),AND(I20="Probable",M20="Leve"),AND(I20="Probable",M20="Menor")),"Moderado",IF(OR(AND(I20="Rara vez",M20="Mayor"),AND(I20="Improbable",M20="Mayor"),AND(I20="Posible",M20="Mayor"),AND(I20="Probable",M20="Moderado"),AND(I20="Probable",M20="Mayor"),AND(I20="Casi Seguro",M20="Leve"),AND(I20="Casi Seguro",M20="Menor"),AND(I20="Casi Seguro",M20="Moderado"),AND(I20="Casi Seguro",M20="Mayor")),"Alto",IF(OR(AND(I20="Rara vez",M20="Catastrófico"),AND(I20="Improbable",M20="Catastrófico"),AND(I20="Posible",M20="Catastrófico"),AND(I20="Probable",M20="Catastrófico"),AND(I20="Casi Seguro",M20="Catastrófico")),"Extremo","")))) -> Alto | P20: 1 | Q20: El Técnico de la Dirección Administrativa que realiza que realiza el seguimiento al inventario de bienes devolutivos con una periodicidad semestral, dejando como evidencia el formato de inventario físico, con el fin de detectar el faltante en bienes devolutivos. | R20: =IF(OR(S20="Preventivo",S20="Detectivo"),"Probabilidad",IF(S20="Correctivo","Impacto","")) -> Probabilidad | S20: Preventivo | T20: Manual | U20: =IF(AND(S20="Preventivo",T20="Automático"),"50%",IF(AND(S20="Preventivo",T20="Manual"),"40%",IF(AND(S20="Detectivo",T20="Automático"),"40%",IF(AND(S20="Detectivo",T20="Manual"),"30%",IF(AND(S20="Correctivo",T20="Automático"),"35%",IF(AND(S20="Correctivo",T20="Manual"),"25%","")))))) -> 40% | V20: Documentado | W20: Continua | X20: Con Registro | Y20: =IFERROR(IF(R20="Probabilidad",(J20-(+J20*U20)),IF(R20="Impacto",J20,"")),"") -> 0.12 | Z20: =IFERROR(IF(Y20="","",IF(Y20<=0.2,"Rara vez",IF(Y20<=0.4,"Improbable",IF(Y20<=0.6,"Posible",IF(Y20<=0.8,"Probable","Casi Seguro"))))),"") -> Rara vez | AA20: =+Y20 -> 0.12 | AB20: =IFERROR(IF(AC20="","",IF(AC20<=0.6,"Moderado",IF(AC20<=0.8,"Mayor","Catastrófico"))),"") -> Mayor | AC20: =IFERROR(IF(R20="Impacto",(N20-(+N20*U20)),IF(R20="Probabilidad",N20,"")),"") -> 0.8 | AD20: =IFERROR(IF(OR(AND(Z20="Rara vez",AB20="Leve"),AND(Z20="Rara vez",AB20="Menor"),AND(Z20="Improbable",AB20="Leve")),"Bajo",IF(OR(AND(Z20="Rara vez",AB20="Moderado"),AND(Z20="Improbable",AB20="Menor"),AND(Z20="Improbable",AB20="Moderado"),AND(Z20="Posible",AB20="Leve"),AND(Z20="Posible",AB20="Menor"),AND(Z20="Posible",AB20="Moderado"),AND(Z20="Probable",AB20="Leve"),AND(Z20="Probable",AB20="Menor")),"Moderado",IF(OR(AND(Z20="Rara vez",AB20="Mayor"),AND(Z20="Improbable",AB20="Mayor"),AND(Z20="Posible",AB20="Mayor"),AND(Z20="Probable",AB20="Moderado"),AND(Z20="Probable",AB20="Mayor"),AND(Z20="Casi Seguro",AB20="Leve"),AND(Z20="Casi Seguro",AB20="Menor"),AND(Z20="Casi Seguro",AB20="Moderado"),AND(Z20="Casi Seguro",AB20="Mayor")),"Alto",IF(OR(AND(Z20="Rara vez",AB20="Catastrófico"),AND(Z20="Improbable",AB20="Catastrófico"),AND(Z20="Posible",AB20="Catastrófico"),AND(Z20="Probable",AB20="Catastrófico"),AND(Z20="Casi Seguro",AB20="Catastrófico")),"Extremo","")))),"") -> Alto | AL20: 45428 | AM20: Monitoreado | AN20: =+O20 -> Alto | AO20: =AD23 -> Moderado
L21: =IF(NOT(ISERROR(MATCH(K21,_xlfn.ANCHORARRAY(G32),0))),J34&"Por favor no seleccionar los criterios de impacto",K21) -> 0 | P21: 2 | Q21: en el caso que se requiera ingreso y salida de muebles y equipos de la Sea, la empresa de seguridad requiriera los formatos que evidencien la autorización pertinente dejando como evidencia la minuta respectiva, En caso de que existan desviaciones se solicitará a la empresa de seguridad las grabaciones correspondientes para verificar el responsable de la pérdida o hurto. | R21: =IF(OR(S21="Preventivo",S21="Detectivo"),"Probabilidad",IF(S21="Correctivo","Impacto","")) -> Probabilidad | S21: Detectivo | T21: Manual | U21: =IF(AND(S21="Preventivo",T21="Automático"),"50%",IF(AND(S21="Preventivo",T21="Manual"),"40%",IF(AND(S21="Detectivo",T21="Automático"),"40%",IF(AND(S21="Detectivo",T21="Manual"),"30%",IF(AND(S21="Correctivo",T21="Automático"),"35%",IF(AND(S21="Correctivo",T21="Manual"),"25%","")))))) -> 30% | V21: Sin Documentar | W21: Continua | X21: Con Registro | Y21: =IFERROR(IF(AND(R20="Probabilidad",R21="Probabilidad"),(AA20-(+AA20*U21)),IF(R21="Probabilidad",(J20-(+J20*U21)),IF(R21="Impacto",AA20,""))),"") -> 0.084 | Z21: =IFERROR(IF(Y21="","",IF(Y21<=0.2,"Rara vez",IF(Y21<=0.4,"Improbable",IF(Y21<=0.6,"Posible",IF(Y21<=0.8,"Probable","Casi Seguro"))))),"") -> Rara vez | AA21: =+Y21 -> 0.084 | AB21: =IFERROR(IF(AC21="","",IF(AC21<=0.6,"Moderado",IF(AC21<=0.8,"Mayor","Catastrófico"))),"") -> Mayor | AC21: =IFERROR(IF(AND(R20="Impacto",R21="Impacto"),(AC20-(+AC20*U21)),IF(R21="Impacto",(N20-(+N20*U21)),IF(R21="Probabilidad",AC20,""))),"") -> 0.8 | AD21: =IFERROR(IF(OR(AND(Z21="Rara vez",AB21="Leve"),AND(Z21="Rara vez",AB21="Menor"),AND(Z21="Improbable",AB21="Leve")),"Bajo",IF(OR(AND(Z21="Rara vez",AB21="Moderado"),AND(Z21="Improbable",AB21="Menor"),AND(Z21="Improbable",AB21="Moderado"),AND(Z21="Posible",AB21="Leve"),AND(Z21="Posible",AB21="Menor"),AND(Z21="Posible",AB21="Moderado"),AND(Z21="Probable",AB21="Leve"),AND(Z21="Probable",AB21="Menor")),"Moderado",IF(OR(AND(Z21="Rara vez",AB21="Mayor"),AND(Z21="Improbable",AB21="Mayor"),AND(Z21="Posible",AB21="Mayor"),AND(Z21="Probable",AB21="Moderado"),AND(Z21="Probable",AB21="Mayor"),AND(Z21="Casi Seguro",AB21="Leve"),AND(Z21="Casi Seguro",AB21="Menor"),AND(Z21="Casi Seguro",AB21="Moderado"),AND(Z21="Casi Seguro",AB21="Mayor")),"Alto",IF(OR(AND(Z21="Rara vez",AB21="Catastrófico"),AND(Z21="Improbable",AB21="Catastrófico"),AND(Z21="Posible",AB21="Catastrófico"),AND(Z21="Probable",AB21="Catastrófico"),AND(Z21="Casi Seguro",AB21="Catastrófico")),"Extremo","")))),"") -> Alto
L22: =IF(NOT(ISERROR(MATCH(K22,_xlfn.ANCHORARRAY(G33),0))),J35&"Por favor no seleccionar los criterios de impacto",K22) -> 0 | P22: 3 | Q22: El técnico responsable de la Dirección Administrativa de manera trimestral o cuando lo considere pertinente reportara los bienes de propiedad planta y equipo que deben ser asegurados en la póliza de Todo Riesgo Daño Material dejando como evidencia la póliza de seguros vigente con el fin de amparar estos bienes y actualizar la información conforme a las entradas y salida de inventario. Como evidencia queda el reporte y/o la póliza. | R22: =IF(OR(S22="Preventivo",S22="Detectivo"),"Probabilidad",IF(S22="Correctivo","Impacto","")) -> Probabilidad | S22: Preventivo | T22: Manual | U22: =IF(AND(S22="Preventivo",T22="Automático"),"50%",IF(AND(S22="Preventivo",T22="Manual"),"40%",IF(AND(S22="Detectivo",T22="Automático"),"40%",IF(AND(S22="Detectivo",T22="Manual"),"30%",IF(AND(S22="Correctivo",T22="Automático"),"35%",IF(AND(S22="Correctivo",T22="Manual"),"25%","")))))) -> 40% | V22: Documentado | W22: Continua | X22: Con Registro | Y22: =IFERROR(IF(AND(R21="Probabilidad",R22="Probabilidad"),(AA21-(+AA21*U22)),IF(AND(R21="Impacto",R22="Probabilidad"),(AA20-(+AA20*U22)),IF(R22="Impacto",AA21,""))),"") -> 0.0504 | Z22: =IFERROR(IF(Y22="","",IF(Y22<=0.2,"Rara vez",IF(Y22<=0.4,"Improbable",IF(Y22<=0.6,"Posible",IF(Y22<=0.8,"Probable","Casi Seguro"))))),"") -> Rara vez | AA22: =+Y22 -> 0.0504 | AB22: =IFERROR(IF(AC22="","",IF(AC22<=0.6,"Moderado",IF(AC22<=0.8,"Mayor","Catastrófico"))),"") -> Mayor | AC22: =IFERROR(IF(AND(R21="Impacto",R22="Impacto"),(AC21-(+AC21*U22)),IF(AND(R21="Probabilidad",R22="Impacto"),(AC20-(+AC20*U22)),IF(R22="Probabilidad",AC21,""))),"") -> 0.8 | AD22: =IFERROR(IF(OR(AND(Z22="Rara vez",AB22="Leve"),AND(Z22="Rara vez",AB22="Menor"),AND(Z22="Improbable",AB22="Leve")),"Bajo",IF(OR(AND(Z22="Rara vez",AB22="Moderado"),AND(Z22="Improbable",AB22="Menor"),AND(Z22="Improbable",AB22="Moderado"),AND(Z22="Posible",AB22="Leve"),AND(Z22="Posible",AB22="Menor"),AND(Z22="Posible",AB22="Moderado"),AND(Z22="Probable",AB22="Leve"),AND(Z22="Probable",AB22="Menor")),"Moderado",IF(OR(AND(Z22="Rara vez",AB22="Mayor"),AND(Z22="Improbable",AB22="Mayor"),AND(Z22="Posible",AB22="Mayor"),AND(Z22="Probable",AB22="Moderado"),AND(Z22="Probable",AB22="Mayor"),AND(Z22="Casi Seguro",AB22="Leve"),AND(Z22="Casi Seguro",AB22="Menor"),AND(Z22="Casi Seguro",AB22="Moderado"),AND(Z22="Casi Seguro",AB22="Mayor")),"Alto",IF(OR(AND(Z22="Rara vez",AB22="Catastrófico"),AND(Z22="Improbable",AB22="Catastrófico"),AND(Z22="Posible",AB22="Catastrófico"),AND(Z22="Probable",AB22="Catastrófico"),AND(Z22="Casi Seguro",AB22="Catastrófico")),"Extremo","")))),"") -> Alto
L23: =IF(NOT(ISERROR(MATCH(K23,_xlfn.ANCHORARRAY(G34),0))),J36&"Por favor no seleccionar los criterios de impacto",K23) -> 0 | P23: 4 | Q23: El profesional de la Dirección Administrativa una vez detecte la perdida del bien devolutivo hará efectiva los amparos de la póliza todo riesgo y tramitara la indemnización del siniestro para la reposición del bien. Como evidencia presentación del reclamo. | R23: =IF(OR(S23="Preventivo",S23="Detectivo"),"Probabilidad",IF(S23="Correctivo","Impacto","")) -> Impacto | S23: Correctivo | T23: Manual | U23: =IF(AND(S23="Preventivo",T23="Automático"),"50%",IF(AND(S23="Preventivo",T23="Manual"),"40%",IF(AND(S23="Detectivo",T23="Automático"),"40%",IF(AND(S23="Detectivo",T23="Manual"),"30%",IF(AND(S23="Correctivo",T23="Automático"),"35%",IF(AND(S23="Correctivo",T23="Manual"),"25%","")))))) -> 25% | V23: Documentado | W23: Continua | X23: Con Registro | Y23: =IFERROR(IF(AND(R22="Probabilidad",R23="Probabilidad"),(AA22-(+AA22*U23)),IF(AND(R22="Impacto",R23="Probabilidad"),(AA21-(+AA21*U23)),IF(R23="Impacto",AA22,""))),"") -> 0.0504 | Z23: =IFERROR(IF(Y23="","",IF(Y23<=0.2,"Rara vez",IF(Y23<=0.4,"Improbable",IF(Y23<=0.6,"Posible",IF(Y23<=0.8,"Probable","Casi Seguro"))))),"") -> Rara vez | AA23: =+Y23 -> 0.0504 | AB23: =IFERROR(IF(AC23="","",IF(AC23<=0.6,"Moderado",IF(AC23<=0.8,"Mayor","Catastrófico"))),"") -> Moderado | AC23: =IFERROR(IF(AND(R22="Impacto",R23="Impacto"),(AC22-(+AC22*U23)),IF(AND(R22="Probabilidad",R23="Impacto"),(AC21-(+AC21*U23)),IF(R23="Probabilidad",AC22,""))),"") -> 0.6 | AD23: =IFERROR(IF(OR(AND(Z23="Rara vez",AB23="Leve"),AND(Z23="Rara vez",AB23="Menor"),AND(Z23="Improbable",AB23="Leve")),"Bajo",IF(OR(AND(Z23="Rara vez",AB23="Moderado"),AND(Z23="Improbable",AB23="Menor"),AND(Z23="Improbable",AB23="Moderado"),AND(Z23="Posible",AB23="Leve"),AND(Z23="Posible",AB23="Menor"),AND(Z23="Posible",AB23="Moderado"),AND(Z23="Probable",AB23="Leve"),AND(Z23="Probable",AB23="Menor")),"Moderado",IF(OR(AND(Z23="Rara vez",AB23="Mayor"),AND(Z23="Improbable",AB23="Mayor"),AND(Z23="Posible",AB23="Mayor"),AND(Z23="Probable",AB23="Moderado"),AND(Z23="Probable",AB23="Mayor"),AND(Z23="Casi Seguro",AB23="Leve"),AND(Z23="Casi Seguro",AB23="Menor"),AND(Z23="Casi Seguro",AB23="Moderado"),AND(Z23="Casi Seguro",AB23="Mayor")),"Alto",IF(OR(AND(Z23="Rara vez",AB23="Catastrófico"),AND(Z23="Improbable",AB23="Catastrófico"),AND(Z23="Posible",AB23="Catastrófico"),AND(Z23="Probable",AB23="Catastrófico"),AND(Z23="Casi Seguro",AB23="Catastrófico")),"Extremo","")))),"") -> Moderado | AE23: Reducir (mitigar) | AF23: Revisar y actualizar el procedimiento de bienes Devolutivos | AG23: Director Administrativo | AH23: 45657 | AI23: 45322 | AK23: En curso
L24: =IF(NOT(ISERROR(MATCH(K24,_xlfn.ANCHORARRAY(G35),0))),J37&"Por favor no seleccionar los criterios de impacto",K24) -> 0 | P24: 5 | R24: =IF(OR(S24="Preventivo",S24="Detectivo"),"Probabilidad",IF(S24="Correctivo","Impacto","")) | U24: =IF(AND(S24="Preventivo",T24="Automático"),"50%",IF(AND(S24="Preventivo",T24="Manual"),"40%",IF(AND(S24="Detectivo",T24="Automático"),"40%",IF(AND(S24="Detectivo",T24="Manual"),"30%",IF(AND(S24="Correctivo",T24="Automático"),"35%",IF(AND(S24="Correctivo",T24="Manual"),"25%","")))))) | Y24: =IFERROR(IF(AND(R23="Probabilidad",R24="Probabilidad"),(AA23-(+AA23*U24)),IF(AND(R23="Impacto",R24="Probabilidad"),(AA22-(+AA22*U24)),IF(R24="Impacto",AA23,""))),"") | Z24: =IFERROR(IF(Y24="","",IF(Y24<=0.2,"Rara vez",IF(Y24<=0.4,"Improbable",IF(Y24<=0.6,"Posible",IF(Y24<=0.8,"Probable","Casi Seguro"))))),"") | AA24: =+Y24 | AB24: =IFERROR(IF(AC24="","",IF(AC24<=0.6,"Moderado",IF(AC24<=0.8,"Mayor","Catastrófico"))),"") | AC24: =IFERROR(IF(AND(R23="Impacto",R24="Impacto"),(AC23-(+AC23*U24)),IF(AND(R23="Probabilidad",R24="Impacto"),(AC22-(+AC22*U24)),IF(R24="Probabilidad",AC23,""))),"") | AD24: =IFERROR(IF(OR(AND(Z24="Muy Baja",AB24="Leve"),AND(Z24="Muy Baja",AB24="Menor"),AND(Z24="Baja",AB24="Leve")),"Bajo",IF(OR(AND(Z24="Muy baja",AB24="Moderado"),AND(Z24="Baja",AB24="Menor"),AND(Z24="Baja",AB24="Moderado"),AND(Z24="Media",AB24="Leve"),AND(Z24="Media",AB24="Menor"),AND(Z24="Media",AB24="Moderado"),AND(Z24="Alta",AB24="Leve"),AND(Z24="Alta",AB24="Menor")),"Moderado",IF(OR(AND(Z24="Muy Baja",AB24="Mayor"),AND(Z24="Baja",AB24="Mayor"),AND(Z24="Media",AB24="Mayor"),AND(Z24="Alta",AB24="Moderado"),AND(Z24="Alta",AB24="Mayor"),AND(Z24="Muy Alta",AB24="Leve"),AND(Z24="Muy Alta",AB24="Menor"),AND(Z24="Muy Alta",AB24="Moderado"),AND(Z24="Muy Alta",AB24="Mayor")),"Alto",IF(OR(AND(Z24="Muy Baja",AB24="Catastrófico"),AND(Z24="Baja",AB24="Catastrófico"),AND(Z24="Media",AB24="Catastrófico"),AND(Z24="Alta",AB24="Catastrófico"),AND(Z24="Muy Alta",AB24="Catastrófico")),"Extremo","")))),"")
L25: =IF(NOT(ISERROR(MATCH(K25,_xlfn.ANCHORARRAY(G36),0))),J38&"Por favor no seleccionar los criterios de impacto",K25) -> 0 | P25: 6 | R25: =IF(OR(S25="Preventivo",S25="Detectivo"),"Probabilidad",IF(S25="Correctivo","Impacto","")) | U25: =IF(AND(S25="Preventivo",T25="Automático"),"50%",IF(AND(S25="Preventivo",T25="Manual"),"40%",IF(AND(S25="Detectivo",T25="Automático"),"40%",IF(AND(S25="Detectivo",T25="Manual"),"30%",IF(AND(S25="Correctivo",T25="Automático"),"35%",IF(AND(S25="Correctivo",T25="Manual"),"25%","")))))) | Y25: =IFERROR(IF(AND(R24="Probabilidad",R25="Probabilidad"),(AA24-(+AA24*U25)),IF(AND(R24="Impacto",R25="Probabilidad"),(AA23-(+AA23*U25)),IF(R25="Impacto",AA24,""))),"") | Z25: =IFERROR(IF(Y25="","",IF(Y25<=0.2,"Rara vez",IF(Y25<=0.4,"Improbable",IF(Y25<=0.6,"Posible",IF(Y25<=0.8,"Probable","Casi Seguro"))))),"") | AA25: =+Y25 | AB25: =IFERROR(IF(AC25="","",IF(AC25<=0.6,"Moderado",IF(AC25<=0.8,"Mayor","Catastrófico"))),"") | AC25: =IFERROR(IF(AND(R24="Impacto",R25="Impacto"),(AC24-(+AC24*U25)),IF(AND(R24="Probabilidad",R25="Impacto"),(AC23-(+AC23*U25)),IF(R25="Probabilidad",AC24,""))),"") | AD25: =IFERROR(IF(OR(AND(Z25="Muy Baja",AB25="Leve"),AND(Z25="Muy Baja",AB25="Menor"),AND(Z25="Baja",AB25="Leve")),"Bajo",IF(OR(AND(Z25="Muy baja",AB25="Moderado"),AND(Z25="Baja",AB25="Menor"),AND(Z25="Baja",AB25="Moderado"),AND(Z25="Media",AB25="Leve"),AND(Z25="Media",AB25="Menor"),AND(Z25="Media",AB25="Moderado"),AND(Z25="Alta",AB25="Leve"),AND(Z25="Alta",AB25="Menor")),"Moderado",IF(OR(AND(Z25="Muy Baja",AB25="Mayor"),AND(Z25="Baja",AB25="Mayor"),AND(Z25="Media",AB25="Mayor"),AND(Z25="Alta",AB25="Moderado"),AND(Z25="Alta",AB25="Mayor"),AND(Z25="Muy Alta",AB25="Leve"),AND(Z25="Muy Alta",AB25="Menor"),AND(Z25="Muy Alta",AB25="Moderado"),AND(Z25="Muy Alta",AB25="Mayor")),"Alto",IF(OR(AND(Z25="Muy Baja",AB25="Catastrófico"),AND(Z25="Baja",AB25="Catastrófico"),AND(Z25="Media",AB25="Catastrófico"),AND(Z25="Alta",AB25="Catastrófico"),AND(Z25="Muy Alta",AB25="Catastrófico")),"Extremo","")))),"")
B26: RC-GD-1 | C26: Gestión Documental | D26: Hurto o uso indebido de información critica y sensible de los procesos para beneficio de terceros | E26: Riesgo de Corrupción | F26: Falta de seguridad en los depósitos de los archivos por la no aplicación de los lineamientos establecidos | G26: 1. Sanciones de entes de Control. 2. Investigaciones disciplinarias, penales y fiscales 3. Mala imagen institucional 4. Perdida de la memoria institucional | H26: Al menos 1 vez en los últimos 2 años | I26: =IF(H26<=0,"",IF(H26="No se ha presentado en los últimos 5 años","Rara vez",IF(H26="Al menos 1 vez en los últimos 5 años","Improbable",IF(H26="Al menos 1 vez en los últimos 2 años","Posible",IF(H26="Al menos 1 vez en el último año","Probable",IF(H26="Más de 1 vez al año","Casi Seguro")))))) -> Posible | J26: =IF(I26="","",IF(I26="Rara vez",0.2,IF(I26="Improbable",0.4,IF(I26="Posible",0.6,IF(I26="Probable",0.8,IF(I26="Casi Seguro",1,)))))) -> 0.6 | K26: Responder afirmativamente de SEIS a ONCE | L26: =IF(NOT(ISERROR(MATCH(K26,'[4]Tabla Impacto'!$B$220:$B$222,0))),'[4]Tabla Impacto'!$F$222&"Por favor no seleccionar los criterios de impacto(Criterios para calificar el impacto)",K26) -> Responder afirmativamente de SEIS a ONCE | M26: =IF(OR(L26='[4]Tabla Impacto'!$C$5),"Moderado",IF(OR(L26='[4]Tabla Impacto'!$C$6),"Mayor",IF(OR(L26='[4]Tabla Impacto'!$C$7),"Catastrófico",""))) -> Mayor | N26: =IF(M26="","",IF(M26="Leve",0.2,IF(M26="Menor",0.4,IF(M26="Moderado",0.6,IF(M26="Mayor",0.8,IF(M26="Catastrófico",1,)))))) -> 0.8 | O26: =IF(OR(AND(I26="Rara vez",M26="Leve"),AND(I26="Rara vez",M26="Menor"),AND(I26="Improbable",M26="Leve")),"Bajo",IF(OR(AND(I26="Rara vez",M26="Moderado"),AND(I26="Improbable",M26="Menor"),AND(I26="Improbable",M26="Moderado"),AND(I26="Posible",M26="Leve"),AND(I26="Posible",M26="Menor"),AND(I26="Posible",M26="Moderado"),AND(I26="Probable",M26="Leve"),AND(I26="Probable",M26="Menor")),"Moderado",IF(OR(AND(I26="Rara vez",M26="Mayor"),AND(I26="Improbable",M26="Mayor"),AND(I26="Posible",M26="Mayor"),AND(I26="Probable",M26="Moderado"),AND(I26="Probable",M26="Mayor"),AND(I26="Casi Seguro",M26="Leve"),AND(I26="Casi Seguro",M26="Menor"),AND(I26="Casi Seguro",M26="Moderado"),AND(I26="Casi Seguro",M26="Mayor")),"Alto",IF(OR(AND(I26="Rara vez",M26="Catastrófico"),AND(I26="Improbable",M26="Catastrófico"),AND(I26="Posible",M26="Catastrófico"),AND(I26="Probable",M26="Catastrófico"),AND(I26="Casi Seguro",M26="Catastrófico")),"Extremo","")))) -> Alto | P26: 1 | Q26: El guarda seguridad revisa cada vez que se ingresa a las instalaciones las pertenencias personales verificando que no ingresen USB, maletas, etc., verificando ingresos por cámaras de vigilancia. Como evidencia queda supervisión de este contrato. | R26: =IF(OR(S26="Preventivo",S26="Detectivo"),"Probabilidad",IF(S26="Correctivo","Impacto","")) -> Probabilidad | S26: Preventivo | T26: Manual | U26: =IF(AND(S26="Preventivo",T26="Automático"),"50%",IF(AND(S26="Preventivo",T26="Manual"),"40%",IF(AND(S26="Detectivo",T26="Automático"),"40%",IF(AND(S26="Detectivo",T26="Manual"),"30%",IF(AND(S26="Correctivo",T26="Automático"),"35%",IF(AND(S26="Correctivo",T26="Manual"),"25%","")))))) -> 40% | V26: Documentado | W26: Continua | X26: Con Registro | Y26: =IFERROR(IF(R26="Probabilidad",(J26-(+J26*U26)),IF(R26="Impacto",J26,"")),"") -> 0.36 | Z26: =IFERROR(IF(Y26="","",IF(Y26<=0.2,"Rara vez",IF(Y26<=0.4,"Improbable",IF(Y26<=0.6,"Posible",IF(Y26<=0.8,"Probable","Casi Seguro"))))),"") -> Improbable | AA26: =+Y26 -> 0.36 | AB26: =IFERROR(IF(AC26="","",IF(AC26<=0.6,"Moderado",IF(AC26<=0.8,"Mayor","Catastrófico"))),"") -> Mayor | AC26: =IFERROR(IF(R26="Impacto",(N26-(+N26*U26)),IF(R26="Probabilidad",N26,"")),"") -> 0.8 | AD26: =IFERROR(IF(OR(AND(Z26="Rara vez",AB26="Leve"),AND(Z26="Rara vez",AB26="Menor"),AND(Z26="Improbable",AB26="Leve")),"Bajo",IF(OR(AND(Z26="Rara vez",AB26="Moderado"),AND(Z26="Improbable",AB26="Menor"),AND(Z26="Improbable",AB26="Moderado"),AND(Z26="Posible",AB26="Leve"),AND(Z26="Posible",AB26="Menor"),AND(Z26="Posible",AB26="Moderado"),AND(Z26="Probable",AB26="Leve"),AND(Z26="Probable",AB26="Menor")),"Moderado",IF(OR(AND(Z26="Rara vez",AB26="Mayor"),AND(Z26="Improbable",AB26="Mayor"),AND(Z26="Posible",AB26="Mayor"),AND(Z26="Probable",AB26="Moderado"),AND(Z26="Probable",AB26="Mayor"),AND(Z26="Casi Seguro",AB26="Leve"),AND(Z26="Casi Seguro",AB26="Menor"),AND(Z26="Casi Seguro",AB26="Moderado"),AND(Z26="Casi Seguro",AB26="Mayor")),"Alto",IF(OR(AND(Z26="Rara vez",AB26="Catastrófico"),AND(Z26="Improbable",AB26="Catastrófico"),AND(Z26="Posible",AB26="Catastrófico"),AND(Z26="Probable",AB26="Catastrófico"),AND(Z26="Casi Seguro",AB26="Catastrófico")),"Extremo","")))),"") -> Alto | AL26: 45428 | AM26: Monitoreado | AN26: =+O26 -> Alto | AO26: =AD29 -> Moderado
