Workbook

Sheet Instructivo
K2: Versión: 02
K3: Código:
B4: Proceso Gestión de Cumplimiento Formato Identificación de Riesgos de Corrupción
B6: INSTRUCCIONES PARA EL DILIGENCIAMIENTO DEL FORMATO
B7: NO IMPRIMIR
B8: 1. Generalidades
B9: Con el objetivo de dar respuesta al requisito 6.1 de la estructura de alto nivel de las normas ISO 9001, ISO 14001, ISO 39001 e ISO 45001, Familia ISO 27000, documentos y las políticas del Modelo Integrado de Planeación y Gestión - MIPG en lo relacionado con la identificación, gestión y tratamiento de los riesgos, la organización ha establecido la presente metodología para realizar el proceso de gestión de riesgos de la SAE.
B11: El archivo contiene las siguientes hojas: - Hoja 1 Instructivo - Hoja 2 Mapa Final: Encontrará la totalidad de la estructura para la identificación y valoración de los riesgos por proceso, programa o proyecto, acorde con el nivel de desagregación que la entidad considere necesaria.
C14: Columna | D14: Descripción - Lineamientos para el diligenciamiento
C15: Código Riesgo | D15: Permite definir un consecutivo de riesgos. Esta información la debe administrar la oficina de integridad, anticorrupción y cumplimiento. Cuando un riesgo salga del mapa no existirá otro riesgo con el mismo número.
C16: Proceso | D16: Seleccione de la lista desplegable el nombre del proceso al cual se le identificarán y valorarán los riesgos de corrupción.
C17: Descripción del Riesgo | D17: La descripción del riesgo de corrupción debe contener todos los detalles que sean necesarios y que sea fácil de entender tanto para el líder del proceso como para personas ajenas al proceso. Tenga en cuenta la estructura de alto nivel establecida en la guía: ACCIÓN U OMISIÓN + USO DEL PODER + DESVIACIÓN DE LA GESTIÓN DE LO PÚBLICO + EL BENEFICIO PRIVADO.
C18: Causa | D18: Causa principal o básica, corresponde a las razones por la cuales se puede presentar el riesgo de corrupción, redacte de la forma más concreta posible.
C19: Efecto | D19: Que puede llegar a ocasionar el riesgo de corrupción
C20: Criterios de probabilidad | D20: Utilice la lista de despliegue que se encuentra parametrizada, le aparecerán las opciones de la hoja "Tabla Probabilidad" del presente documento. La matriz automáticamente hará el cálculo para el nivel de impacto inherente (Columnas M-N)
C21: Criterios de Impacto | D21: Utilice la lista de despliegue que se encuentra parametrizada, le aparecerán las opciones de la hoja "Tabla Impacto" del presente documento. La matriz automáticamente hará el cálculo para el nivel de impacto inherente (Columnas H-I)
C22: Zona de Riesgo Inherente | D22: Teniendo en cuenta que ingresó la información de PROBABILIDAD e IMPACTO, la matriz automáticamente hará el cálculo para la zona de riesgo inherente (Columna N)
C23: No. Control | D23: Permite definir un consecutivo de controles Esta información la debe administrar la oficina de planeación.
C24: Descripción del Control | D24: Para una adecuada redacción del control se propone una estructura que facilitará más adelante entender su tipología y otros atributos para su valoración: Responsable de ejecutar el control + Acción + Complemento Recuerde que el control se define como la medida que permite reducir o mitigar un riesgo. Defina el (los) control (es) que atacan la causa raíz del riesgo.
C25: Afectación | D25: Esta casilla no se diligencia, depende de la selección en la columna S. (probabilidad o impacto)
... C34: Tratamiento (Plan de Acción) Responsable, fecha implementación, fecha seguimiento, seguimiento. | D34: Esta casilla dependerá del tratamiento establecido, si es Aceptar no se requieren acciones adicionales, en caso de escoger Reducir (mitigar) se deben diligenciar las acciones que se adelantarán como complemento a los controles establecidos, no necesariamente son controles adicionales. Para Reducir (compartir), es viable diligenciar la acción que deriva de esta (ejemplo póliza seguros, terceración), indicando información relevante.
C35: Tratamiento (Plan de acción) | D35: Responsable | E35: Fecha de implementación | F35: Fecha de seguimiento | G35: Seguimiento | H35: Estado
C36: Defina la actividad a realizar para dar tratamiento al riesgo | D36: Defina el responsable de realizar la actividad | E36: Defina la fecha de implementación de la actividad definida en el plan de acción | F36: Defina la fecha en la que se va a realizar el seguimiento a la implementación de la actividad | G36: Realice el análisis cualitativa del seguimiento de la actividad | H36: Utilice la lista de despliegue que se encuentra parametrizada, le aparecerán las opciones: i)Finalizado, ii)En curso, la selección en este caso dependerá de las acciones del plan que se hayan establecido en cada caso.
C37: Fecha de identificación | E37: Fecha próxima revisión | F37: Estado | G37: Fecha de Monitoreo | H37: Análisis | I37: Valoración | J37: Fecha próximo monitoreo
C38: Relacione la fecha en la que se identificó el riesgo | E38: Relacione la fecha en la que se debe revisar nuevamente el riesgo (la recomendación es que se realice al año de haberse identificado) | F38: Relacione el estado del riesgo (Activo, Monitoreado, Materializado) | G38: Relacione la fecha en la que se realizó el monitoreo del riesgo | H38: Este campo está formulado | I38: Este campo está formulado | J38: Relacione la fecha en la que se debe realizar el próximo monitoreo de acuerdo a la calificación del riesgo.
B41: - Hoja 3 Tabla de probabilidad: Tabla referente para todos los cálculos (no se diligencia)
B42: - Hoja 4 Tabla de Impacto: Tabla referente para todos los cálculos (no se diligencia)
B43: - Hoja 5 Tabla de Valoración de Controles: Tabla referente para todos los cálculos (no se diligencia)

Sheet Mapa final
B2: GESTIÓN DE CUMPLIMIENTO FORMATO IDENTIFICACIÓN DE RIESGOS DE CORRUPCIÓN | AR2: Código: FO-GP-002 Versión: 1 Vigencia desde: 24/072024
B5: Identificación del riesgo | H5: Análisis del riesgo inherente | P5: Evaluación del riesgo - Valoración de los controles | Y5: Evaluación del riesgo - Nivel del riesgo residual | AF5: Tratamiento (Plan de Acción) | AL5: Monitoreo
B6: Código Riesgo | C6: Proceso | D6: Descripción del Riesgo | E6: Clase | F6: Causa | G6: Efecto | H6: Criterios probabilidad | I6: Probabilidad Inherente | J6: % | K6: Criterios de impacto | L6: Observación de criterio | M6: Impacto Inherente | N6: % | O6: Zona de Riesgo Inherente | P6: No. Control | Q6: Descripción del Control | R6: Afectación | S6: Atributos | Y6: Probabilidad Residual | Z6: Probabilidad Residual Final | AA6: % | AB6: Impacto Residual Final | AC6: % | AD6: Zona de Riesgo Final | AE6: Tratamiento | AF6: Tratamiento (Plan de Acción) | AG6: Responsable | AH6: Fecha Implementación | AI6: Fecha Seguimiento | AJ6: Seguimiento | AK6: Estado | AL6: Fecha de identificación | AM6: Fecha de identificación | AN6: Fecha de identificación | AO6: Fecha de monitoreo | AP6: Análisis | AQ6: Valoración | AR6: Fecha de próximo monitoreo
S7: Tipo | T7: Implementación | U7: Calificación | V7: Documentación | W7: Frecuencia | X7: Evidencia
B8: RC-CE-1 | C8: Comunicación Estratégica y Atención a las Ciudadanías | D8: Posibilidad de conflicto de interés particular y directo que impacta la respuesta dada a las peticiones, quejas, reclamos, sugerencias y denuncias que son atendidas por la Entidad. | E8: Conflicto de Interés | F8: Las respuestas dadas a las PQRSD se encuentran a cargo de un único profesional , lo cual impide que se ejecute control sobre las decisiones tomadas | G8: Falta de credibilidad en la gestión institucional. | H8: No se ha presentado en los últimos 5 años | I8: =IF(H8<=0,"",IF(H8="No se ha presentado en los últimos 5 años","Rara vez",IF(H8="Al menos 1 vez en los últimos 5 años","Improbable",IF(H8="Al menos 1 vez en los últimos 2 años","Posible",IF(H8="Al menos 1 vez en el último año","Probable",IF(H8="Más de 1 vez al año","Casi Seguro")))))) -> Rara vez | J8: =IF(I8="","",IF(I8="Rara vez",0.2,IF(I8="Improbable",0.4,IF(I8="Posible",0.6,IF(I8="Probable",0.8,IF(I8="Casi Seguro",1,)))))) -> 0.2 | K8: Responder afirmativamente de SEIS a ONCE | L8: =IF(NOT(ISERROR(MATCH(K8,'Tabla Impacto'!$B$220:$B$222,0))),'Tabla Impacto'!$F$222&"Por favor no seleccionar los criterios de impacto(Criterios para calificar el impacto)",K8) -> Responder afirmativamente de SEIS a ONCE | M8: =IF(OR(L8='Tabla Impacto'!$C$5),"Moderado",IF(OR(L8='Tabla Impacto'!$C$6),"Mayor",IF(OR(L8='Tabla Impacto'!$C$7),"Catastrófico",""))) -> Mayor | N8: =IF(M8="","",IF(M8="Leve",0.2,IF(M8="Menor",0.4,IF(M8="Moderado",0.6,IF(M8="Mayor",0.8,IF(M8="Catastrófico",1,)))))) -> 0.8 | O8: =IF(OR(AND(I8="Rara vez",M8="Leve"),AND(I8="Rara vez",M8="Menor"),AND(I8="Improbable",M8="Leve")),"Bajo",IF(OR(AND(I8="Rara vez",M8="Moderado"),AND(I8="Improbable",M8="Menor"),AND(I8="Improbable",M8="Moderado"),AND(I8="Posible",M8="Leve"),AND(I8="Posible",M8="Menor"),AND(I8="Posible",M8="Moderado"),AND(I8="Probable",M8="Leve"),AND(I8="Probable",M8="Menor")),"Moderado",IF(OR(AND(I8="Rara vez",M8="Mayor"),AND(I8="Improbable",M8="Mayor"),AND(I8="Posible",M8="Mayor"),AND(I8="Probable",M8="Moderado"),AND(I8="Probable",M8="Mayor"),AND(I8="Casi Seguro",M8="Leve"),AND(I8="Casi Seguro",M8="Menor"),AND(I8="Casi Seguro",M8="Moderado"),AND(I8="Casi Seguro",M8="Mayor")),"Alto",IF(OR(AND(I8="Rara vez",M8="Catastrófico"),AND(I8="Improbable",M8="Catastrófico"),AND(I8="Posible",M8="Catastrófico"),AND(I8="Probable",M8="Catastrófico"),AND(I8="Casi Seguro",M8="Catastrófico")),"Extremo","")))) -> Alto | P8: 1 | Q8: El funcionario delegado del GIT de Atención y servicios a la ciudadanía cada vez que se recibe un PQRS, valida que la petición allegada a la Entidad, cuente con todos los soportes y anexos que describen en la petición. En el caso que el ciudadano no aporte los citados documentos, se deberá solicitar antes de radicar la petición la información faltante vía correo electrónico para poder brindar una respuesta oportuna. Sin evidencia. | R8: =IF(OR(S8="Preventivo",S8="Detectivo"),"Probabilidad",IF(S8="Correctivo","Impacto","")) -> Probabilidad | S8: Preventivo | T8: Manual | U8: =IF(AND(S8="Preventivo",T8="Automático"),"50%",IF(AND(S8="Preventivo",T8="Manual"),"40%",IF(AND(S8="Detectivo",T8="Automático"),"40%",IF(AND(S8="Detectivo",T8="Manual"),"30%",IF(AND(S8="Correctivo",T8="Automático"),"35%",IF(AND(S8="Correctivo",T8="Manual"),"25%","")))))) -> 40% | V8: Sin Documentar | W8: Continua | X8: Sin Registro | Y8: =IFERROR(IF(R8="Probabilidad",(J8-(+J8*U8)),IF(R8="Impacto",J8,"")),"") -> 0.12 | Z8: =IFERROR(IF(Y8="","",IF(Y8<=0.2,"Rara vez",IF(Y8<=0.4,"Improbable",IF(Y8<=0.6,"Posible",IF(Y8<=0.8,"Probable","Casi Seguro"))))),"") -> Rara vez | AA8: =+Y8 -> 0.12 | AB8: =IFERROR(IF(AC8="","",IF(AC8<=0.6,"Moderado",IF(AC8<=0.8,"Mayor","Catastrófico"))),"") -> Mayor | AC8: =IFERROR(IF(R8="Impacto",(N8-(+N8*U8)),IF(R8="Probabilidad",N8,"")),"") -> 0.8 | AD8: =IFERROR(IF(OR(AND(Z8="Rara vez",AB8="Leve"),AND(Z8="Rara vez",AB8="Menor"),AND(Z8="Improbable",AB8="Leve")),"Bajo",IF(OR(AND(Z8="Rara vez",AB8="Moderado"),AND(Z8="Improbable",AB8="Menor"),AND(Z8="Improbable",AB8="Moderado"),AND(Z8="Posible",AB8="Leve"),AND(Z8="Posible",AB8="Menor"),AND(Z8="Posible",AB8="Moderado"),AND(Z8="Probable",AB8="Leve"),AND(Z8="Probable",AB8="Menor")),"Moderado",IF(OR(AND(Z8="Rara vez",AB8="Mayor"),AND(Z8="Improbable",AB8="Mayor"),AND(Z8="Posible",AB8="Mayor"),AND(Z8="Probable",AB8="Moderado"),AND(Z8="Probable",AB8="Mayor"),AND(Z8="Casi Seguro",AB8="Leve"),AND(Z8="Casi Seguro",AB8="Menor"),AND(Z8="Casi Seguro",AB8="Moderado"),AND(Z8="Casi Seguro",AB8="Mayor")),"Alto",IF(OR(AND(Z8="Rara vez",AB8="Catastrófico"),AND(Z8="Improbable",AB8="Catastrófico"),AND(Z8="Posible",AB8="Catastrófico"),AND(Z8="Probable",AB8="Catastrófico"),AND(Z8="Casi Seguro",AB8="Catastrófico")),"Extremo","")))),"") -> Alto
L9: =IF(NOT(ISERROR(MATCH(K9,_xlfn.ANCHORARRAY(G14),0))),J16&"Por favor no seleccionar los criterios de impacto",K9) -> 0 | P9: 2 | Q9: El funcionario delegado del GIT de Atención y servicios a la ciudadanía en caso de que se realice una asignación incorrecta, recibe nuevamente las solicitudes devueltas y se realiza la reasignación al área que corresponda. Sin evidencia ya que queda la trazabilidad en el aplicativo de atención a solicitudes. Procedimiento: PR-CC-002_V05 | R9: Probabilidad | S9: Preventivo | T9: Manual | U9: =IF(AND(S9="Preventivo",T9="Automático"),"50%",IF(AND(S9="Preventivo",T9="Manual"),"40%",IF(AND(S9="Detectivo",T9="Automático"),"40%",IF(AND(S9="Detectivo",T9="Manual"),"30%",IF(AND(S9="Correctivo",T9="Automático"),"35%",IF(AND(S9="Correctivo",T9="Manual"),"25%","")))))) -> 40% | V9: Documentado | W9: Continua | X9: Sin Registro | Y9: =IFERROR(IF(AND(R8="Probabilidad",R9="Probabilidad"),(AA8-(+AA8*U9)),IF(R9="Probabilidad",(J8-(+J8*U9)),IF(R9="Impacto",AA8,""))),"") -> 0.072 | Z9: =IFERROR(IF(Y9="","",IF(Y9<=0.2,"Rara vez",IF(Y9<=0.4,"Improbable",IF(Y9<=0.6,"Posible",IF(Y9<=0.8,"Probable","Casi Seguro"))))),"") -> Rara vez | AA9: =+Y9 -> 0.072 | AB9: =IFERROR(IF(AC9="","",IF(AC9<=0.6,"Moderado",IF(AC9<=0.8,"Mayor","Catastrófico"))),"") -> Mayor | AC9: =IFERROR(IF(AND(R8="Impacto",R9="Impacto"),(AC8-(+AC8*U9)),IF(R9="Impacto",(N8-(+N8*U9)),IF(R9="Probabilidad",AC8,""))),"") -> 0.8 | AD9: =IFERROR(IF(OR(AND(Z9="Rara vez",AB9="Leve"),AND(Z9="Rara vez",AB9="Menor"),AND(Z9="Improbable",AB9="Leve")),"Bajo",IF(OR(AND(Z9="Rara vez",AB9="Moderado"),AND(Z9="Improbable",AB9="Menor"),AND(Z9="Improbable",AB9="Moderado"),AND(Z9="Posible",AB9="Leve"),AND(Z9="Posible",AB9="Menor"),AND(Z9="Posible",AB9="Moderado"),AND(Z9="Probable",AB9="Leve"),AND(Z9="Probable",AB9="Menor")),"Moderado",IF(OR(AND(Z9="Rara vez",AB9="Mayor"),AND(Z9="Improbable",AB9="Mayor"),AND(Z9="Posible",AB9="Mayor"),AND(Z9="Probable",AB9="Moderado"),AND(Z9="Probable",AB9="Mayor"),AND(Z9="Casi Seguro",AB9="Leve"),AND(Z9="Casi Seguro",AB9="Menor"),AND(Z9="Casi Seguro",AB9="Moderado"),AND(Z9="Casi Seguro",AB9="Mayor")),"Alto",IF(OR(AND(Z9="Rara vez",AB9="Catastrófico"),AND(Z9="Improbable",AB9="Catastrófico"),AND(Z9="Posible",AB9="Catastrófico"),AND(Z9="Probable",AB9="Catastrófico"),AND(Z9="Casi Seguro",AB9="Catastrófico")),"Extremo","")))),"") -> Alto | AE9: Reducir (mitigar) | AF9: Realizar una pieza grafica informando el termino de vencimiento de las PQRS para realizar la correcta asignación de las áreas | AG9: María Camila Prieto Atención a la ciudadanía. | AH9: 45833 | AK9: En curso
L10: =IF(NOT(ISERROR(MATCH(K10,_xlfn.ANCHORARRAY(G15),0))),J17&"Por favor no seleccionar los criterios de impacto",K10) -> 0 | P10: 3
L11: =IF(NOT(ISERROR(MATCH(K11,_xlfn.ANCHORARRAY(G16),0))),J18&"Por favor no seleccionar los criterios de impacto",K11) -> 0 | P11: 4 | R11: =IF(OR(S11="Preventivo",S11="Detectivo"),"Probabilidad",IF(S11="Correctivo","Impacto","")) | U11: =IF(AND(S11="Preventivo",T11="Automático"),"50%",IF(AND(S11="Preventivo",T11="Manual"),"40%",IF(AND(S11="Detectivo",T11="Automático"),"40%",IF(AND(S11="Detectivo",T11="Manual"),"30%",IF(AND(S11="Correctivo",T11="Automático"),"35%",IF(AND(S11="Correctivo",T11="Manual"),"25%","")))))) | Y11: =IFERROR(IF(AND(R10="Probabilidad",R11="Probabilidad"),(AA10-(+AA10*U11)),IF(AND(R10="Impacto",R11="Probabilidad"),(AA9-(+AA9*U11)),IF(R11="Impacto",AA10,""))),"") | Z11: =IFERROR(IF(Y11="","",IF(Y11<=0.2,"Muy Baja",IF(Y11<=0.4,"Baja",IF(Y11<=0.6,"Media",IF(Y11<=0.8,"Alta","Muy Alta"))))),"") | AA11: =+Y11 | AB11: =IFERROR(IF(AC11="","",IF(AC11<=0.2,"Leve",IF(AC11<=0.4,"Menor",IF(AC11<=0.6,"Moderado",IF(AC11<=0.8,"Mayor","Catastrófico"))))),"") | AC11: =IFERROR(IF(AND(R10="Impacto",R11="Impacto"),(AC10-(+AC10*U11)),IF(AND(R10="Probabilidad",R11="Impacto"),(AC9-(+AC9*U11)),IF(R11="Probabilidad",AC10,""))),"") | AD11: =IFERROR(IF(OR(AND(Z11="Muy Baja",AB11="Leve"),AND(Z11="Muy Baja",AB11="Menor"),AND(Z11="Baja",AB11="Leve")),"Bajo",IF(OR(AND(Z11="Muy baja",AB11="Moderado"),AND(Z11="Baja",AB11="Menor"),AND(Z11="Baja",AB11="Moderado"),AND(Z11="Media",AB11="Leve"),AND(Z11="Media",AB11="Menor"),AND(Z11="Media",AB11="Moderado"),AND(Z11="Alta",AB11="Leve"),AND(Z11="Alta",AB11="Menor")),"Moderado",IF(OR(AND(Z11="Muy Baja",AB11="Mayor"),AND(Z11="Baja",AB11="Mayor"),AND(Z11="Media",AB11="Mayor"),AND(Z11="Alta",AB11="Moderado"),AND(Z11="Alta",AB11="Mayor"),AND(Z11="Muy Alta",AB11="Leve"),AND(Z11="Muy Alta",AB11="Menor"),AND(Z11="Muy Alta",AB11="Moderado"),AND(Z11="Muy Alta",AB11="Mayor")),"Alto",IF(OR(AND(Z11="Muy Baja",AB11="Catastrófico"),AND(Z11="Baja",AB11="Catastrófico"),AND(Z11="Media",AB11="Catastrófico"),AND(Z11="Alta",AB11="Catastrófico"),AND(Z11="Muy Alta",AB11="Catastrófico")),"Extremo","")))),"")
L12: =IF(NOT(ISERROR(MATCH(K12,_xlfn.ANCHORARRAY(G17),0))),J19&"Por favor no seleccionar los criterios de impacto",K12) -> 0 | P12: 5 | R12: =IF(OR(S12="Preventivo",S12="Detectivo"),"Probabilidad",IF(S12="Correctivo","Impacto","")) | U12: =IF(AND(S12="Preventivo",T12="Automático"),"50%",IF(AND(S12="Preventivo",T12="Manual"),"40%",IF(AND(S12="Detectivo",T12="Automático"),"40%",IF(AND(S12="Detectivo",T12="Manual"),"30%",IF(AND(S12="Correctivo",T12="Automático"),"35%",IF(AND(S12="Correctivo",T12="Manual"),"25%","")))))) | Y12: =IFERROR(IF(AND(R11="Probabilidad",R12="Probabilidad"),(AA11-(+AA11*U12)),IF(AND(R11="Impacto",R12="Probabilidad"),(AA10-(+AA10*U12)),IF(R12="Impacto",AA11,""))),"") | Z12: =IFERROR(IF(Y12="","",IF(Y12<=0.2,"Rara vez",IF(Y12<=0.4,"Improbable",IF(Y12<=0.6,"Posible",IF(Y12<=0.8,"Probable","Casi Seguro"))))),"") | AA12: =+Y12 | AB12: =IFERROR(IF(AC12="","",IF(AC12<=0.6,"Moderado",IF(AC12<=0.8,"Mayor","Catastrófico"))),"") | AC12: =IFERROR(IF(AND(R11="Impacto",R12="Impacto"),(AC11-(+AC11*U12)),IF(AND(R11="Probabilidad",R12="Impacto"),(AC10-(+AC10*U12)),IF(R12="Probabilidad",AC11,""))),"") | AD12: =IFERROR(IF(OR(AND(Z12="Muy Baja",AB12="Leve"),AND(Z12="Muy Baja",AB12="Menor"),AND(Z12="Baja",AB12="Leve")),"Bajo",IF(OR(AND(Z12="Muy baja",AB12="Moderado"),AND(Z12="Baja",AB12="Menor"),AND(Z12="Baja",AB12="Moderado"),AND(Z12="Media",AB12="Leve"),AND(Z12="Media",AB12="Menor"),AND(Z12="Media",AB12="Moderado"),AND(Z12="Alta",AB12="Leve"),AND(Z12="Alta",AB12="Menor")),"Moderado",IF(OR(AND(Z12="Muy Baja",AB12="Mayor"),AND(Z12="Baja",AB12="Mayor"),AND(Z12="Media",AB12="Mayor"),AND(Z12="Alta",AB12="Moderado"),AND(Z12="Alta",AB12="Mayor"),AND(Z12="Muy Alta",AB12="Leve"),AND(Z12="Muy Alta",AB12="Menor"),AND(Z12="Muy Alta",AB12="Moderado"),AND(Z12="Muy Alta",AB12="Mayor")),"Alto",IF(OR(AND(Z12="Muy Baja",AB12="Catastrófico"),AND(Z12="Baja",AB12="Catastrófico"),AND(Z12="Media",AB12="Catastrófico"),AND(Z12="Alta",AB12="Catastrófico"),AND(Z12="Muy Alta",AB12="Catastrófico")),"Extremo","")))),"")
L13: =IF(NOT(ISERROR(MATCH(K13,_xlfn.ANCHORARRAY(G18),0))),#REF!&"Por favor no seleccionar los criterios de impacto",K13) -> 0 | P13: 6 | R13: =IF(OR(S13="Preventivo",S13="Detectivo"),"Probabilidad",IF(S13="Correctivo","Impacto","")) | U13: =IF(AND(S13="Preventivo",T13="Automático"),"50%",IF(AND(S13="Preventivo",T13="Manual"),"40%",IF(AND(S13="Detectivo",T13="Automático"),"40%",IF(AND(S13="Detectivo",T13="Manual"),"30%",IF(AND(S13="Correctivo",T13="Automático"),"35%",IF(AND(S13="Correctivo",T13="Manual"),"25%","")))))) | Y13: =IFERROR(IF(AND(R12="Probabilidad",R13="Probabilidad"),(AA12-(+AA12*U13)),IF(AND(R12="Impacto",R13="Probabilidad"),(AA11-(+AA11*U13)),IF(R13="Impacto",AA12,""))),"") | Z13: =IFERROR(IF(Y13="","",IF(Y13<=0.2,"Rara vez",IF(Y13<=0.4,"Improbable",IF(Y13<=0.6,"Posible",IF(Y13<=0.8,"Probable","Casi Seguro"))))),"") | AA13: =+Y13 | AB13: =IFERROR(IF(AC13="","",IF(AC13<=0.6,"Moderado",IF(AC13<=0.8,"Mayor","Catastrófico"))),"") | AC13: =IFERROR(IF(AND(R12="Impacto",R13="Impacto"),(AC12-(+AC12*U13)),IF(AND(R12="Probabilidad",R13="Impacto"),(AC11-(+AC11*U13)),IF(R13="Probabilidad",AC12,""))),"") | AD13: =IFERROR(IF(OR(AND(Z13="Muy Baja",AB13="Leve"),AND(Z13="Muy Baja",AB13="Menor"),AND(Z13="Baja",AB13="Leve")),"Bajo",IF(OR(AND(Z13="Muy baja",AB13="Moderado"),AND(Z13="Baja",AB13="Menor"),AND(Z13="Baja",AB13="Moderado"),AND(Z13="Media",AB13="Leve"),AND(Z13="Media",AB13="Menor"),AND(Z13="Media",AB13="Moderado"),AND(Z13="Alta",AB13="Leve"),AND(Z13="Alta",AB13="Menor")),"Moderado",IF(OR(AND(Z13="Muy Baja",AB13="Mayor"),AND(Z13="Baja",AB13="Mayor"),AND(Z13="Media",AB13="Mayor"),AND(Z13="Alta",AB13="Moderado"),AND(Z13="Alta",AB13="Mayor"),AND(Z13="Muy Alta",AB13="Leve"),AND(Z13="Muy Alta",AB13="Menor"),AND(Z13="Muy Alta",AB13="Moderado"),AND(Z13="Muy Alta",AB13="Mayor")),"Alto",IF(OR(AND(Z13="Muy Baja",AB13="Catastrófico"),AND(Z13="Baja",AB13="Catastrófico"),AND(Z13="Media",AB13="Catastrófico"),AND(Z13="Alta",AB13="Catastrófico"),AND(Z13="Muy Alta",AB13="Catastrófico")),"Extremo","")))),"")
B14: RC-DE-2 | C14: Direccionamiento Estratégico | D14: Posibilidad de recibir o solicitar cualquier dadiva o beneficio a nombre propio o de terceros con el fin de que se den aprobaciones en el comité de negocios, sin el cumplimiento de los requisitos exigidos por la entidad. | E14: Riesgo de Corrupción | F14: Se den aprobaciones en el comité de negocios | G14: Sin el cumplimiento de los requisitos exigidos por la entidad. | H14: Al menos 1 vez en los últimos 5 años | I14: =IF(H14<=0,"",IF(H14="No se ha presentado en los últimos 5 años","Rara vez",IF(H14="Al menos 1 vez en los últimos 5 años","Improbable",IF(H14="Al menos 1 vez en los últimos 2 años","Posible",IF(H14="Al menos 1 vez en el último año","Probable",IF(H14="Más de 1 vez al año","Casi Seguro")))))) -> Improbable | J14: =IF(I14="","",IF(I14="Rara vez",0.2,IF(I14="Improbable",0.4,IF(I14="Posible",0.6,IF(I14="Probable",0.8,IF(I14="Casi Seguro",1,)))))) -> 0.4 | K14: Responder afirmativamente de DOCE a DIECINUEVE | L14: =IF(NOT(ISERROR(MATCH(K14,'Tabla Impacto'!$B$220:$B$222,0))),'Tabla Impacto'!$F$222&"Por favor no seleccionar los criterios de impacto(Criterios para calificar el impacto)",K14) -> Responder afirmativamente de DOCE a DIECINUEVE | M14: =IF(OR(L14='Tabla Impacto'!$C$5),"Moderado",IF(OR(L14='Tabla Impacto'!$C$6),"Mayor",IF(OR(L14='Tabla Impacto'!$C$7),"Catastrófico",""))) -> Catastrófico | N14: =IF(M14="","",IF(M14="Leve",0.2,IF(M14="Menor",0.4,IF(M14="Moderado",0.6,IF(M14="Mayor",0.8,IF(M14="Catastrófico",1,)))))) -> 1 | O14: =IF(OR(AND(I14="Rara vez",M14="Leve"),AND(I14="Rara vez",M14="Menor"),AND(I14="Improbable",M14="Leve")),"Bajo",IF(OR(AND(I14="Rara vez",M14="Moderado"),AND(I14="Improbable",M14="Menor"),AND(I14="Improbable",M14="Moderado"),AND(I14="Posible",M14="Leve"),AND(I14="Posible",M14="Menor"),AND(I14="Posible",M14="Moderado"),AND(I14="Probable",M14="Leve"),AND(I14="Probable",M14="Menor")),"Moderado",IF(OR(AND(I14="Rara vez",M14="Mayor"),AND(I14="Improbable",M14="Mayor"),AND(I14="Posible",M14="Mayor"),AND(I14="Probable",M14="Moderado"),AND(I14="Probable",M14="Mayor"),AND(I14="Casi Seguro",M14="Leve"),AND(I14="Casi Seguro",M14="Menor"),AND(I14="Casi Seguro",M14="Moderado"),AND(I14="Casi Seguro",M14="Mayor")),"Alto",IF(OR(AND(I14="Rara vez",M14="Catastrófico"),AND(I14="Improbable",M14="Catastrófico"),AND(I14="Posible",M14="Catastrófico"),AND(I14="Probable",M14="Catastrófico"),AND(I14="Casi Seguro",M14="Catastrófico")),"Extremo","")))) -> Extremo | P14: 1 | Q14: Los profesionales delegado por la Oficina de presidencia, cada vez que se realiza un comité de negocios, realizan la verificación de los requisitos de los casos presentados en el comité con el fin de garantizar el cumplimiento de los requisitos exigidos a los solicitantes, y dar aprobación o no por parte de la Presidencia. Como evidencia de la aplicación del control queda la base de los casos presentados.( Esta base está en cabeza del secretario técnico, que en este momento está a cargo del gerente de activos no sociales.) | R14: =IF(OR(S14="Preventivo",S14="Detectivo"),"Probabilidad",IF(S14="Correctivo","Impacto","")) -> Probabilidad | S14: Detectivo | T14: Manual | U14: =IF(AND(S14="Preventivo",T14="Automático"),"50%",IF(AND(S14="Preventivo",T14="Manual"),"40%",IF(AND(S14="Detectivo",T14="Automático"),"40%",IF(AND(S14="Detectivo",T14="Manual"),"30%",IF(AND(S14="Correctivo",T14="Automático"),"35%",IF(AND(S14="Correctivo",T14="Manual"),"25%","")))))) -> 30% | V14: Documentado | W14: Continua | X14: Con Registro | Y14: =IFERROR(IF(R14="Probabilidad",(J14-(+J14*U14)),IF(R14="Impacto",J14,"")),"") -> 0.28 | Z14: =IFERROR(IF(Y14="","",IF(Y14<=0.2,"Rara vez",IF(Y14<=0.4,"Improbable",IF(Y14<=0.6,"Posible",IF(Y14<=0.8,"Probable","Casi Seguro"))))),"") -> Improbable | AA14: =+Y14 -> 0.28 | AB14: =IFERROR(IF(AC14="","",IF(AC14<=0.6,"Moderado",IF(AC14<=0.8,"Mayor","Catastrófico"))),"") -> Catastrófico | AC14: =IFERROR(IF(R14="Impacto",(N14-(+N14*U14)),IF(R14="Probabilidad",N14,"")),"") -> 1 | AD14: =IFERROR(IF(OR(AND(Z14="Rara vez",AB14="Leve"),AND(Z14="Rara vez",AB14="Menor"),AND(Z14="Improbable",AB14="Leve")),"Bajo",IF(OR(AND(Z14="Rara vez",AB14="Moderado"),AND(Z14="Improbable",AB14="Menor"),AND(Z14="Improbable",AB14="Moderado"),AND(Z14="Posible",AB14="Leve"),AND(Z14="Posible",AB14="Menor"),AND(Z14="Posible",AB14="Moderado"),AND(Z14="Probable",AB14="Leve"),AND(Z14="Probable",AB14="Menor")),"Moderado",IF(OR(AND(Z14="Rara vez",AB14="Mayor"),AND(Z14="Improbable",AB14="Mayor"),AND(Z14="Posible",AB14="Mayor"),AND(Z14="Probable",AB14="Moderado"),AND(Z14="Probable",AB14="Mayor"),AND(Z14="Casi Seguro",AB14="Leve"),AND(Z14="Casi Seguro",AB14="Menor"),AND(Z14="Casi Seguro",AB14="Moderado"),AND(Z14="Casi Seguro",AB14="Mayor")),"Alto",IF(OR(AND(Z14="Rara vez",AB14="Catastrófico"),AND(Z14="Improbable",AB14="Catastrófico"),AND(Z14="Posible",AB14="Catastrófico"),AND(Z14="Probable",AB14="Catastrófico"),AND(Z14="Casi Seguro",AB14="Catastrófico")),"Extremo","")))),"") -> Extremo
L15: =IF(NOT(ISERROR(MATCH(K15,_xlfn.ANCHORARRAY(G20),0))),J22&"Por favor no seleccionar los criterios de impacto",K15) -> 0 | P15: 2 | Q15: Los profesionales delegado por la Oficina de presidencia, en caso de evidenciar inconsistencias en la documentación presentada, solicitan a las dependencias que presentas}n los casos, realizar las correcciones pertinentes, con el fin de poder emitir una aprobación. Como evidencia de la aplicación del control queda la base se de los casos presentados.( Esta base está en cabeza del secretario técnico, que en este momento está a cargo del gerente de activos no sociales.) | R15: Impacto | S15: Correctivo | T15: Manual | U15: =IF(AND(S15="Preventivo",T15="Automático"),"50%",IF(AND(S15="Preventivo",T15="Manual"),"40%",IF(AND(S15="Detectivo",T15="Automático"),"40%",IF(AND(S15="Detectivo",T15="Manual"),"30%",IF(AND(S15="Correctivo",T15="Automático"),"35%",IF(AND(S15="Correctivo",T15="Manual"),"25%","")))))) -> 25% | V15: Documentado | W15: Continua | X15: Con Registro | Y15: =IFERROR(IF(AND(R14="Probabilidad",R15="Probabilidad"),(AA14-(+AA14*U15)),IF(R15="Probabilidad",(J14-(+J14*U15)),IF(R15="Impacto",AA14,""))),"") -> 0.28 | Z15: =IFERROR(IF(Y15="","",IF(Y15<=0.2,"Rara vez",IF(Y15<=0.4,"Improbable",IF(Y15<=0.6,"Posible",IF(Y15<=0.8,"Probable","Casi Seguro"))))),"") -> Improbable | AA15: =+Y15 -> 0.28 | AB15: =IFERROR(IF(AC15="","",IF(AC15<=0.6,"Moderado",IF(AC15<=0.8,"Mayor","Catastrófico"))),"") -> Mayor | AC15: =IFERROR(IF(AND(R14="Impacto",R15="Impacto"),(AC14-(+AC14*U15)),IF(R15="Impacto",(N14-(+N14*U15)),IF(R15="Probabilidad",AC14,""))),"") -> 0.75 | AD15: =IFERROR(IF(OR(AND(Z15="Rara vez",AB15="Leve"),AND(Z15="Rara vez",AB15="Menor"),AND(Z15="Improbable",AB15="Leve")),"Bajo",IF(OR(AND(Z15="Rara vez",AB15="Moderado"),AND(Z15="Improbable",AB15="Menor"),AND(Z15="Improbable",AB15="Moderado"),AND(Z15="Posible",AB15="Leve"),AND(Z15="Posible",AB15="Menor"),AND(Z15="Posible",AB15="Moderado"),AND(Z15="Probable",AB15="Leve"),AND(Z15="Probable",AB15="Menor")),"Moderado",IF(OR(AND(Z15="Rara vez",AB15="Mayor"),AND(Z15="Improbable",AB15="Mayor"),AND(Z15="Posible",AB15="Mayor"),AND(Z15="Probable",AB15="Moderado"),AND(Z15="Probable",AB15="Mayor"),AND(Z15="Casi Seguro",AB15="Leve"),AND(Z15="Casi Seguro",AB15="Menor"),AND(Z15="Casi Seguro",AB15="Moderado"),AND(Z15="Casi Seguro",AB15="Mayor")),"Alto",IF(OR(AND(Z15="Rara vez",AB15="Catastrófico"),AND(Z15="Improbable",AB15="Catastrófico"),AND(Z15="Posible",AB15="Catastrófico"),AND(Z15="Probable",AB15="Catastrófico"),AND(Z15="Casi Seguro",AB15="Catastrófico")),"Extremo","")))),"") -> Alto
L16: =IF(NOT(ISERROR(MATCH(K16,_xlfn.ANCHORARRAY(G21),0))),J23&"Por favor no seleccionar los criterios de impacto",K16) -> 0 | P16: 3
L17: =IF(NOT(ISERROR(MATCH(K17,_xlfn.ANCHORARRAY(G22),0))),J24&"Por favor no seleccionar los criterios de impacto",K17) -> 0 | P17: 4 | R17: =IF(OR(S17="Preventivo",S17="Detectivo"),"Probabilidad",IF(S17="Correctivo","Impacto","")) | U17: =IF(AND(S17="Preventivo",T17="Automático"),"50%",IF(AND(S17="Preventivo",T17="Manual"),"40%",IF(AND(S17="Detectivo",T17="Automático"),"40%",IF(AND(S17="Detectivo",T17="Manual"),"30%",IF(AND(S17="Correctivo",T17="Automático"),"35%",IF(AND(S17="Correctivo",T17="Manual"),"25%","")))))) | Y17: =IFERROR(IF(AND(R16="Probabilidad",R17="Probabilidad"),(AA16-(+AA16*U17)),IF(AND(R16="Impacto",R17="Probabilidad"),(AA15-(+AA15*U17)),IF(R17="Impacto",AA16,""))),"") | Z17: =IFERROR(IF(Y17="","",IF(Y17<=0.2,"Muy Baja",IF(Y17<=0.4,"Baja",IF(Y17<=0.6,"Media",IF(Y17<=0.8,"Alta","Muy Alta"))))),"") | AA17: =+Y17 | AB17: =IFERROR(IF(AC17="","",IF(AC17<=0.2,"Leve",IF(AC17<=0.4,"Menor",IF(AC17<=0.6,"Moderado",IF(AC17<=0.8,"Mayor","Catastrófico"))))),"") | AC17: =IFERROR(IF(AND(R16="Impacto",R17="Impacto"),(AC16-(+AC16*U17)),IF(AND(R16="Probabilidad",R17="Impacto"),(AC15-(+AC15*U17)),IF(R17="Probabilidad",AC16,""))),"") | AD17: =IFERROR(IF(OR(AND(Z17="Muy Baja",AB17="Leve"),AND(Z17="Muy Baja",AB17="Menor"),AND(Z17="Baja",AB17="Leve")),"Bajo",IF(OR(AND(Z17="Muy baja",AB17="Moderado"),AND(Z17="Baja",AB17="Menor"),AND(Z17="Baja",AB17="Moderado"),AND(Z17="Media",AB17="Leve"),AND(Z17="Media",AB17="Menor"),AND(Z17="Media",AB17="Moderado"),AND(Z17="Alta",AB17="Leve"),AND(Z17="Alta",AB17="Menor")),"Moderado",IF(OR(AND(Z17="Muy Baja",AB17="Mayor"),AND(Z17="Baja",AB17="Mayor"),AND(Z17="Media",AB17="Mayor"),AND(Z17="Alta",AB17="Moderado"),AND(Z17="Alta",AB17="Mayor"),AND(Z17="Muy Alta",AB17="Leve"),AND(Z17="Muy Alta",AB17="Menor"),AND(Z17="Muy Alta",AB17="Moderado"),AND(Z17="Muy Alta",AB17="Mayor")),"Alto",IF(OR(AND(Z17="Muy Baja",AB17="Catastrófico"),AND(Z17="Baja",AB17="Catastrófico"),AND(Z17="Media",AB17="Catastrófico"),AND(Z17="Alta",AB17="Catastrófico"),AND(Z17="Muy Alta",AB17="Catastrófico")),"Extremo","")))),"")
L18: =IF(NOT(ISERROR(MATCH(K18,_xlfn.ANCHORARRAY(G23),0))),J25&"Por favor no seleccionar los criterios de impacto",K18) -> 0 | P18: 5 | R18: =IF(OR(S18="Preventivo",S18="Detectivo"),"Probabilidad",IF(S18="Correctivo","Impacto","")) | U18: =IF(AND(S18="Preventivo",T18="Automático"),"50%",IF(AND(S18="Preventivo",T18="Manual"),"40%",IF(AND(S18="Detectivo",T18="Automático"),"40%",IF(AND(S18="Detectivo",T18="Manual"),"30%",IF(AND(S18="Correctivo",T18="Automático"),"35%",IF(AND(S18="Correctivo",T18="Manual"),"25%","")))))) | Y18: =IFERROR(IF(AND(R17="Probabilidad",R18="Probabilidad"),(AA17-(+AA17*U18)),IF(AND(R17="Impacto",R18="Probabilidad"),(AA16-(+AA16*U18)),IF(R18="Impacto",AA17,""))),"") | Z18: =IFERROR(IF(Y18="","",IF(Y18<=0.2,"Rara vez",IF(Y18<=0.4,"Improbable",IF(Y18<=0.6,"Posible",IF(Y18<=0.8,"Probable","Casi Seguro"))))),"") | AA18: =+Y18 | AB18: =IFERROR(IF(AC18="","",IF(AC18<=0.6,"Moderado",IF(AC18<=0.8,"Mayor","Catastrófico"))),"") | AC18: =IFERROR(IF(AND(R17="Impacto",R18="Impacto"),(AC17-(+AC17*U18)),IF(AND(R17="Probabilidad",R18="Impacto"),(AC16-(+AC16*U18)),IF(R18="Probabilidad",AC17,""))),"") | AD18: =IFERROR(IF(OR(AND(Z18="Muy Baja",AB18="Leve"),AND(Z18="Muy Baja",AB18="Menor"),AND(Z18="Baja",AB18="Leve")),"Bajo",IF(OR(AND(Z18="Muy baja",AB18="Moderado"),AND(Z18="Baja",AB18="Menor"),AND(Z18="Baja",AB18="Moderado"),AND(Z18="Media",AB18="Leve"),AND(Z18="Media",AB18="Menor"),AND(Z18="Media",AB18="Moderado"),AND(Z18="Alta",AB18="Leve"),AND(Z18="Alta",AB18="Menor")),"Moderado",IF(OR(AND(Z18="Muy Baja",AB18="Mayor"),AND(Z18="Baja",AB18="Mayor"),AND(Z18="Media",AB18="Mayor"),AND(Z18="Alta",AB18="Moderado"),AND(Z18="Alta",AB18="Mayor"),AND(Z18="Muy Alta",AB18="Leve"),AND(Z18="Muy Alta",AB18="Menor"),AND(Z18="Muy Alta",AB18="Moderado"),AND(Z18="Muy Alta",AB18="Mayor")),"Alto",IF(OR(AND(Z18="Muy Baja",AB18="Catastrófico"),AND(Z18="Baja",AB18="Catastrófico"),AND(Z18="Media",AB18="Catastrófico"),AND(Z18="Alta",AB18="Catastrófico"),AND(Z18="Muy Alta",AB18="Catastrófico")),"Extremo","")))),"")
L19: =IF(NOT(ISERROR(MATCH(K19,_xlfn.ANCHORARRAY(G24),0))),J32&"Por favor no seleccionar los criterios de impacto",K19) -> 0 | P19: 6 | R19: =IF(OR(S19="Preventivo",S19="Detectivo"),"Probabilidad",IF(S19="Correctivo","Impacto","")) | U19: =IF(AND(S19="Preventivo",T19="Automático"),"50%",IF(AND(S19="Preventivo",T19="Manual"),"40%",IF(AND(S19="Detectivo",T19="Automático"),"40%",IF(AND(S19="Detectivo",T19="Manual"),"30%",IF(AND(S19="Correctivo",T19="Automático"),"35%",IF(AND(S19="Correctivo",T19="Manual"),"25%","")))))) | Y19: =IFERROR(IF(AND(R18="Probabilidad",R19="Probabilidad"),(AA18-(+AA18*U19)),IF(AND(R18="Impacto",R19="Probabilidad"),(AA17-(+AA17*U19)),IF(R19="Impacto",AA18,""))),"") | Z19: =IFERROR(IF(Y19="","",IF(Y19<=0.2,"Rara vez",IF(Y19<=0.4,"Improbable",IF(Y19<=0.6,"Posible",IF(Y19<=0.8,"Probable","Casi Seguro"))))),"") | AA19: =+Y19 | AB19: =IFERROR(IF(AC19="","",IF(AC19<=0.6,"Moderado",IF(AC19<=0.8,"Mayor","Catastrófico"))),"") | AC19: =IFERROR(IF(AND(R18="Impacto",R19="Impacto"),(AC18-(+AC18*U19)),IF(AND(R18="Probabilidad",R19="Impacto"),(AC17-(+AC17*U19)),IF(R19="Probabilidad",AC18,""))),"") | AD19: =IFERROR(IF(OR(AND(Z19="Muy Baja",AB19="Leve"),AND(Z19="Muy Baja",AB19="Menor"),AND(Z19="Baja",AB19="Leve")),"Bajo",IF(OR(AND(Z19="Muy baja",AB19="Moderado"),AND(Z19="Baja",AB19="Menor"),AND(Z19="Baja",AB19="Moderado"),AND(Z19="Media",AB19="Leve"),AND(Z19="Media",AB19="Menor"),AND(Z19="Media",AB19="Moderado"),AND(Z19="Alta",AB19="Leve"),AND(Z19="Alta",AB19="Menor")),"Moderado",IF(OR(AND(Z19="Muy Baja",AB19="Mayor"),AND(Z19="Baja",AB19="Mayor"),AND(Z19="Media",AB19="Mayor"),AND(Z19="Alta",AB19="Moderado"),AND(Z19="Alta",AB19="Mayor"),AND(Z19="Muy Alta",AB19="Leve"),AND(Z19="Muy Alta",AB19="Menor"),AND(Z19="Muy Alta",AB19="Moderado"),AND(Z19="Muy Alta",AB19="Mayor")),"Alto",IF(OR(AND(Z19="Muy Baja",AB19="Catastrófico"),AND(Z19="Baja",AB19="Catastrófico"),AND(Z19="Media",AB19="Catastrófico"),AND(Z19="Alta",AB19="Catastrófico"),AND(Z19="Muy Alta",AB19="Catastrófico")),"Extremo","")))),"")
B20: RC-DE-3 | C20: Direccionamiento Estratégico | D20: Posibilidad de no reportar la materialización de un riesgo de corrupción, fiscal o SARLAFT a las áreas competentes con el propósito de beneficiar a un tercero | E20: Riesgo de Corrupción | F20: Falta de ética profesional Falta de control del proceso | G20: Investigaciones penales o disciplinarias Pérdida de imagen reputacional y credibilidad institucional | H20: No se ha presentado en los últimos 5 años | I20: =IF(H20<=0,"",IF(H20="No se ha presentado en los últimos 5 años","Rara vez",IF(H20="Al menos 1 vez en los últimos 5 años","Improbable",IF(H20="Al menos 1 vez en los últimos 2 años","Posible",IF(H20="Al menos 1 vez en el último año","Probable",IF(H20="Más de 1 vez al año","Casi Seguro")))))) -> Rara vez | J20: =IF(I20="","",IF(I20="Rara vez",0.2,IF(I20="Improbable",0.4,IF(I20="Posible",0.6,IF(I20="Probable",0.8,IF(I20="Casi Seguro",1,)))))) -> 0.2 | K20: Responder afirmativamente de SEIS a ONCE | L20: =IF(NOT(ISERROR(MATCH(K20,'Tabla Impacto'!$B$220:$B$222,0))),'Tabla Impacto'!$F$222&"Por favor no seleccionar los criterios de impacto(Criterios para calificar el impacto)",K20) -> Responder afirmativamente de SEIS a ONCE | M20: =IF(OR(L20='Tabla Impacto'!$C$5),"Moderado",IF(OR(L20='Tabla Impacto'!$C$6),"Mayor",IF(OR(L20='Tabla Impacto'!$C$7),"Catastrófico",""))) -> Mayor | N20: =IF(M20="","",IF(M20="Leve",0.2,IF(M20="Menor",0.4,IF(M20="Moderado",0.6,IF(M20="Mayor",0.8,IF(M20="Catastrófico",1,)))))) -> 0.8 | O20: =IF(OR(AND(I20="Rara vez",M20="Leve"),AND(I20="Rara vez",M20="Menor"),AND(I20="Improbable",M20="Leve")),"Bajo",IF(OR(AND(I20="Rara vez",M20="Moderado"),AND(I20="Improbable",M20="Menor"),AND(I20="Improbable",M20="Moderado"),AND(I20="Posible",M20="Leve"),AND(I20="Posible",M20="Menor"),AND(I20="Posible",M20="Moderado"),AND(I20="Probable",M20="Leve"),AND(I20="Probable",M20="Menor")),"Moderado",IF(OR(AND(I20="Rara vez",M20="Mayor"),AND(I20="Improbable",M20="Mayor"),AND(I20="Posible",M20="Mayor"),AND(I20="Probable",M20="Moderado"),AND(I20="Probable",M20="Mayor"),AND(I20="Casi Seguro",M20="Leve"),AND(I20="Casi Seguro",M20="Menor"),AND(I20="Casi Seguro",M20="Moderado"),AND(I20="Casi Seguro",M20="Mayor")),"Alto",IF(OR(AND(I20="Rara vez",M20="Catastrófico"),AND(I20="Improbable",M20="Catastrófico"),AND(I20="Posible",M20="Catastrófico"),AND(I20="Probable",M20="Catastrófico"),AND(I20="Casi Seguro",M20="Catastrófico")),"Extremo","")))) -> Alto | P20: 1 | Q20: El profesional delegado para gestionar el riesgo, de acuerdo con el nivel de severidad de este, realiza el monitoreo y revisión teniendo en cuenta la Política de Administración de Riesgos y la Guía de Administración de Riesgos, con el fin de evaluar si los riesgos han cambiado, se han materializado o sus controles son efectivos, al identificar algún cambio de los riesgos se debe realizar la actualización correspondiente en las matrices en las cuales queda el registro correspondiente. Como evidencia queda la base de monitoreo. | R20: =IF(OR(S20="Preventivo",S20="Detectivo"),"Probabilidad",IF(S20="Correctivo","Impacto","")) -> Probabilidad | S20: Preventivo | T20: Manual | U20: =IF(AND(S20="Preventivo",T20="Automático"),"50%",IF(AND(S20="Preventivo",T20="Manual"),"40%",IF(AND(S20="Detectivo",T20="Automático"),"40%",IF(AND(S20="Detectivo",T20="Manual"),"30%",IF(AND(S20="Correctivo",T20="Automático"),"35%",IF(AND(S20="Correctivo",T20="Manual"),"25%","")))))) -> 40% | V20: Documentado | W20: Continua | X20: Con Registro | Y20: =IFERROR(IF(R20="Probabilidad",(J20-(+J20*U20)),IF(R20="Impacto",J20,"")),"") -> 0.12 | Z20: =IFERROR(IF(Y20="","",IF(Y20<=0.2,"Rara vez",IF(Y20<=0.4,"Improbable",IF(Y20<=0.6,"Posible",IF(Y20<=0.8,"Probable","Casi Seguro"))))),"") -> Rara vez | AA20: =+Y20 -> 0.12 | AB20: =IFERROR(IF(AC20="","",IF(AC20<=0.6,"Moderado",IF(AC20<=0.8,"Mayor","Catastrófico"))),"") -> Mayor | AC20: =IFERROR(IF(R20="Impacto",(N20-(+N20*U20)),IF(R20="Probabilidad",N20,"")),"") -> 0.8 | AD20: =IFERROR(IF(OR(AND(Z20="Rara vez",AB20="Leve"),AND(Z20="Rara vez",AB20="Menor"),AND(Z20="Improbable",AB20="Leve")),"Bajo",IF(OR(AND(Z20="Rara vez",AB20="Moderado"),AND(Z20="Improbable",AB20="Menor"),AND(Z20="Improbable",AB20="Moderado"),AND(Z20="Posible",AB20="Leve"),AND(Z20="Posible",AB20="Menor"),AND(Z20="Posible",AB20="Moderado"),AND(Z20="Probable",AB20="Leve"),AND(Z20="Probable",AB20="Menor")),"Moderado",IF(OR(AND(Z20="Rara vez",AB20="Mayor"),AND(Z20="Improbable",AB20="Mayor"),AND(Z20="Posible",AB20="Mayor"),AND(Z20="Probable",AB20="Moderado"),AND(Z20="Probable",AB20="Mayor"),AND(Z20="Casi Seguro",AB20="Leve"),AND(Z20="Casi Seguro",AB20="Menor"),AND(Z20="Casi Seguro",AB20="Moderado"),AND(Z20="Casi Seguro",AB20="Mayor")),"Alto",IF(OR(AND(Z20="Rara vez",AB20="Catastrófico"),AND(Z20="Improbable",AB20="Catastrófico"),AND(Z20="Posible",AB20="Catastrófico"),AND(Z20="Probable",AB20="Catastrófico"),AND(Z20="Casi Seguro",AB20="Catastrófico")),"Extremo","")))),"") -> Alto
L21: =IF(NOT(ISERROR(MATCH(K21,_xlfn.ANCHORARRAY(G36),0))),J38&"Por favor no seleccionar los criterios de impacto",K21) -> 0 | P21: 2 | Q21: La (el) Director de Planeación y Prospectiva designa un correo para el reporte de la información relacionada con la gestión de riesgos y en el que en caso de presentarse una materialización de riesgos es reportada por este medio. Su administración está en cabeza de todo el equipo del grupo de riesgos con el objetivo de asegurar la transparencia en la gestión de la información. Sin evidencia. | R21: =IF(OR(S21="Preventivo",S21="Detectivo"),"Probabilidad",IF(S21="Correctivo","Impacto","")) -> Probabilidad | S21: Detectivo | T21: Manual | U21: =IF(AND(S21="Preventivo",T21="Automático"),"50%",IF(AND(S21="Preventivo",T21="Manual"),"40%",IF(AND(S21="Detectivo",T21="Automático"),"40%",IF(AND(S21="Detectivo",T21="Manual"),"30%",IF(AND(S21="Correctivo",T21="Automático"),"35%",IF(AND(S21="Correctivo",T21="Manual"),"25%","")))))) -> 30% | V21: Documentado | W21: Continua | X21: Con Registro | Y21: =IFERROR(IF(AND(R20="Probabilidad",R21="Probabilidad"),(AA20-(+AA20*U21)),IF(R21="Probabilidad",(J20-(+J20*U21)),IF(R21="Impacto",AA20,""))),"") -> 0.084 | Z21: =IFERROR(IF(Y21="","",IF(Y21<=0.2,"Rara vez",IF(Y21<=0.4,"Improbable",IF(Y21<=0.6,"Posible",IF(Y21<=0.8,"Probable","Casi Seguro"))))),"") -> Rara vez | AA21: =+Y21 -> 0.084 | AB21: =IFERROR(IF(AC21="","",IF(AC21<=0.6,"Moderado",IF(AC21<=0.8,"Mayor","Catastrófico"))),"") -> Mayor | AC21: =IFERROR(IF(AND(R20="Impacto",R21="Impacto"),(AC20-(+AC20*U21)),IF(R21="Impacto",(N20-(+N20*U21)),IF(R21="Probabilidad",AC20,""))),"") -> 0.8 | AD21: =IFERROR(IF(OR(AND(Z21="Rara vez",AB21="Leve"),AND(Z21="Rara vez",AB21="Menor"),AND(Z21="Improbable",AB21="Leve")),"Bajo",IF(OR(AND(Z21="Rara vez",AB21="Moderado"),AND(Z21="Improbable",AB21="Menor"),AND(Z21="Improbable",AB21="Moderado"),AND(Z21="Posible",AB21="Leve"),AND(Z21="Posible",AB21="Menor"),AND(Z21="Posible",AB21="Moderado"),AND(Z21="Probable",AB21="Leve"),AND(Z21="Probable",AB21="Menor")),"Moderado",IF(OR(AND(Z21="Rara vez",AB21="Mayor"),AND(Z21="Improbable",AB21="Mayor"),AND(Z21="Posible",AB21="Mayor"),AND(Z21="Probable",AB21="Moderado"),AND(Z21="Probable",AB21="Mayor"),AND(Z21="Casi Seguro",AB21="Leve"),AND(Z21="Casi Seguro",AB21="Menor"),AND(Z21="Casi Seguro",AB21="Moderado"),AND(Z21="Casi Seguro",AB21="Mayor")),"Alto",IF(OR(AND(Z21="Rara vez",AB21="Catastrófico"),AND(Z21="Improbable",AB21="Catastrófico"),AND(Z21="Posible",AB21="Catastrófico"),AND(Z21="Probable",AB21="Catastrófico"),AND(Z21="Casi Seguro",AB21="Catastrófico")),"Extremo","")))),"") -> Alto
L22: =IF(NOT(ISERROR(MATCH(K22,_xlfn.ANCHORARRAY(G37),0))),J39&"Por favor no seleccionar los criterios de impacto",K22) -> 0 | P22: 3 | Q22: El funcionario delegado del equipo de riesgos, en caso de evidenciar que no se informó a la Dirección de Talento Humano y la Oficina de Control Interno de la materialización de un riesgo de corrupción, de manera inmediata realiza el reporte y lleva la situación presentada al CICCI con el objetivo de que se tomen las acciones pertinentes. Como evidencias quedarían las comunicaciones enviadas y el acta del CICCI. | R22: =IF(OR(S22="Preventivo",S22="Detectivo"),"Probabilidad",IF(S22="Correctivo","Impacto","")) -> Impacto | S22: Correctivo | T22: Manual | U22: =IF(AND(S22="Preventivo",T22="Automático"),"50%",IF(AND(S22="Preventivo",T22="Manual"),"40%",IF(AND(S22="Detectivo",T22="Automático"),"40%",IF(AND(S22="Detectivo",T22="Manual"),"30%",IF(AND(S22="Correctivo",T22="Automático"),"35%",IF(AND(S22="Correctivo",T22="Manual"),"25%","")))))) -> 25% | V22: Documentado | W22: Continua | X22: Con Registro | Y22: =IFERROR(IF(AND(R21="Probabilidad",R22="Probabilidad"),(AA21-(+AA21*U22)),IF(AND(R21="Impacto",R22="Probabilidad"),(AA20-(+AA20*U22)),IF(R22="Impacto",AA21,""))),"") -> 0.084 | Z22: =IFERROR(IF(Y22="","",IF(Y22<=0.2,"Rara vez",IF(Y22<=0.4,"Improbable",IF(Y22<=0.6,"Posible",IF(Y22<=0.8,"Probable","Casi Seguro"))))),"") -> Rara vez | AA22: =+Y22 -> 0.084 | AB22: =IFERROR(IF(AC22="","",IF(AC22<=0.6,"Moderado",IF(AC22<=0.8,"Mayor","Catastrófico"))),"") -> Moderado | AC22: =IFERROR(IF(AND(R21="Impacto",R22="Impacto"),(AC21-(+AC21*U22)),IF(AND(R21="Probabilidad",R22="Impacto"),(AC20-(+AC20*U22)),IF(R22="Probabilidad",AC21,""))),"") -> 0.6 | AD22: =IFERROR(IF(OR(AND(Z22="Rara vez",AB22="Leve"),AND(Z22="Rara vez",AB22="Menor"),AND(Z22="Improbable",AB22="Leve")),"Bajo",IF(OR(AND(Z22="Rara vez",AB22="Moderado"),AND(Z22="Improbable",AB22="Menor"),AND(Z22="Improbable",AB22="Moderado"),AND(Z22="Posible",AB22="Leve"),AND(Z22="Posible",AB22="Menor"),AND(Z22="Posible",AB22="Moderado"),AND(Z22="Probable",AB22="Leve"),AND(Z22="Probable",AB22="Menor")),"Moderado",IF(OR(AND(Z22="Rara vez",AB22="Mayor"),AND(Z22="Improbable",AB22="Mayor"),AND(Z22="Posible",AB22="Mayor"),AND(Z22="Probable",AB22="Moderado"),AND(Z22="Probable",AB22="Mayor"),AND(Z22="Casi Seguro",AB22="Leve"),AND(Z22="Casi Seguro",AB22="Menor"),AND(Z22="Casi Seguro",AB22="Moderado"),AND(Z22="Casi Seguro",AB22="Mayor")),"Alto",IF(OR(AND(Z22="Rara vez",AB22="Catastrófico"),AND(Z22="Improbable",AB22="Catastrófico"),AND(Z22="Posible",AB22="Catastrófico"),AND(Z22="Probable",AB22="Catastrófico"),AND(Z22="Casi Seguro",AB22="Catastrófico")),"Extremo","")))),"") -> Moderado | AE22: Reducir (mitigar) | AF22: Definir cronograma de capacitación y realizarlas en los temas relacionados con la gestión del riesgo | AG22: Rocío Álvarez | AH22: 46022 | AK22: En curso
L23: =IF(NOT(ISERROR(MATCH(K23,_xlfn.ANCHORARRAY(G38),0))),J40&"Por favor no seleccionar los criterios de impacto",K23) -> 0 | P23: 4 | R23: =IF(OR(S23="Preventivo",S23="Detectivo"),"Probabilidad",IF(S23="Correctivo","Impacto","")) | U23: =IF(AND(S23="Preventivo",T23="Automático"),"50%",IF(AND(S23="Preventivo",T23="Manual"),"40%",IF(AND(S23="Detectivo",T23="Automático"),"40%",IF(AND(S23="Detectivo",T23="Manual"),"30%",IF(AND(S23="Correctivo",T23="Automático"),"35%",IF(AND(S23="Correctivo",T23="Manual"),"25%","")))))) | Y23: =IFERROR(IF(AND(R22="Probabilidad",R23="Probabilidad"),(AA22-(+AA22*U23)),IF(AND(R22="Impacto",R23="Probabilidad"),(AA21-(+AA21*U23)),IF(R23="Impacto",AA22,""))),"") | Z23: =IFERROR(IF(Y23="","",IF(Y23<=0.2,"Muy Baja",IF(Y23<=0.4,"Baja",IF(Y23<=0.6,"Media",IF(Y23<=0.8,"Alta","Muy Alta"))))),"") | AA23: =+Y23 | AB23: =IFERROR(IF(AC23="","",IF(AC23<=0.2,"Leve",IF(AC23<=0.4,"Menor",IF(AC23<=0.6,"Moderado",IF(AC23<=0.8,"Mayor","Catastrófico"))))),"") | AC23: =IFERROR(IF(AND(R22="Impacto",R23="Impacto"),(AC22-(+AC22*U23)),IF(AND(R22="Probabilidad",R23="Impacto"),(AC21-(+AC21*U23)),IF(R23="Probabilidad",AC22,""))),"") | AD23: =IFERROR(IF(OR(AND(Z23="Muy Baja",AB23="Leve"),AND(Z23="Muy Baja",AB23="Menor"),AND(Z23="Baja",AB23="Leve")),"Bajo",IF(OR(AND(Z23="Muy baja",AB23="Moderado"),AND(Z23="Baja",AB23="Menor"),AND(Z23="Baja",AB23="Moderado"),AND(Z23="Media",AB23="Leve"),AND(Z23="Media",AB23="Menor"),AND(Z23="Media",AB23="Moderado"),AND(Z23="Alta",AB23="Leve"),AND(Z23="Alta",AB23="Menor")),"Moderado",IF(OR(AND(Z23="Muy Baja",AB23="Mayor"),AND(Z23="Baja",AB23="Mayor"),AND(Z23="Media",AB23="Mayor"),AND(Z23="Alta",AB23="Moderado"),AND(Z23="Alta",AB23="Mayor"),AND(Z23="Muy Alta",AB23="Leve"),AND(Z23="Muy Alta",AB23="Menor"),AND(Z23="Muy Alta",AB23="Moderado"),AND(Z23="Muy Alta",AB23="Mayor")),"Alto",IF(OR(AND(Z23="Muy Baja",AB23="Catastrófico"),AND(Z23="Baja",AB23="Catastrófico"),AND(Z23="Media",AB23="Catastrófico"),AND(Z23="Alta",AB23="Catastrófico"),AND(Z23="Muy Alta",AB23="Catastrófico")),"Extremo","")))),"")
L24: =IF(NOT(ISERROR(MATCH(K24,_xlfn.ANCHORARRAY(G39),0))),J41&"Por favor no seleccionar los criterios de impacto",K24) -> 0 | P24: 5 | R24: =IF(OR(S24="Preventivo",S24="Detectivo"),"Probabilidad",IF(S24="Correctivo","Impacto","")) | U24: =IF(AND(S24="Preventivo",T24="Automático"),"50%",IF(AND(S24="Preventivo",T24="Manual"),"40%",IF(AND(S24="Detectivo",T24="Automático"),"40%",IF(AND(S24="Detectivo",T24="Manual"),"30%",IF(AND(S24="Correctivo",T24="Automático"),"35%",IF(AND(S24="Correctivo",T24="Manual"),"25%","")))))) | Y24: =IFERROR(IF(AND(R23="Probabilidad",R24="Probabilidad"),(AA23-(+AA23*U24)),IF(AND(R23="Impacto",R24="Probabilidad"),(AA22-(+AA22*U24)),IF(R24="Impacto",AA23,""))),"") | Z24: =IFERROR(IF(Y24="","",IF(Y24<=0.2,"Rara vez",IF(Y24<=0.4,"Improbable",IF(Y24<=0.6,"Posible",IF(Y24<=0.8,"Probable","Casi Seguro"))))),"") | AA24: =+Y24 | AB24: =IFERROR(IF(AC24="","",IF(AC24<=0.6,"Moderado",IF(AC24<=0.8,"Mayor","Catastrófico"))),"") | AC24: =IFERROR(IF(AND(R23="Impacto",R24="Impacto"),(AC23-(+AC23*U24)),IF(AND(R23="Probabilidad",R24="Impacto"),(AC22-(+AC22*U24)),IF(R24="Probabilidad",AC23,""))),"") | AD24: =IFERROR(IF(OR(AND(Z24="Muy Baja",AB24="Leve"),AND(Z24="Muy Baja",AB24="Menor"),AND(Z24="Baja",AB24="Leve")),"Bajo",IF(OR(AND(Z24="Muy baja",AB24="Moderado"),AND(Z24="Baja",AB24="Menor"),AND(Z24="Baja",AB24="Moderado"),AND(Z24="Media",AB24="Leve"),AND(Z24="Media",AB24="Menor"),AND(Z24="Media",AB24="Moderado"),AND(Z24="Alta",AB24="Leve"),AND(Z24="Alta",AB24="Menor")),"Moderado",IF(OR(AND(Z24="Muy Baja",AB24="Mayor"),AND(Z24="Baja",AB24="Mayor"),AND(Z24="Media",AB24="Mayor"),AND(Z24="Alta",AB24="Moderado"),AND(Z24="Alta",AB24="Mayor"),AND(Z24="Muy Alta",AB24="Leve"),AND(Z24="Muy Alta",AB24="Menor"),AND(Z24="Muy Alta",AB24="Moderado"),AND(Z24="Muy Alta",AB24="Mayor")),"Alto",IF(OR(AND(Z24="Muy Baja",AB24="Catastrófico"),AND(Z24="Baja",AB24="Catastrófico"),AND(Z24="Media",AB24="Catastrófico"),AND(Z24="Alta",AB24="Catastrófico"),AND(Z24="Muy Alta",AB24="Catastrófico")),"Extremo","")))),"")
L25: =IF(NOT(ISERROR(MATCH(K25,_xlfn.ANCHORARRAY(G40),0))),J42&"Por favor no seleccionar los criterios de impacto",K25) -> 0 | P25: 6 | R25: =IF(OR(S25="Preventivo",S25="Detectivo"),"Probabilidad",IF(S25="Correctivo","Impacto","")) | U25: =IF(AND(S25="Preventivo",T25="Automático"),"50%",IF(AND(S25="Preventivo",T25="Manual"),"40%",IF(AND(S25="Detectivo",T25="Automático"),"40%",IF(AND(S25="Detectivo",T25="Manual"),"30%",IF(AND(S25="Correctivo",T25="Automático"),"35%",IF(AND(S25="Correctivo",T25="Manual"),"25%","")))))) | Y25: =IFERROR(IF(AND(R24="Probabilidad",R25="Probabilidad"),(AA24-(+AA24*U25)),IF(AND(R24="Impacto",R25="Probabilidad"),(AA23-(+AA23*U25)),IF(R25="Impacto",AA24,""))),"") | Z25: =IFERROR(IF(Y25="","",IF(Y25<=0.2,"Rara vez",IF(Y25<=0.4,"Improbable",IF(Y25<=0.6,"Posible",IF(Y25<=0.8,"Probable","Casi Seguro"))))),"") | AA25: =+Y25 | AB25: =IFERROR(IF(AC25="","",IF(AC25<=0.6,"Moderado",IF(AC25<=0.8,"Mayor","Catastrófico"))),"") | AC25: =IFERROR(IF(AND(R24="Impacto",R25="Impacto"),(AC24-(+AC24*U25)),IF(AND(R24="Probabilidad",R25="Impacto"),(AC23-(+AC23*U25)),IF(R25="Probabilidad",AC24,""))),"") | AD25: =IFERROR(IF(OR(AND(Z25="Muy Baja",AB25="Leve"),AND(Z25="Muy Baja",AB25="Menor"),AND(Z25="Baja",AB25="Leve")),"Bajo",IF(OR(AND(Z25="Muy baja",AB25="Moderado"),AND(Z25="Baja",AB25="Menor"),AND(Z25="Baja",AB25="Moderado"),AND(Z25="Media",AB25="Leve"),AND(Z25="Media",AB25="Menor"),AND(Z25="Media",AB25="Moderado"),AND(Z25="Alta",AB25="Leve"),AND(Z25="Alta",AB25="Menor")),"Moderado",IF(OR(AND(Z25="Muy Baja",AB25="Mayor"),AND(Z25="Baja",AB25="Mayor"),AND(Z25="Media",AB25="Mayor"),AND(Z25="Alta",AB25="Moderado"),AND(Z25="Alta",AB25="Mayor"),AND(Z25="Muy Alta",AB25="Leve"),AND(Z25="Muy Alta",AB25="Menor"),AND(Z25="Muy Alta",AB25="Moderado"),AND(Z25="Muy Alta",AB25="Mayor")),"Alto",IF(OR(AND(Z25="Muy Baja",AB25="Catastrófico"),AND(Z25="Baja",AB25="Catastrófico"),AND(Z25="Media",AB25="Catastrófico"),AND(Z25="Alta",AB25="Catastrófico"),AND(Z25="Muy Alta",AB25="Catastrófico")),"Extremo","")))),"")
B26: RC-TI-1 | C26: Tecnologías de la Información | D26: Posibilidad de recibir o solicitar cualquier dádiva o beneficio a nombre propio o de terceros, con el fin de dar uso indebido o ilícito de información confidencial, privilegiada o reservada relativa a los procesos que adelanta la SAE, así como de sus sistemas de información | E26: Riesgo de Corrupción | F26: No se tengan delimitados los permisos de usuarios en las plataformas tecnológicas Deficiencia en los módulos de auditoría de los sistemas de información. Existencia de vulnerabilidades de seguridad de la información en los sistemas de información Daños o fallas en los sistemas de información | G26: 1) Pérdida de imagen reputacional y credibilidad institucional 2) Implicaciones a nivel penal, disciplinario, fiscal o sancionatorio 3) Demandas de la ciudadanía | H26: No se ha presentado en los últimos 5 años | I26: =IF(H26<=0,"",IF(H26="No se ha presentado en los últimos 5 años","Rara vez",IF(H26="Al menos 1 vez en los últimos 5 años","Improbable",IF(H26="Al menos 1 vez en los últimos 2 años","Posible",IF(H26="Al menos 1 vez en el último año","Probable",IF(H26="Más de 1 vez al año","Casi Seguro")))))) -> Rara vez | J26: =IF(I26="","",IF(I26="Rara vez",0.2,IF(I26="Improbable",0.4,IF(I26="Posible",0.6,IF(I26="Probable",0.8,IF(I26="Casi Seguro",1,)))))) -> 0.2 | K26: Responder afirmativamente de DOCE a DIECINUEVE | L26: =IF(NOT(ISERROR(MATCH(K26,'Tabla Impacto'!$B$220:$B$222,0))),'Tabla Impacto'!$F$222&"Por favor no seleccionar los criterios de impacto(Criterios para calificar el impacto)",K26) -> Responder afirmativamente de DOCE a DIECINUEVE | M26: =IF(OR(L26='Tabla Impacto'!$C$5),"Moderado",IF(OR(L26='Tabla Impacto'!$C$6),"Mayor",IF(OR(L26='Tabla Impacto'!$C$7),"Catastrófico",""))) -> Catastrófico | N26: =IF(M26="","",IF(M26="Leve",0.2,IF(M26="Menor",0.4,IF(M26="Moderado",0.6,IF(M26="Mayor",0.8,IF(M26="Catastrófico",1,)))))) -> 1 | O26: =IF(OR(AND(I26="Rara vez",M26="Leve"),AND(I26="Rara vez",M26="Menor"),AND(I26="Improbable",M26="Leve")),"Bajo",IF(OR(AND(I26="Rara vez",M26="Moderado"),AND(I26="Improbable",M26="Menor"),AND(I26="Improbable",M26="Moderado"),AND(I26="Posible",M26="Leve"),AND(I26="Posible",M26="Menor"),AND(I26="Posible",M26="Moderado"),AND(I26="Probable",M26="Leve"),AND(I26="Probable",M26="Menor")),"Moderado",IF(OR(AND(I26="Rara vez",M26="Mayor"),AND(I26="Improbable",M26="Mayor"),AND(I26="Posible",M26="Mayor"),AND(I26="Probable",M26="Moderado"),AND(I26="Probable",M26="Mayor"),AND(I26="Casi Seguro",M26="Leve"),AND(I26="Casi Seguro",M26="Menor"),AND(I26="Casi Seguro",M26="Moderado"),AND(I26="Casi Seguro",M26="Mayor")),"Alto",IF(OR(AND(I26="Rara vez",M26="Catastrófico"),AND(I26="Improbable",M26="Catastrófico"),AND(I26="Posible",M26="Catastrófico"),AND(I26="Probable",M26="Catastrófico"),AND(I26="Casi Seguro",M26="Catastrófico")),"Extremo","")))) -> Extremo | P26: 1 | Q26: El Profesional Especializado III (Oficial de Seguridad) anualmente verifica el estado de avance de la implementación del Sistema de Gestión de Seguridad de la Información para garantizar el cumplimiento de la norma a través de la aplicación de la matriz de seguimiento a la ISO 27001. En caso de evidenciar el fortalecimiento documental de las políticas de accesibilidad y seguridad lo informa oportunamente a la Oficina de Planeación y Prospectiva. Como evidencia queda el instrumento de evaluación MSPI. | R26: =IF(OR(S26="Preventivo",S26="Detectivo"),"Probabilidad",IF(S26="Correctivo","Impacto","")) -> Probabilidad | S26: Detectivo | T26: Manual | U26: =IF(AND(S26="Preventivo",T26="Automático"),"50%",IF(AND(S26="Preventivo",T26="Manual"),"40%",IF(AND(S26="Detectivo",T26="Automático"),"40%",IF(AND(S26="Detectivo",T26="Manual"),"30%",IF(AND(S26="Correctivo",T26="Automático"),"35%",IF(AND(S26="Correctivo",T26="Manual"),"25%","")))))) -> 30% | V26: Documentado | W26: Continua | X26: Con Registro | Y26: =IFERROR(IF(R26="Probabilidad",(J26-(+J26*U26)),IF(R26="Impacto",J26,"")),"") -> 0.14 | Z26: =IFERROR(IF(Y26="","",IF(Y26<=0.2,"Rara vez",IF(Y26<=0.4,"Improbable",IF(Y26<=0.6,"Posible",IF(Y26<=0.8,"Probable","Casi Seguro"))))),"") -> Rara vez | AA26: =+Y26 -> 0.14 | AB26: =IFERROR(IF(AC26="","",IF(AC26<=0.6,"Moderado",IF(AC26<=0.8,"Mayor","Catastrófico"))),"") -> Catastrófico | AC26: =IFERROR(IF(R26="Impacto",(N26-(+N26*U26)),IF(R26="Probabilidad",N26,"")),"") -> 1 | AD26: =IFERROR(IF(OR(AND(Z26="Rara vez",AB26="Leve"),AND(Z26="Rara vez",AB26="Menor"),AND(Z26="Improbable",AB26="Leve")),"Bajo",IF(OR(AND(Z26="Rara vez",AB26="Moderado"),AND(Z26="Improbable",AB26="Menor"),AND(Z26="Improbable",AB26="Moderado"),AND(Z26="Posible",AB26="Leve"),AND(Z26="Posible",AB26="Menor"),AND(Z26="Posible",AB26="Moderado"),AND(Z26="Probable",AB26="Leve"),AND(Z26="Probable",AB26="Menor")),"Moderado",IF(OR(AND(Z26="Rara vez",AB26="Mayor"),AND(Z26="Improbable",AB26="Mayor"),AND(Z26="Posible",AB26="Mayor"),AND(Z26="Probable",AB26="Moderado"),AND(Z26="Probable",AB26="Mayor"),AND(Z26="Casi Seguro",AB26="Leve"),AND(Z26="Casi Seguro",AB26="Menor"),AND(Z26="Casi Seguro",AB26="Moderado"),AND(Z26="Casi Seguro",AB26="Mayor")),"Alto",IF(OR(AND(Z26="Rara vez",AB26="Catastrófico"),AND(Z26="Improbable",AB26="Catastrófico"),AND(Z26="Posible",AB26="Catastrófico"),AND(Z26="Probable",AB26="Catastrófico"),AND(Z26="Casi Seguro",AB26="Catastrófico")),"Extremo","")))),"") -> Extremo
L27: =IF(NOT(ISERROR(MATCH(K27,_xlfn.ANCHORARRAY(#REF!),0))),J36&"Por favor no seleccionar los criterios de impacto",K27) -> 0 | P27: 2 | Q27: El Equipo de seguridad de la información cada vez que recibe una solicitud asigna, modifica o inactiva los permisos de seguridad en los sistemas de información y/o herramientas a los perfiles de usuarios solicitados y aprobados por los lideres de procesos en la mesa de servicio y revisando que el formato de solicitud cumpla con los criterios requeridos, dejando registro de este control en la matriz de seguridad de usuarios y perfiles por aplicativo. En caso de existir alguna inconsistencia en la información, devuelve la solicitud hasta cumplir los requerimiento para brindar los permisos requeridos. Como evidencia queda el tablero de control de usuarios y perfiles. | R27: =IF(OR(S27="Preventivo",S27="Detectivo"),"Probabilidad",IF(S27="Correctivo","Impacto","")) -> Probabilidad | S27: Preventivo | T27: Manual | U27: =IF(AND(S27="Preventivo",T27="Automático"),"50%",IF(AND(S27="Preventivo",T27="Manual"),"40%",IF(AND(S27="Detectivo",T27="Automático"),"40%",IF(AND(S27="Detectivo",T27="Manual"),"30%",IF(AND(S27="Correctivo",T27="Automático"),"35%",IF(AND(S27="Correctivo",T27="Manual"),"25%","")))))) -> 40% | V27: Documentado | W27: Continua | X27: Con Registro | Y27: =IFERROR(IF(AND(R26="Probabilidad",R27="Probabilidad"),(AA26-(+AA26*U27)),IF(R27="Probabilidad",(J26-(+J26*U27)),IF(R27="Impacto",AA26,""))),"") -> 0.084 | Z27: =IFERROR(IF(Y27="","",IF(Y27<=0.2,"Rara vez",IF(Y27<=0.4,"Improbable",IF(Y27<=0.6,"Posible",IF(Y27<=0.8,"Probable","Casi Seguro"))))),"") -> Rara vez | AA27: =+Y27 -> 0.084 | AB27: =IFERROR(IF(AC27="","",IF(AC27<=0.6,"Moderado",IF(AC27<=0.8,"Mayor","Catastrófico"))),"") -> Catastrófico | AC27: =IFERROR(IF(AND(R26="Impacto",R27="Impacto"),(AC26-(+AC26*U27)),IF(R27="Impacto",(N26-(+N26*U27)),IF(R27="Probabilidad",AC26,""))),"") -> 1 | AD27: =IFERROR(IF(OR(AND(Z27="Rara vez",AB27="Leve"),AND(Z27="Rara vez",AB27="Menor"),AND(Z27="Improbable",AB27="Leve")),"Bajo",IF(OR(AND(Z27="Rara vez",AB27="Moderado"),AND(Z27="Improbable",AB27="Menor"),AND(Z27="Improbable",AB27="Moderado"),AND(Z27="Posible",AB27="Leve"),AND(Z27="Posible",AB27="Menor"),AND(Z27="Posible",AB27="Moderado"),AND(Z27="Probable",AB27="Leve"),AND(Z27="Probable",AB27="Menor")),"Moderado",IF(OR(AND(Z27="Rara vez",AB27="Mayor"),AND(Z27="Improbable",AB27="Mayor"),AND(Z27="Posible",AB27="Mayor"),AND(Z27="Probable",AB27="Moderado"),AND(Z27="Probable",AB27="Mayor"),AND(Z27="Casi Seguro",AB27="Leve"),AND(Z27="Casi Seguro",AB27="Menor"),AND(Z27="Casi Seguro",AB27="Moderado"),AND(Z27="Casi Seguro",AB27="Mayor")),"Alto",IF(OR(AND(Z27="Rara vez",AB27="Catastrófico"),AND(Z27="Improbable",AB27="Catastrófico"),AND(Z27="Posible",AB27="Catastrófico"),AND(Z27="Probable",AB27="Catastrófico"),AND(Z27="Casi Seguro",AB27="Catastrófico")),"Extremo","")))),"") -> Extremo
