Workbook
Name a: #REF!
Name ads: #REF!
Name as: #REF!
Name asq: #REF!
Name asw: #REF!
Name asz: #REF!
Name Dimensión: Datos!$B$11:$B$15
Name Iniciativas_Objetivo1: Tabla6[Iniciativas_Objetivo1]
Name Iniciativas_Objetivo10: Datos!$N$11:$N$11
Name Iniciativas_Objetivo11: Datos!$O$11:$O$11
Name Iniciativas_Objetivo12: Datos!$P$11:$P$12
Name Iniciativas_Objetivo13: Datos!$Q$11:$Q$28
Name Iniciativas_Objetivo2: Tabla7[Iniciativas_Objetivo2]
Name Iniciativas_Objetivo3: Tabla3[Iniciativas_Objetivo3]
Name Iniciativas_Objetivo4: Tabla4[Iniciativas_Objetivo4]
Name Iniciativas_Objetivo5: Tabla5[Iniciativas_Objetivo5]
Name Iniciativas_Objetivo6: Datos!$J$11:$J$12
Name Iniciativas_Objetivo7: Datos!$K$11:$K$11
Name Iniciativas_Objetivo8: Datos!$L$11:$L$13
Name Iniciativas_Objetivo9: Datos!$M$11:$M$14
Name O: #REF!
Name Objetivos_Estratégicos: Datos!$C$11:$C$37
Name q: #REF!
Name s: #REF!
Name w: #REF!
Name z: #REF!

Sheet Instrucciones
D1: FORMATO SEGUIMIENTO PLAN DE ACCIÓN INSTITUCIONAL PROCESO DIRECCIONAMIENTO ESTRATÉGICO | K1: Código: FO-DE-029 Versión No.: 05 Vigencia desde: 10-01-2025
A4: INSTRUCTIVO PLAN DE ACCIÓN INSTITUCIONAL (PAI)
A6: Pestaña "PAI"
A8: Campo | C8: Conceptualización o explicación del campo | K8: Instrucción de diligenciamiento
A9: Numerador | C9: Corresponde a la parte superior de la fracción o fórmula, y responde al estado de avance del indicador analizado. | K9: Diligencie de manera númerica y acumulada el estado de avance de la actividad de acuerdo con lo descrito en la parte superior de la fórmula (Numerador). En caso que no se haya avanzado en la actividad, escriba el número cero y no deje vacío el campo. Este campo es de obligatorio diligenciamiento.
A10: Denominador | C10: Es la parte inferior de la fracción o fórmula, y corresponde al universo o meta sobre la cual se realizará la medición del indicador o actividad. | K10: En este espacio diligencie de manera númerica y acumulada la meta anual de la actividad o el valor del universo sobre el cual se realizará la medición de la actividad de acuerdo con lo descrito en la parte inferior de la fórmula (Denominador). No deje el campo en vacío. Este campo es de obligatorio diligenciamiento.
A11: Cumplimiento del indicador en el año | C11: Es el resultado de aplicar la fórmula del indicador, el cual indica a nivel porcentual (%) el grado de avance o cumplimiento acumulado de la actividad en el año, a corte del periodo analizado y con base en la meta establecida. | K11: Este campo es automático, por lo que no debe diligenciarlo o modificarlo.
A12: % Meta TX | C12: Pertenece al porcentaje (%) asignado o programado a cada corte de seguimiento trimestral como indicativo del porcentaje esperado en el estado de avance de las actividades formuladas. Teniendo en cuenta que cada seguimiento se realiza con una frecuencia trimestral y que en cada año se realizan cuatro (4) seguimientos, se distribuye el 100% esperado para la vigencia en partes iguales del 25%. Como los seguimientos son acumulados, el porcentaje asignado a cada corte de seguimiento trimestral son los siguientes: * A corte del trimestre No. 1 (T1) comprendido entre enero y marzo la meta es del 25%. * A corte del trimestre No. 2 (T2) comprendido entre enero y junio la meta es del 50%. * A corte del trimestre No. 3 (T3) comprendido entre enero y septiembre la meta es del 75%. * A corte del trimestre No. 4 (T4) comprendido entre enero y diciembre de cada anualidad la meta es del 100%. | K12: Este campo está predefinido de acuerdo con el corte de seguimiento, es decir, si es el seguimiento a corte del primer trimestre, este valor será del 25%; si es a corte del segundo trimestre será del 50%; si es a corte del tercer trimestre será del 75% y si a corte del cuarto trimestre este valor será del 100%. Este dato será registrado por parte de la Dirección de Planeación y Prospectiva, por lo cual no debe modificar este dato.
A13: Cumplimiento del indicador a corte del trimestre evaluado | C13: Complete al cumplimiento del indicador con relación al porcentaje (%) asignado o programado a cada corte trimestral (T1, T2, T3 y T4). Este resultado indica si los resultados de avance obtenidos en cada actividad o indicador tienen un buen o mal comportamiento de rendimiento en función del tiempo, es decir, si hay un atraso con los resultados que debería llevar al corte de seguimiento analizado o si por lo contrario hay resultados oportunos y eficientes en función del tiempo. Este cumplimiento representa una alerta para saber si se tiene un buen desempeño en función del tiempo así: * Si el resultado del indicador es inferior al 70%, el rendimiento de los resultados de las actividades no es óptimo. * Si el resultado del indicador se encuentra entre un 70% y 79%, el rendimiento de la actividad es promedio. * Si el resultado del indicador es igual o superior del 80%, el rendimiento de los resultados de la actividad son óptimos. | K13: Este campo es automático, por lo que no debe diligenciarlo o modificarlo.
A14: Análisis del indicador | C14: Concierne a la explicación de los resultados obtenidos en cada indicador, en donde se expone de manera cualitativa información clave y complementaria para mayor entendimiento del avance de cada actividad, fortalezas o logros obtenidos con la actividad ejecutada, o limitantes que se han tenido para tener un buen desempeño en la ejecución de la actividad, a fin de tomar decisiones preventivas o correctivas a nivel estratégico. | K14: Explique el resultado del indicador de manera cualitativa brindado información clave y complementaria que explique dicho resultado; fortalezas o logros obtenidos con la actividad ejecutada, o limitantes que no han permitido un buen desempeño de la actividad. En caso que la actividad no haya iniciado, explique las razones por las cuales no se ha ejecutado la actividad. Este campo es de obligatorio diligenciamiento.
A15: Observaciones | C15: Es el espacio contemplado para establecer acciones de mejora en los casos que el cumplimiento del indicador a corte del trimestre evaluado sea inferior al 70%, es decir, su rendimiento de resultados en función del tiempo no es óptimo. Estos insumos son socializados al Comité Directivo a fin de que conozcan las razones de indicadores con bajo desempeño y validar y aprobar solicitudes de cambios al Plan de Acción Institucional. | K15: Si el indicador a corte del trimestre evaluado (Columna S) presenta un cumplimiento menor al 70% indique las actividades que se realizarán para cumplir la meta establecida y mejorar el desempeño del indicador. Adicionalmente y en caso de identificar necesidades de modificación o eliminación al indicador, por favor registre la solicitud en este espacio, junto con la respectiva justificación y propuesta en caso de ser necesario.

Sheet PAI
D1: FORMATO SEGUIMIENTO PLAN DE ACCIÓN INSTITUCIONAL PROCESO DIRECCIONAMIENTO ESTRATÉGICO | N1: Código: FO-DE-029 Versión No.: 05 Vigencia desde: 10 – 01 – 2025
A4: PLAN DE ACCIÓN INSTITUCIONAL (PAI) SOCIEDAD DE ACTIVOS ESPECIALES S.A.S.
A6: Alineación estratégica y táctica | E6: Alineación Operativa | I6: Clasificación de indicadores | L6: Información complementaria del indicador | O6: Seguimiento cuantitativo del indicador | R6: Alerta de desempeño al corte evaluado | T6: Análisis cualitativo del indicador
A7: ID | B7: Dimensión | C7: Objetivos estratégicos | D7: Iniciativas | E7: Acciones | F7: Proceso | G7: Área responsable de la ejecución | H7: Nombre del indicador | I7: Según su ubicación en la cadena de valor público | J7: Según su naturaleza | K7: Según su programación | L7: Fórmula para medir el indicador | M7: Descripción del indicador | N7: Meta 2025 | O7: Numerador | P7: Denominador | Q7: Cumplimiento del indicador en el año | R7: % Meta T2 | S7: Cumplimiento del indicador a corte del trimestre evaluado | T7: Análisis del indicador | U7: Observaciones
A8: T1 | B8: Productiva, social y ambiental | C8: 01. Democratizar los activos administrados por la SAE a través de mecanismos de disposición temporal y definitiva que permitan la creación de valor público, social y ambiental; aporten al desarrollo territorial y productivo y garanticen la función social y ecológica de la propiedad. | D8: Adelantar entrega de activos por mecanismos de disposición temporal y/o definitiva, priorizando los procesos productivos, sociales, ambientales, así como la atención ante emergencias y desastres producto de fenómenos de variabilidad climática | E8: Democratizar inmuebles rurales sociales para el fomento de la economía popular, la reforma agraria o el valor público, social y ambiental. | F8: Disposición o democratización final de activos | G8: Dirección de Gobierno, Control y Democratización de Sociedades | H8: Tierras sociales para la paz | I8: Producto | J8: Eficacia | K8: Programación anual | L8: (Número de hectáreas de inmuebles sociales democratizadas en el marco de la estrategia de tierras para la paz / Número de hectáreas de inmuebles sociales programadas para entrega en la vigencia) * 100% | M8: Objetivo del indicador: medir el grado de avance de entrega de tierras sociales para la paz bajo los mecanismos establecidos. Numerador: corresponde al número de hectáreas de inmuebles sociales entregadas mediante transferencias definitivas de inmuebles sociales extintos, ventas a la ANT, entrega al FRV, entrega de derechos de uso u otros esquemas de administración, que cuenten con acto administrativo o figura jurídica suscrita. Denominador: corresponde al número de hectáreas de inmuebles sociales programados para entrega en la vigencia 2025 que fomenten la economía popular, la reforma agraria y en general el programa de acceso a tierras. | N8: 5000 | O8: 0.055106 | P8: 5000 | Q8: 1.10212e-05 | R8: 0.5 | S8: 2.20424e-05 | T8: El cálculo de las hectáreas de tierra entregadas a la estrategia de tierras sociales para la paz incluye tanto las ventas gestionadas por la Gerencia de Comercialización de Activos Sociales como las entregas realizadas a la Unidad para las Víctimas, en el primer trimestre se realizaron entregas al FRV de la sociedad CIPRES ASOCIADOS S A S: FMI Medida 50C-1699374 11.05 M2 50C-1699376 11.72 M2 50C-1699377 11.72 M2 50C-1699400 11.15 M2 50C-1699401 11 M2 50C-1699402 11.2 M2 50C-1699403 11.2 M2 50C-1699406 11.25 M2 50C-1699407 11.13 M2 50C-1699408 11.15 M2 50C-1699409 11 M2 50C-1699423 12.85 M2 50C-1699424 12.85 M2 50C-1699550 401.79 M2 Total 551.06 M2 0,055106 Ha Respecto al segundo trimestre no se realizaron entregas que aporten a la estrategia. | U8: El FRV informó las fechas sobre la disponibilidad para la recepción de la sociedad FRIGORIFICO DEL CAUCA S.A.S. y TANZANIA SAS, las cuales se realizan en el tercer trimestre del año. En cuanto a las hectáreas que se entregan a la ANT, se han evidenciado procesos de saneamiento extensos, por lo que no es viable cumplir con la meta de 5,000 hectáreas. En el segundo trimestre no se realizaron entregas a ANT. Se solicita realizar el ajuste de la meta a 1,000 hectáreas, teniendo en cuenta que dependemos de terceros.
A9: T2 | B9: Productiva, social y ambiental | C9: 01. Democratizar los activos administrados por la SAE a través de mecanismos de disposición temporal y definitiva que permitan la creación de valor público, social y ambiental; aporten al desarrollo territorial y productivo y garanticen la función social y ecológica de la propiedad. | D9: Adelantar entrega de activos por mecanismos de disposición temporal y/o definitiva, priorizando los procesos productivos, sociales, ambientales, así como la atención ante emergencias y desastres producto de fenómenos de variabilidad climática | E9: Presentar casos de destinación definitiva de inmuebles rurales, priorizando aquellos que contribuyen a la reforma agraria, al fomento de la economía popular y a la generación de valor público, social o ambiental. | F9: Disposición o democratización final de activos | G9: Dirección para la Democratización de Activos Inmuebles Rurales | H9: Trámite de destinaciones definitivas de Inmuebles Rurales no Sociales | I9: Gestión | J9: Eficacia | K9: Programación anual | L9: (Número de folios de matrícula de inmuebles rurales no sociales gestionados para destinación definitiva / Número de folios de matrícula viables solicitados para destinación definitiva) * 100% | M9: Objetivo del indicador: medir la gestión de las solicitudes de folios de matrícula de inmuebles rurales no sociales para el mecanismo de destinación definitiva gratuita prevista en la ley. Numerador: total de folios de matrícula de inmuebles rurales no sociales gestionados para destinación definitiva gratuita. Denominador: corresponde a los folios de matrícula de inmuebles rurales no sociales con solicitudes de destinación definitiva que se consideran viables de acuerdo con la metodología y procedimientos. Observación: se hace necesario indicar en el análisis del indicador, las destinaciones definitivas aprobadas como insumo para la medición de la meta estratégica "Destinaciones de inmuebles al fomento de la economía popular y reforma agraria" | N9: 100 | O9: 39 | P9: 100 | Q9: =O9/P9 -> 0.39 | R9: 0.5 | S9: 1 | T9: Primer trimestre: De las 15 solicitudes que se presentaron por las diferentes entidades en el primer trimestre del año, se evidenciaron que jurídicamente 2, no eran viables para ello. De las 13 restantes, tenemos: 1. Con expedición de acto administrativo 2 FMI. 2. En proceso de alistamiento 5: Sobre los cuales nos encontramos en el proceso de realización de fichas técnicas, y a la espera del pronunciamiento de ANT (en los casos que proceda). 2. En saneamiento jurídico 2. 3. Solicitados a Jurídica para elaboración de acto administrativo 4. Segundo trimestre: Fueron recibidas 9 solicitudes, preliminarmente las 9 viables, encontrándose a la fecha en proceso de alistamiento. | U9: Se evidenció un error de digitación en la formula del indicador. Se observa que en numerador y el denominador están invertidos, por lo tanto, para el segundo trimestre de 2025 se realiza el reporte ajustado. Adicionalmente, se informa que el cambio de los indicaciones fue solicitado por la Dirección de Rurales en el primer trimestre para aplicación desde el segundo trimestre, por lo tanto deberían estará actualizados.
A10: T3 | B10: Productiva, social y ambiental | C10: 01. Democratizar los activos administrados por la SAE a través de mecanismos de disposición temporal y definitiva que permitan la creación de valor público, social y ambiental; aporten al desarrollo territorial y productivo y garanticen la función social y ecológica de la propiedad. | D10: Adelantar entrega de activos por mecanismos de disposición temporal y/o definitiva, priorizando los procesos productivos, sociales, ambientales, así como la atención ante emergencias y desastres producto de fenómenos de variabilidad climática | E10: Democratizar inmuebles urbanos para el fortalecimiento, creación de valor público, social, ambiental y leyes especiales | F10: Disposición temporal de activos no sociales | G10: Dirección para la Democratización de Activos Inmuebles Urbanos | H10: Disposición temporal de inmuebles urbanos para el fortalecimiento, creación de valor público, social, ambiental y leyes especiales | I10: Producto | J10: Eficacia | K10: Programación anual | L10: (Número de inmuebles urbanos aprobados para entrega en disposición temporal en el marco del fortalecimiento, creación de valor público, social, ambiental y leyes especiales / Número de inmuebles urbanos solicitados para entrega en disposición temporal para el fortalecimiento y creación de valor público, social, ambiental y leyes especiales) * 100% | M10: Objetivo del indicador: Medir la aprobación de inmuebles urbanos para destinación efectiva bajo el mecanismo de disposición temporal en el marco del fortalecimiento, creación de valor público, social, ambiental y leyes especiales. Numerador: corresponden a los inmuebles urbanos aprobados por comité para su asignación bajo el mecanismo de disposición temporal a Organizaciones Sociales o Entidades Públicas en el marco del fortalecimiento, creación de valor público, social, ambiental y leyes especiales. Denominador: corresponde a los inmuebles urbanos solicitados en el marco del fortalecimiento, creación de valor público, social, ambiental y leyes especiales. Estas solicitudes deben ser allegadas por los canales oficiales de comunicación de SAE y cumplir los requerimientos exigibles (Formularios, información completa, soportes). | N10: 35 | O10: 9 | P10: 35 | Q10: 0.25714286 | R10: 0.5 | S10: 0.51428571 | T10: La Dirección para la Democratización de Activos Inmuebles Urbanos en su proceso ajuste para el segundo trimestre adelanto 5 casos para presentación y aprobación ante comité Por otra parte, y con el fin de adoptar de mejor manera los lineamientos de Presidencia y la Dirección de Proyectos Especiales | U10: Se resalta que la Dirección para el presente trimestres ajusto sus procesos internos con el fin de poder generar mayores resultados en las metas propuesta y se adelantaron rutas de trabajo para la mejora de los tiempos con el fin de optimizar en proceso y contar con un avance significativo en el tercer semestre.
A11: T4 | B11: Productiva, social y ambiental | C11: 01. Democratizar los activos administrados por la SAE a través de mecanismos de disposición temporal y definitiva que permitan la creación de valor público, social y ambiental; aporten al desarrollo territorial y productivo y garanticen la función social y ecológica de la propiedad. | D11: Adelantar entrega de activos por mecanismos de disposición temporal y/o definitiva, priorizando los procesos productivos, sociales, ambientales, así como la atención ante emergencias y desastres producto de fenómenos de variabilidad climática | E11: Democratizar inmuebles urbanos para el fortalecimiento, creación de valor público, social, ambiental y leyes especiales | F11: Disposición o democratización final de activos | G11: Dirección para la Democratización de Activos Inmuebles Urbanos | H11: Gestión de viabilidades de inmuebles urbanos para la Destinación definitiva en el marco del fortalecimiento, creación de valor público, social, ambiental y leyes especiales. | I11: Producto | J11: Eficacia | K11: Programación anual | L11: (Número de inmuebles urbanos aprobados para entrega en disposición temporal en el marco del fortalecimiento, creación de valor público, social, ambiental y leyes especiales / Número de inmuebles urbanos solicitados para entrega en disposición temporal para el fortalecimiento y creación de valor público, social, ambiental y leyes especiales) * 100% | M11: Objetivo del indicador: Medir la realización de solicitudes de viabilidad, de inmuebles urbanos para destinación efectiva bajo el mecanismo de disposición definitiva en el marco del fortalecimiento, creación de valor público, social, ambiental y leyes especiales. Numerador: corresponden a las solicitudes viabilidades jurídicas, administrativas y técnicas de los inmuebles urbanos susceptibles de Destinación Definitiva en el marco del fortalecimiento, creación de valor público, social, ambiental y leyes especiales. Denominador: corresponde a los inmuebles urbanos solicitados en el marco del fortalecimiento, creación de valor público, social, ambiental y leyes especiales. Estas solicitudes deben ser allegadas por los canales oficiales de comunicación de SAE y cumplir los requerimientos exigibles (Formularios, información completa, soportes). | N11: 70 | O11: 27 | P11: 70 | Q11: 0.38571429 | R11: 0.5 | S11: 0.77142857 | T11: La Dirección para la Democratización de Activos Inmuebles Urbanos adelanto acciones para la priorización de acciones con universidades, entidades públicas y organizaciones sociales realizando el trámite para : 13 FMI con el fin de mejorar de los tiempos asignados a las solicitudes y a los requerimientos de las mismas. | U11: Se resalta que la Dirección para el presente trimestres ajusto sus procesos internos con el fin de poder generar mayores resultados en las metas propuesta
A12: T5 | B12: Productiva, social y ambiental | C12: 01. Democratizar los activos administrados por la SAE a través de mecanismos de disposición temporal y definitiva que permitan la creación de valor público, social y ambiental; aporten al desarrollo territorial y productivo y garanticen la función social y ecológica de la propiedad. | D12: Adelantar entrega de activos por mecanismos de disposición temporal y/o definitiva, priorizando los procesos productivos, sociales, ambientales, así como la atención ante emergencias y desastres producto de fenómenos de variabilidad climática | E12: Democratizar bienes muebles para el fomento de la economía popular | F12: Disposición o democratización final de activos Disposición temporal de activos no sociales | G12: Dirección para la Democratización de Activos Muebles | H12: Democratización de bienes muebles para el fomento de la economía popular | I12: Producto | J12: Eficacia | K12: Programación anual | L12: (Número de bienes muebles democratizados para el fomento de la economía popular / Número de bienes muebles programados para el fomento de la economía popular) * 100% | M12: Objetivo del indicador: medir el número de bienes entregados bajo mecanismos de disposición temporal y/o final por parte de la Dirección para la Democratización de Activos Muebles, para el fomento de la economía popular o la creación de valor público, social o ambiental. Numerador: corresponde al número de bienes muebles que se entregan bajo mecanismos de disposición temporal y/o final (Cuentas por participación, comodato, donaciones, destinaciones temporales y definitivas, entre otros esquemas) para el fomento de la economía popular o la creación de valor público, social o ambiental, a organizaciones comunitarias, organizaciones sin ánimo de lucro, entidades públicas u otro actor permitido y priorizado por la entidad. El número de bienes muebles se consideran entregados cuando estos cuentan con resolución expedida de entrega. Denominador: corresponde al número de bienes muebles que se tienen programados para entrega bajo cualquier mecanismo de disposición temporal y/o definitiva para el fomento de la economía popular o la creación de valor público, social o ambiental. Observación: un ejemplo del alcance de este indicador aplicaría para el transporte de insumos, mano de obra o herramientas en el marco de proyectos ambientales, productivos o sociales. | N12: 60 | O12: 14 | P12: 60 | Q12: 0.23333333 | R12: 0.5 | S12: 0.46666667 | T12: El incumplimiento en el indicador obedece a la demora de las mismas entidades solicitante para reunir los requisitos de ley para acceder al bien | U12: aunque se tiene una alta volumetría de solicitudes la mayoría de ESALES, no avanzan tan rápido porque su proceso de revisión es mas complejo por el riesgo lo que demora el éxito de la destinación y en muchos casos no pasa el requisito de debida diligencia.
A13: T6 | B13: Productiva, social y ambiental | C13: 01. Democratizar los activos administrados por la SAE a través de mecanismos de disposición temporal y definitiva que permitan la creación de valor público, social y ambiental; aporten al desarrollo territorial y productivo y garanticen la función social y ecológica de la propiedad. | D13: Adelantar entrega de activos por mecanismos de disposición temporal y/o definitiva, priorizando los procesos productivos, sociales, ambientales, así como la atención ante emergencias y desastres producto de fenómenos de variabilidad climática | E13: Democratizar bienes muebles para uso oficial o institucional | F13: Disposición o democratización final de activos Disposición temporal de activos no sociales | G13: Dirección para la Democratización de Activos Muebles | H13: Democratización de bienes muebles para uso institucional | I13: Producto | J13: Eficacia | K13: Programación anual | L13: (Número de bienes muebles democratizados para uso oficial o institucional / Número de bienes muebles programados para entrega y uso oficial o institucional) * 100% | M13: Objetivo del indicador: medir el número de bienes entregados bajo mecanismos de disposición temporal y/o final por parte de la Dirección para la Democratización de Activos Muebles, para el uso oficial o institucional. Numerador: corresponde al número de bienes muebles que se entregan bajo mecanismos de disposición temporal y/o final (Cuentas por participación, comodato, donaciones, destinaciones temporales o definitivas, entre otros esquemas) para el uso oficial o institucional. El número de bienes muebles se consideran entregados cuando estos cuentan con resolución expedida de entrega. Observación: un ejemplo del alcance de este indicador aplicaría para el desarrollo de actividades administrativas o de transporte institucional de uso oficial del estado. | N13: 80 | O13: 45 | P13: 80 | Q13: 0.5625 | R13: 0.5 | S13: 1 | T13: El indicador va cumpliendo la meta establecida toda vez que para las entidades de orden nacional y territorial cuentan con mas facilidad de acceso a las pólizas colectivas de seguros.
A14: T7 | B14: Productiva, social y ambiental | C14: 01. Democratizar los activos administrados por la SAE a través de mecanismos de disposición temporal y definitiva que permitan la creación de valor público, social y ambiental; aporten al desarrollo territorial y productivo y garanticen la función social y ecológica de la propiedad. | D14: Garantizar la inclusión de comunidades, organizaciones sociales y economías populares en condición de vulnerabilidad en los mecanismos de administración existentes | E14: Evaluar la gestión realizada por los depositarios provisionales que tienen a cargo la administración de inmuebles urbanos y/o rurales no sociales | F14: Disposición temporal de activos no sociales | G14: Gerencia de Depositarios, Mandatarios y Liquidadores | H14: Implementación del sistema para la evaluación de la gestión de los depositarios provisionales de inmuebles urbanos y/o rurales no sociales | I14: Gestión | J14: Eficacia | K14: Programación anual | L14: (Fases del proceso de desarrollo del sistema Scoring implementadas / Fases del procesos de desarrollo del sistema Scoring planeadas) * 100% | M14: Objetivo del indicador: Controlar el proceso de evaluación estandarizado sobre los depositarios provisionales y populares vigentes que administran inmuebles urbanos y/o rurales no sociales. Numerador: Corresponde al número de fases de desarrollo del sistema de evaluación implementadas para la evaluación realizada sobre los depositarios provisionales vigentes a cargo de la administración de inmuebles urbanos y/o rurales no sociales, con base en sus responsabilidades y la productividad de los activos asignados. Esta evaluación incluye la revisión del puntaje de calificación al depositario y la revisión de cumplimiento y obligaciones mes a mes con base a la información reportada en el scoring. Denominador: Corresponde a las fases de desarrollo necesarias para el completo funcionamiento del sistema de evaluación Scoring, tomando como 100% la total implementación y uso efectivo del sistema. | N14: 1 | O14: 2 | P14: 5 | Q14: 0.4 | R14: 0.5 | S14: 0.8 | T14: A lo largo del año 2025 se han completado 2 fases de las 5 planificadas (Análisis del requerimiento, diseño scoring, programación scoring, pruebas scoring e implementación). estacándose la reestructuración del módulo de visitas en SIGMA 2.0 con ajustes en formularios y paneles para optimizar la gestión de los Depositarios de inmuebles no sociales, alineados con las reglas de negocio. Se busca eliminar reprocesos en el cargue de información eliminando la necesidad de enviar informes de gestión en Excel vía correos electrónicos. Este avance permitirá limitar la cantidad de documentos repetidos y reprocesos innecesarios Como limitante, se identifican posibles problemas al realizar integración con sistemas financieros SIGMA 1.5, requiriendo coordinación con TI para estandarizar APIs (Q3-2025), aunque sin comprometer la meta del 100% para 2025.
A15: T8 | B15: Productiva, social y ambiental | C15: 02. Fomentar las economías populares y comunitarias a partir de proyectos estratégicos que generen valor público, social y ambiental. | D15: Implementar proyectos estratégicos con enfoque productivo, social y ambiental que permitan la creación de valor. | E15: Acompañar el desarrollo de perfiles de proyectos en o con activos de la SAE (En cualquier fase del ciclo de vida del proyecto) | F15: Direccionamiento Estratégico | G15: Dirección de Proyectos | H15: Acompañamiento para el acceso a activos del FRISCO a organizaciones sociales direccionadas por entidades y agencias de orden nacional y territorial. | I15: Gestión | J15: Eficacia | K15: Programación anual | L15: (Número de organizaciones acompañadas / Número de organizaciones programadas a acompañar) * 100% | M15: Objetivo del indicador: medir el acompañamiento realizado por la Dirección de Proyectos a las organizaciones sociales en cada una de las etapas de la ruta de acceso a los activos administrados por la SAE y que son direccionadas y priorizadas por entidades públicas, previo cumplimiento de los criterios de selección establecidos por la SAE. Numerador: corresponde al acompañamiento a las organizaciones sociales en la ruta de acceso a predios administrados por la SAE. Denominador: Corresponde al número de organizaciones programadas para el acompañamiento en la ruta de acceso a los predios administrados por la SAE. | N15: 10 | O15: 18 | P15: 10 | Q15: 1.8 | R15: 0.5 | S15: 1.8 | T15: Para el segundo trimestre de 2025, la SAE realizó el proceso de socialización de acceso a activos y la correspondiente aplicación de los criterios de validación a 18 Entidades sin Ánimo de Lucro, las cuales fueron remitidas a la Vicepresidencia de Bienes Muebles e Inmuebles para dar continuidad con los trámites correspondientes que dan lugar a la posibilidad de realizar la destinación del activo. A continuación se relacionan los nombres de las organizaciones: 1. ASOVULFU - Antioquia 2. Fundación El Repique 3. ACVC - RAN - Valle del Rio Cimitarra 4. AGROIMCA - Puerto Salgar 5. Liga Antioqueña de Fútbol 6. JAC Bello Horizonte 7. Corporación Cultural JAYEECHI 8. AFROCAQ - Caquetá 9. TURISMOARACAT 10. MAFAPO 11. MACI 12. Fundación Abriendo Caminos para Todos 13. Fundación Sergio David Urrego Reyes 14. ASOCAM - Sumapaz 15. Herederos de una pasión 16. TRIPIDO 17. Corporación Cultural y Social Currulao 18. Agroecología TIERRA LIBRE | U15: En atención a los cambios en la ruta de acceso de activos de la SAE por parte de las Entidades sin Ánimo de Lucro establecidos en la circular de Presidencia SAE con radicado No. 20251080040223 del 21 de marzo de 2025, se considera necesario realizar ajustes a la redacción del indicador y a la meta establecida, ya que el porcentaje de cumplimiento para el segundo trimestre corresponde al 180% de cumplimiento de toda la vigencia 2025. Adicionalmente, se debe tener en cuenta en la modificación de la meta del indicador el proceso de invitación pública "Bienes que transforman" que viene adelantando la Dirección de Proyectos respecto a la ruta de acceso de activos para las ESAL.
A16: T11 | B16: Productiva, social y ambiental | C16: 02. Fomentar las economías populares y comunitarias a partir de proyectos estratégicos que generen valor público, social y ambiental. | D16: Implementar proyectos estratégicos con enfoque productivo, social y ambiental que permitan la creación de valor. | E16: Implementar la política de Responsabilidad Social Empresarial de la SAE S.A.S | F16: Gestión Administrativa | G16: Vicepresidencia Corporativa | H16: Cumplimiento de la política de Responsabilidad Social Empresarial de la SAE S.A.S. | I16: Gestión | J16: Eficacia | K16: Programación anual | L16: (Número de acciones ejecutadas por la Vicepresidencia Corporativa / Número de acciones programadas por la Vicepresidencia Corporativa) * 100% | M16: Objetivo del indicador: Verificar el cumplimento del avance de las acciones a cargo de la Vicepresidencia Corporativa en la implementación de la política de Responsabilidad Social Empresarial de la SAE S.A.S. Numerador: Corresponde a las acciones ejecutadas en la implementación de la política durante la vigencia 2025 Denominador: Corresponde a las acciones planeadas (proyectadas) en la implementación de la política durante la vigencia 2025 | N16: 1 | O16: 6 | P16: 24 | Q16: 0.25 | R16: 0.5 | S16: 0.5 | T16: Durante este periodo comprendido entre el 1 de abril y el 30 de junio de 2025. Desde la Vicepresidencia Corporativa se ejecutaron (6) seis actividades concretas que evidencian la transversalidad de la responsabilidad social empresarial como principio estratégico de gestión, articulando dimensiones internas, sociales y ambientales: • Seguimiento a las pasantías ofrecidas a jóvenes y poblaciones vulnerables, fortaleciendo la inclusión laboral y aportando a la construcción de oportunidades reales, alineado con los ODS 8 (Trabajo Decente) y 10 (Reducción de Desigualdades). • Análisis del estado de la política mediante estructuración del “Documento de análisis política de responsabilidad social empresarial sociedad de activos especiales -SAE”, que garantiza la actualización y mejora continua, reflejando el compromiso institucional de transparencia y buena gobernanza. • Capacitación sobre violencias basadas en género dirigida a los trabajadores de la SAE S.A.S en donde se contó con la participación de cerca de 500 personas como medida preventiva y de sensibilización que reafirma el respeto por los derechos humanos y la promoción de un entorno laboral seguro y equitativo. • Entrega de residuos a recicladores de oficio, vinculando responsabilidad ambiental y compromiso social, al generar oportunidades económicas a grupos de la economía popular y reducir la huella ambiental. • Diagnóstico de diversidad de la planta laboral mediante el diligenciamiento de la ENCUESTA SOCIODEMOGRAFICA realizada en el mes de junio. Lo anterior, en aras de identificar brechas y diseñar acciones que garanticen igualdad de oportunidades y representatividad. • Responsabilidad con proveedores, incluyendo criterios sociales y ambientales que fomentan cadenas de valor más sostenibles y éticas. Estas acciones no solo representan el cumplimiento formal del plan establecido, sino que además materializan los principios de la PRSE (inclusión, sostenibilidad, transparencia, respeto por los derechos humanos) y contribuyen de manera tangible a crear valor social, ambiental y económico.
A17: T12 | B17: Productiva, social y ambiental | C17: 02. Fomentar las economías populares y comunitarias a partir de proyectos estratégicos que generen valor público, social y ambiental. | D17: Implementar proyectos estratégicos con enfoque productivo, social y ambiental que permitan la creación de valor. | E17: Implementar la Política Ambiental de la SAE S.A.S | F17: Gestión Administrativa | G17: Vicepresidencia Corporativa | H17: Porcentaje de avance en la implementación del Plan de Gestión Ambiental 2025 | I17: Gestión | J17: Eficacia | K17: Programación anual | L17: (Número de acciones ejecutadas del Plan de Gestión Ambiental 2025 / Número de acciones planeadas del Plan de Gestión Ambiental 2025) * 100% | M17: Objetivo del indicador: verificar el porcentaje de ejecución de las acciones definidas en el Plan de Gestión Ambiental en la vigencia 2025. Numerador: corresponde al número de acciones ejecutadas del Plan de Gestión Ambiental en la vigencia 2025 Denominador: corresponde al número de acciones planeadas del Plan de Gestión Ambiental en la vigencia 2025 | N17: 1 | O17: 81 | P17: 178 | Q17: 0.45505618 | R17: 0.5 | S17: 0.91011236 | T17: Durante el periodo evaluado, se logró la ejecución del 93% de las acciones previstas en el Plan de Gestión Ambiental 2025, lo que refleja un alto nivel de compromiso institucional con la sostenibilidad y el cumplimiento de los objetivos ambientales. Entre las acciones desarrolladas se destacan: *Actividades de seguimiento para verificar el cumplimiento de compromisos ambientales. *Inspecciones ambientales a diferentes procesos y espacios físicos, especialmente a sistemas de iluminación y zonas de almacenamiento temporal de residuos, confirmando su buen estado y conformidad con las buenas prácticas. *Actualización de documentos técnicos y procedimentales, garantizando su alineación con la normativa ambiental vigente. *Actualización de la línea base de consumo de recursos (agua, energía, entre otros), que servirá como referencia para medir avances en eficiencia y ahorro. *Actividades ambientales y jornadas de sensibilización dirigidas a fortalecer la cultura ambiental interna. *Capacitaciones al personal sobre buenas prácticas ambientales, manejo de residuos y uso eficiente de recursos. Las tres acciones no ejecutadas fueron reprogramadas por razones operativas, sin que ello implique su cancelación definitiva, manteniéndose como compromisos vigentes a desarrollar en el corto plazo.
A18: T13 | B18: Financiera | C18: 03. Garantizar la efectiva transferencia de recursos a la Nación, en concordancia con lo establecido en la ley y contribuyendo a los propósitos del Plan Nacional de Desarrollo. | D18: Cumplimiento de transferencias de recursos a la Nación establecidas en la ley . | E18: Realizar las transferencias a la Nación y destinaciones específicas en recursos | F18: Gestión Financiera | G18: Dirección Financiera | H18: Transferencias a la Nación y destinaciones específicas en recursos | I18: Producto | J18: Economía | K18: Programación anual | L18: (Sumatoria de los valores de las transferencias a favor de la nación y destinaciones específicas en recursos / Meta de transferencias a favor de la Nación y destinaciones específicas en recursos) * 100% | M18: Objetivo del indicador: medir las transferencias realizadas a la nación y destinaciones específicas en recursos. Este indicador se encuentra globalizado centralizado por la Dirección Financiera con base en los ingresos producidos al interior de la entidad. Numerador: corresponde a la sumatoria de valores transferidos y destinados oficialmente a las entidades beneficiarias establecidas en la Ley. Denominador: corresponde a la meta establecida en el presupuesto aprobado por el Consejo Nacional de Estupefacientes. Para el 2025 la meta establecida es de $444,416,491,400 | N18: 444416491400 | O18: 337337151440 | P18: 444416491400 | Q18: 0.75905633 | R18: 0.5 | S18: 1 | T18: Corresponde a los recursos líquidos transferidos a la destinación especifica para el Fondo para la Reparación de Víctimas, Política Antidrogas y FOMMUR
A19: T14A | B19: Financiera | C19: 04. Generar rentabilidad económica a partir de la diversificación de ingresos, para la inversión social y la lucha contra el crimen organizado. | D19: Generar ingresos producto de la administración o disposición temporal de activos | E19: Recaudar ingresos producto de contratos suscritos bajo el esquema de administración temporal | F19: Disposición temporal de activos no sociales | G19: Dirección Territorial Caribe | H19: Valor recaudado por contratos | I19: Gestión | J19: Economía | K19: Programación anual | L19: (Valor recaudado / Meta de recaudo esperado producto de contratos bajo esquemas de administración temporal) * 100% | M19: Objetivo del indicador: medir el recaudo realizado producto de contratos bajo esquemas de administración temporal. Numerador: corresponde al valor recaudado producto de contratos de arrendamiento, de transacción, de legalización, saneamiento (reconocimiento de contratos de arrendamiento de bienes inmuebles) y recuperación de cartera. Denominador: corresponde al valor económico de recaudo establecido como meta para la anualidad. | N19: 19750000000 | O19: 5370246174 | P19: 19750000000 | Q19: 0.2719112 | R19: 0.5 | S19: 0.5438224 | T19: En este indicador se han tenido limitantes para tener un buen desempeño en la ejecución de la actividad, como la errónea facturación que generó atrasos e inconvenientes en los pagos durante el último mes de facturación, las dificultades para la aprobación de los contratos en el sistema TESEO, las demoras en el pago de pasivos , vencimientos de preaprobados de pólizas que implica su renovación, errores en las minutas. | U19: Como acción de mejora se propone disminuir los tiempos en cada uno de los subprocesos que se llevan para realizar un arriendo, realizar campañas de cobro de cartera que impulsen el recaudo, impulsar jornadas de legalizaciones de ocupaciones para aumentar recaudo, realizar transacciones de ocupaciones irregulares para recuperar lo dejado de percibir por una ocupación irregular.
A20: T14B | B20: Financiera | C20: 04. Generar rentabilidad económica a partir de la diversificación de ingresos, para la inversión social y la lucha contra el crimen organizado. | D20: Generar ingresos producto de la administración o disposición temporal de activos | E20: Recaudar ingresos producto de contratos suscritos bajo el esquema de administración temporal | F20: Disposición temporal de activos no sociales | G20: Dirección Territorial Centro Oriente | H20: Valor recaudado por contratos | I20: Gestión | J20: Economía | K20: Programación anual | L20: (Valor recaudado / Meta de recaudo esperado producto de contratos bajo esquemas de administración temporal) * 100% | M20: Objetivo del indicador: medir el recaudo realizado producto de contratos bajo esquemas de administración temporal. Numerador: corresponde al valor recaudado producto de contratos de arrendamiento, de transacción, de legalización, saneamiento (reconocimiento de contratos de arrendamiento de bienes inmuebles) y recuperación de cartera. Denominador: corresponde al valor económico de recaudo establecido como meta para la anualidad. | N20: 65000000000 | O20: 23626812883 | P20: 65000000000 | Q20: 0.36348943 | R20: 0.5 | S20: 0.72697886
A21: T14C | B21: Financiera | C21: 04. Generar rentabilidad económica a partir de la diversificación de ingresos, para la inversión social y la lucha contra el crimen organizado. | D21: Generar ingresos producto de la administración o disposición temporal de activos | E21: Recaudar ingresos producto de contratos suscritos bajo el esquema de administración temporal | F21: Disposición temporal de activos no sociales | G21: Dirección Territorial Occidente | H21: Valor recaudado por contratos | I21: Gestión | J21: Economía | K21: Programación anual | L21: (Valor recaudado / Meta de recaudo esperado producto de contratos bajo esquemas de administración temporal) * 100% | M21: Objetivo del indicador: medir el recaudo realizado producto de contratos bajo esquemas de administración temporal. Numerador: corresponde al valor recaudado producto de contratos de arrendamiento, de transacción, de legalización, saneamiento (reconocimiento de contratos de arrendamiento de bienes inmuebles) y recuperación de cartera. Denominador: corresponde al valor económico de recaudo establecido como meta para la anualidad. | N21: 45000000000 | O21: 15186703662 | P21: 45000000000 | Q21: 0.3374823 | R21: 0.5 | S21: 0.67496461 | T21: La Territorial presenta un avance en el indicador del 34% de la meta anual, al corte del mes de junio | U21: El avance en el indicador se presenta teniendo en cuenta que la territorial ha presentado cambios en la dirección, y en la asignación de funciones por los traslados presentados en el trimestre en mención. También se explica porque el poder del director tardó en llegar. Sin esta atribución no se cuenta con la firma en las minutas de arrendamiento y sin esto no se podía cargar los contratos. Esta situación se esta atendiendo y priorizando el cargue de estas para lograr aumentar el cumplimiento
A22: T14D | B22: Financiera | C22: 04. Generar rentabilidad económica a partir de la diversificación de ingresos, para la inversión social y la lucha contra el crimen organizado. | D22: Generar ingresos producto de la administración o disposición temporal de activos | E22: Recaudar ingresos producto de contratos suscritos bajo el esquema de administración temporal | F22: Disposición temporal de activos no sociales | G22: Dirección Territorial Sur | H22: Valor recaudado por contratos | I22: Gestión | J22: Economía | K22: Programación anual | L22: (Valor recaudado / Meta de recaudo esperado producto de contratos bajo esquemas de administración temporal) * 100% | M22: Objetivo del indicador: medir el recaudo realizado producto de contratos bajo esquemas de administración temporal. Numerador: corresponde al valor recaudado producto de contratos de arrendamiento, de transacción, de legalización, saneamiento (reconocimiento de contratos de arrendamiento de bienes inmuebles) y recuperación de cartera. Denominador: corresponde al valor económico de recaudo establecido como meta para la anualidad. | N22: 50250000000 | O22: 21407329077 | P22: 50250000000 | Q22: 0.4260165 | R22: 0.5 | S22: 0.852033 | T22: El recaudo mensual hasta el 31 de diciembre de 2024 por parte de la Dirección territorial Sur por concepto de cánones de arrendamiento ha sido de $ 21,407,239,077.00, distribuido así mensualmente así: ENERO: $3,457,061,251.07, FEBRERO: $3,591,013,408.89 , MARZO: $2,751,202,761.49, ABRIL: $3,340,796,352.00, MAYO: $3,679,447,292.17, JUNIO: $4,587,808,011.00,
A23: T15 | B23: Financiera | C23: 04. Generar rentabilidad económica a partir de la diversificación de ingresos, para la inversión social y la lucha contra el crimen organizado. | D23: Adelantar procesos de comercialización y venta de activos | E23: Gestionar los ingresos de ventas de inmuebles sociales y no sociales comercializados a través de la Dirección Comercial | F23: Disposición o democratización final de activos | G23: Dirección Comercial | H23: Ingresos por venta de inmuebles | I23: Producto | J23: Economía | K23: Programación anual | L23: (Valor de ingresos por ventas de inmuebles / Valor de ingresos de ventas de inmuebles proyectado para la vigencia) * 100% | M23: Objetivo del indicador: medir los ingresos por la venta de inmuebles no sociales comercializados a través de la Dirección Comercial Numerador: es el valor de ingresos por ventas de inmuebles no sociales comercializados a través de la Dirección Comercial. Este ingreso es producto de ventas directas, cuotas partes, ventas masivas y ventas a través del operador comercial. Denominador: corresponde a los ingresos por venta programados para la vigencia. | N23: 473822000000 | O23: 271860000000 | P23: 473822000000 | Q23: 0.57375977 | R23: 0.5 | S23: 1 | T23: El indicador mide el avance en los ingresos generados por la venta de inmuebles a través de la Dirección Comercial. A la fecha del corte evaluado, se ha alcanzado un cumplimiento del 57%, lo que representa un ingreso de $271.860 millones frente a una meta anual de $473.822 millones. Este resultado refleja un desempeño superior a la meta proyectada para el segundo trimestre (50%), lo cual indica un comportamiento positivo en la ejecución de las actividades comerciales. Entre las fortalezas que han contribuido a este avance se destacan: La diversificación de los canales de venta (ventas directas y operadores comerciales). El buen desempeño de ANT, que representa la mayor parte del recaudo. Sin embargo, persisten limitantes que podrían afectar el cumplimiento total de la meta anual, como: Retrasos en los procesos de escrituración, que imposibilitan el recaudo sujeto al registro de los inmuebles. | U23: Aunque el cumplimiento del indicador al corte del trimestre evaluado es del 57%, lo cual supera la meta trimestral del 50%, aún se encuentra por debajo del 70%, umbral mínimo para un rendimiento óptimo. Para mejorar el desempeño del indicador y asegurar el cumplimiento de la meta anual, se proponen las siguientes acciones: -Fortalecer las estrategias de comercialización, especialmente en canales con menor desempeño como venta directa. -Agilizar los procesos administrativos y jurídicos relacionados con la formalización de ventas. -Implementar campañas de promoción dirigidas a públicos objetivos con capacidad de inversión. -Monitorear semanalmente el avance del recaudo para detectar desviaciones a tiempo y aplicar correctivos. -Suscribir contrato con un nuevo operador comercial.
A24: T16 | B24: Financiera | C24: 04. Generar rentabilidad económica a partir de la diversificación de ingresos, para la inversión social y la lucha contra el crimen organizado. | D24: Adelantar procesos de comercialización y venta de activos | E24: Gestionar los ingresos de ventas de inmuebles sociales y no sociales comercializados a través de la Dirección Comercial | F24: Disposición o democratización final de activos | G24: Dirección Comercial | H24: Ejecución de Plan de Mercadeo y Relacionamiento | I24: Gestión | J24: Eficacia | K24: Programación anual | L24: (Número de actividades ejecutadas durante el periodo de ejecución / Actividades programadas para la ejecución durante la vigencia) * 100% | M24: Objetivo del indicador: medir el cumplimiento del Plan de Mercadeo y Relacionamiento para la venta de inmuebles Numerador: Corresponde a las actividades ejecutadas al 100% durante el periodo evaluado. Denominador: Corresponde a las actividades programadas por la Dirección Comercial en el Plan de Mercadeo y Relacionamiento 2025. | N24: 1 | O24: 6 | P24: 10 | Q24: =O24/P24 -> 0.6 | R24: 0.5 | S24: 3 | T24: A la fecha, se han realizado cuatro ruedas de negocios en las ciudades de Bogotá, Neiva, Caquetá y Bucaramanga, así como un evento corporativo en alianza con el Fondo Nacional del Ahorro (FNA) en Medellín y una feria de vivienda en Soacha. | U24: Aunque el indicador ya registra un cumplimiento del 100%, la Dirección Comercial resalta la importancia estratégica de estos espacios, ya que permiten establecer vínculos con actores clave del sector, impulsar oportunidades de negocio y fortalecer la visibilidad institucional. Estas actividades no solo cumplen con lo planeado, sino que también generan un alto impacto en la promoción de los inmuebles no sociales. En ese sentido, se estima que antes de finalizar el año se realicen al menos dos eventos adicionales, como parte del compromiso con la dinamización comercial y la continuidad de la estrategia institucional
A25: T17 | B25: Financiera | C25: 04. Generar rentabilidad económica a partir de la diversificación de ingresos, para la inversión social y la lucha contra el crimen organizado. | D25: Generar ingresos producto de la administración o disposición temporal de activos | E25: Distribuir las utilidades generadas por sociedades activas al FRISCO | F25: Gestión del portafolio de sociedades | G25: Dirección de Gobierno, Control y Democratización de Sociedades | H25: Cumplimiento del ingreso por utilidades de Sociedades Activas | I25: Producto | J25: Economía | K25: Programación anual | L25: (Utilidades generadas por sociedades y establecimientos de comercio / Ingresos económicos estimados a distribuir al FRISCO) * 100% | M25: Objetivo del indicador: medir la generación de ingresos a partir de la productividad de sociedades activas y establecimientos de comercio. Numerador: corresponde al valor de utilidades producto de alguna gestión realizada por la Dirección de Gobierno, Control y Democratización de Sociedades. Denominador: corresponde al presupuesto de ingreso estimado para la Dirección de Gobierno, Control y Democratización de Sociedades, que incluye todos los recursos por utilidades que ingresen al FRISCO producto de alguna gestión realizada por la Dirección de Gobierno, Control y Democratización de sociedades. | N25: 50000000000 | O25: 2680643168 | P25: 50000000000 | Q25: 0.053612863 | R25: 0.5 | S25: 0.10722573 | T25: Valor de utilidades efectivamente consignadas al FRISCO: RAZON SOCIAL - PAGO RECIBIDO - FECHA DEL PAGO ESTACION DE SERVICIO TERPEL CORABASTOS $ 457,640,937 20/01/2025 INVERSIONES BGH S.A.S $ 359,305,956 18/03/2025 INVERAUTOS S.A.S. $ 620,357,155 22/04/2025 CREDIREBAJA S.A. $ 15,000,000 22/05/2025 PSTC SA $ 1,192,912,032 30/06/2025 y 27/07/2025 ALMACEN Y COMPRAVENTA EL DIAMANTE OCHO S A S $ 35,427,088 18/06/2025 | U25: La Dirección de Gobierno Control y Democratización de sociedades se encuentra realizando las asambleas de la vigencia 2024, con la finalidad de obtener las utilidades estimadas. El valor decretado para el segundo trimestre del 2025 es $ 10,760,394,407.00.
A26: T18 | B26: Financiera | C26: 04. Generar rentabilidad económica a partir de la diversificación de ingresos, para la inversión social y la lucha contra el crimen organizado. | D26: Generar ingresos producto de la administración o disposición temporal de activos | E26: Recaudar ingresos producto de las gestiones realizadas por sociedades activas al FRISCO | F26: Disposición o democratización final de activos | G26: Dirección de Gobierno, Control y Democratización de Sociedades | H26: Cumplimiento del presupuesto de ingreso de comercialización de Sociedades Activas y sus bienes | I26: Producto | J26: Economía | K26: Programación anual | L26: (Ingresos generados por sociedades y establecimientos de comercio / Ingresos económicos estimados para el FRISCO) * 100% | M26: Objetivo del indicador: medir la generación de ingresos a partir de la comercialización o cualquier tipo de destinación final de sociedades activas y establecimientos de comercio y de sus bienes. Numerador: corresponde al valor producto de alguna gestión de comercialización realizada por la Dirección de Gobierno, Control y Democratización de Sociedades. Denominador: corresponde al presupuesto de ingreso estimado para la Dirección de Gobierno, Control y Democratización de Sociedades, que incluye todos los recursos por comercialización que ingresen al FRISCO producto de alguna gestión realizada por la Dirección de Gobierno, Control y Democratización de sociedades. | N26: 318382000000 | O26: 12679018868 | P26: 318382000000 | Q26: 0.03982329 | R26: 0.5 | S26: 0.079646581 | T26: De acuerdo con las gestiones realizadas por la Dirección se encuentra lo siguiente: 1. La Gerencia de Comercialización de Activos Sociales informa que se recaudó el valor por la venta a ANT de los FMI 234-5776 y 234-14432, propiedad de la sociedad IMPORTADORA HEES SA y CREACIONES YOGUI LIMITADA por valor de $11,843,484,825. 2. Mediante subasta adelantada por el Martillo del Banco Popular S.A., el día 28 de marzo de 2025, fue adjudicado un (1) vehículo, el cual constituye un activo social de la sociedad TINANITA INVERSIONES S.A.S., identificada con NIT 901.119.438, por un valor de OCHOCIENTOS TREINTA Y CINCO MILLONES QUINIENTOS TREINTA Y CUATRO MIL CUARENTA Y TRES PESOS MONEDA CORRIENTE ($835.534.043). | U26: Para alcanzar la meta establecida, se realizan las siguientes actividades por parte de la Dirección: * Realizar y documentar las visitas técnicas y de verificación de los activos, incluyendo la elaboración de informes sobre ocupación, estado físico y condiciones de uso. * Adelantar la verificación de la viabilidad administrativa de los activos como parte de la fase de alistamiento, en coordinación con la Gerencia de Comercialización. * Efectuar los requerimientos a los administradores de las sociedades (representantes legales o depositarios provisionales), con el fin de obtener la información necesaria y garantizar la adecuada preparación del proceso de comercialización.
A27: T19 | B27: Financiera | C27: 04. Generar rentabilidad económica a partir de la diversificación de ingresos, para la inversión social y la lucha contra el crimen organizado. | D27: Diseñar y/o implementar estrategias de ahorro en la administración de activos. | E27: Establecer una estrategia para la disposición definitiva de los activos entregados por las extintas FARC que no cuenten con potencial de comercialización | F27: Comercialización de Activos Otras Modalidades de Disposición Final | G27: Dirección de Proyectos | H27: Gestión para la disposición final de los activos entregados por las extintas FARC-EP | I27: Gestión | J27: Eficacia | K27: Programación anual | L27: Sumatoria de la ponderación de las actividades requeridas para la disposición final (chatarrización, donación o destrucción) de los activos entregados por las ex FARC-EP | M27: Objetivo del indicador: medir el impacto de la gestión de las actividades realizadas por la Dirección de Proyectos para la disposición final de los activos entregados por las ex FARC-EP relacionados en el inventario del que trata el Decreto Ley 903 de 2017. La ponderación de cada una de las actividades está construida a partir de la asignación del mayor peso porcentual a la primera actividad y un menor peso porcentual a las actividades subsiguientes que dependen de la actividad previa. Los porcentajes asignados a cada actividad corresponden a la totalidad (100%) de unidades de los bienes muebles a disponer de manera definitiva (chatarrización, donación o destrucción). La ponderación de las actividades realizadas por la Dirección de Proyectos se relaciona a continuación: 1. Valoración comercial de los activos (20%) 2. Solicitud de viabilidades jurídica, técnica y administrativa (16%) 3. Solicitud de conceptos técnicos según disposición final (13%) 4. Elaboración presentación del caso (10%) 5. Solicitud inclusión del caso en el Comité Técnico (9%) 6. Presentación del caso a Comité técnico SAE (7%) 7. Solicitud a DAPRE de sesión del Consejo Fiduciario (6%) 8. Presentación caso ante el Consejo Fiduciario (5%) 9. Solicitud activación de la Subcomisión financiera y presupuestal al Consejo Fiduciario (4%) 10. Solicitud recomendación a las 9 entidades que conforman el Subcomité Financiero y Presupuestal (3%) 11. Solicitud a DAPRE de sesión del Consejo Fiduciario, solicitud de aprobación disposición final ( 2%) 12. Proyección resolución de disposición final según el caso (1%) 13. Remisión acto administrativo a la Dirección de Asuntos Legales Misionales de la SAE ( 1%) 14. Expedición acto administrativo (1%) 15. Alistamiento de los activos a disponer de manera definitiva (1%) 16. Disposición final de los activos (1%) TOTAL (100%) | N27: 1 | O27: 51.6 | P27: 100 | Q27: 0.516 | R27: 0.5 | S27: 1 | T27: La Dirección de Proyectos en el segundo trimestre de 2025 realizó las actividades correspondientes a la contratación del servicio de avalúo comercial para la tipología de bienes muebles y enseres, adicionalmente se dio continuidad a las actividades relacionadas con la presentación ante el Consejo Fiduciario para validar la aprobación para la disposición final (donación) de 732 activos, correspondientes a 248 elementos de equipo de comunicación y 484 elementos de intendencia (uniformes militares, cantimploras, equipos de campaña). Esto en atención a que el total de activos en administración corresponde a 1.839 unidades. Así las cosas, se tiene un avance porcentual como se indica a continuación: ACTIVIDAD 1. Valoración comercial de los activos (20%) - 60% 2. Solicitud de viabilidades jurídica, técnica y administrativa (16%) - 45% 3. Solicitud de conceptos técnicos según disposición final (13%) - 45% 4. Elaboración presentación del caso (10%) - 30% 5. Solicitud inclusión del caso en el Comité Técnico (9%) - 14% 6. Presentación del caso a Comité técnico SAE (7%) - 14% 7. Solicitud a DAPRE de sesión del Consejo Fiduciario (6%) - 50% TOTAL (100%) - 51,6%
